Workbook

Sheet premios
A1: 406050015 | B1: 875.965
A2: 406050023 | B2: 1474.5375
A3: 406050031 | B3: 1492.3125
A4: 406050040 | B4: 1466.5225
A5: 406050058 | B5: 1486.97
A6: 406050066 | B6: 1445.78
A7: 406050074 | B7: 2059.2325
A8: 406050082 | B8: 2142.0225
A9: 406050090 | B9: 2297.74
A10: 406050104 | B10: 1618.9675
A11: 406050112 | B11: 1886.14
A12: 406050120 | B12: 1560.4825
... A100: 407040226 | B100: 764.38

Sheet 202511
A1: Habilitação Estadual - verificar se AIH já foi paga em meses anteriores
A2: CNES | B2: AIH
A3: 2302500 | B3: Não tem
A4: 2379333 | B4: 4225104540558 | C4: 46420.03 | D4: Eletivo | E4: 406010587
A5: 2411393 | B5: 4225100527285 | C5: 23758.93 | D5: Eletivo | E5: 406010633 | F5: =SUM(C5:C11) -> 277798.32
B6: 4225100536790 | C6: 23758.93 | D6: Eletivo | E6: 406010633
B7: 4225100548450 | C7: 23758.93 | D7: Eletivo | E7: 406010633
B8: 4225100555665 | C8: 59208.1 | D8: urg
B9: 4225100561517 | C9: 46428.03 | D9: urg
B10: 4225100570955 | C10: 47298.73 | D10: urg
B11: 4225106558112 | C11: 53586.67 | D11: Eletivo | E11: 406010595
A12: 2420015 | B12: Não tem
A13: 2436450 | B13: Não tem
A14: 2537192 | B14: Não tem
A15: 2537788 | B15: 4225100522775 | C15: 5868.21 | D15: urg | F15: =SUM(C15:C46) -> 472428.91
B16: 4225100527538 | C16: 11314.73 | D16: urg
B17: 4225103499640 | C17: Já foi pago em mês anterior
B18: 4225103537567 | C18: 39863.25 | D18: urg
B19: 4225103614611 | C19: 22593.63 | D19: urg
B20: 4225103620386 | C20: 10533.05 | D20: urg
B21: 4225103620485 | C21: 8813.14 | D21: urg
B22: 4225103620573 | C22: 12164.51 | D22: urg
B23: 4225103623961 | C23: 21380.49 | D23: urg
B24: 4225103634092 | C24: 21908.06 | D24: urg
B25: 4225103634455 | C25: 3381.83 | D25: urg
B26: 4225103641627 | C26: 58228.48 | D26: urg
B27: 4225103639988 | C27: 4412.29 | D27: Eletivo | E27: 406030049
B28: 4225103642518 | C28: 2761.24 | D28: urg
B29: 4225103642530 | C29: 6186.38 | D29: urg
B30: 4225103643244 | C30: 6575.71 | D30: urg
B31: 4225103644510 | C31: 8652.07 | D31: Eletivo | E31: 406010650
B32: 4225103651505 | C32: 22322.6 | D32: urg
B33: 4225103653320 | C33: 2709.99 | D33: urg
B34: 4225103656598 | C34: 2301.57 | D34: urg
B35: 4225103659040 | C35: 19194.73 | D35: urg
B36: 4225103659194 | C36: 4041.21 | D36: urg
B37: 4225103659337 | C37: 47238.89 | D37: Eletivo | E37: 406010587
B38: 4225105875420 | C38: 6994.18 | D38: urg
B39: 4225106531965 | C39: 36867.02 | D39: urg
B40: 4225106538048 | C40: 3493.22 | D40: urg
...

Sheet 202512
A1: CNES / AIH | B1: PROCED | C1: VALOR AIH | D1: Busca mês anterior | G1: Carater atend | H1: Prêmio Tabela Catarinense
A2: 2411393 | B2: Xanxere HRSPA
A3: 4225100593384 | B3: 406010609 | C3: 58076.27 | D3: =VLOOKUP(A3,'202511'!$B$3:$B$175,1,0) -> #N/A | G3: =VLOOKUP(A3,'BD-202512'!$A$2:$E$156,5,0) -> Eletivo
A5: 2537788 | B5: HRO | C5: =SUM(C6:C41) -> 548532.16
A6: 4225100523567 | B6: 406010820 | C6: 25250.24 | D6: =VLOOKUP(A6,'202511'!$B$3:$B$175,1,0) -> #N/A | G6: =VLOOKUP(A6,'BD-202512'!$A$2:$E$156,5,0) -> Urgência
A7: 4225100524359 | B7: 406010650 | C7: 8688.77 | D7: =VLOOKUP(A7,'202511'!$B$3:$B$175,1,0) -> #N/A | G7: =VLOOKUP(A7,'BD-202512'!$A$2:$E$156,5,0) -> Urgência
A8: 4225100525877 | B8: 406010935 | C8: 20786.66 | D8: =VLOOKUP(A8,'202511'!$B$3:$B$175,1,0) -> #N/A | G8: =VLOOKUP(A8,'BD-202512'!$A$2:$E$156,5,0) -> Urgência
A9: 4225100527791 | B9: 406040052 | C9: 2080.71 | D9: =VLOOKUP(A9,'202511'!$B$3:$B$175,1,0) -> #N/A | G9: =VLOOKUP(A9,'BD-202512'!$A$2:$E$156,5,0) -> Urgência
A10: 4225100530717 | B10: 406030049 | C10: 9197.55 | D10: =VLOOKUP(A10,'202511'!$B$3:$B$175,1,0) -> #N/A | G10: =VLOOKUP(A10,'BD-202512'!$A$2:$E$156,5,0) -> Urgência
A11: 4225100542366 | B11: 406020302 | C11: 5166.45 | D11: =VLOOKUP(A11,'202511'!$B$3:$B$175,1,0) -> #N/A | G11: =VLOOKUP(A11,'BD-202512'!$A$2:$E$156,5,0) -> Urgência
A12: 4225100548185 | B12: 406010935 | C12: 22695.84 | D12: =VLOOKUP(A12,'202511'!$B$3:$B$175,1,0) -> #N/A | G12: =VLOOKUP(A12,'BD-202512'!$A$2:$E$156,5,0) -> Urgência
A13: 4225100571252 | B13: 406040052 | C13: 2307.77 | D13: =VLOOKUP(A13,'202511'!$B$3:$B$175,1,0) -> #N/A | G13: =VLOOKUP(A13,'BD-202512'!$A$2:$E$156,5,0) -> Urgência
A14: 4225100572682 | B14: 406040052 | C14: 2260.17 | D14: =VLOOKUP(A14,'202511'!$B$3:$B$175,1,0) -> #N/A | G14: =VLOOKUP(A14,'BD-202512'!$A$2:$E$156,5,0) -> Urgência
A15: 4225100573760 | B15: 415020034 | C15: 4343.9 | D15: =VLOOKUP(A15,'202511'!$B$3:$B$175,1,0) -> #N/A | G15: =VLOOKUP(A15,'BD-202512'!$A$2:$E$156,5,0) -> Urgência
A16: 4225100580899 | B16: 415020034 | C16: 7789.79 | D16: =VLOOKUP(A16,'202511'!$B$3:$B$175,1,0) -> #N/A | G16: =VLOOKUP(A16,'BD-202512'!$A$2:$E$156,5,0) -> Eletivo
A17: 4225103613852 | B17: 406030049 | C17: 4779.77 | D17: =VLOOKUP(A17,'202511'!$B$3:$B$175,1,0) -> #N/A | G17: =VLOOKUP(A17,'BD-202512'!$A$2:$E$156,5,0) -> Urgência
... A41: 4225106565372 | B41: 415020034 | C41: 11068.32 | D41: =VLOOKUP(A41,'202511'!$B$3:$B$175,1,0) -> #N/A | G41: =VLOOKUP(A41,'BD-202512'!$A$2:$E$156,5,0) -> Urgência
A43: 2543044 | B43: Porto Uniao | C43: =SUM(C44:C47) -> 3230.99
A44: 4225104467310 | B44: 408040254 | D44: =VLOOKUP(A44,'202511'!$B$3:$B$175,1,0) -> 4225104467310 | F44: duplicada | G44: =VLOOKUP(A44,'BD-202512'!$A$2:$E$156,5,0) -> Urgência
A45: 4225104483468 | B45: 415030013 | D45: =VLOOKUP(A45,'202511'!$B$3:$B$175,1,0) -> 4225104483468 | E45: 408040076 | F45: duplicada | G45: =VLOOKUP(A45,'BD-202512'!$A$2:$E$156,5,0) -> Urgência
A46: 4225104484073 | B46: 408040254 | D46: =VLOOKUP(A46,'202511'!$B$3:$B$175,1,0) -> 4225104484073 | F46: duplicada | G46: =VLOOKUP(A46,'BD-202512'!$A$2:$E$156,5,0) -> Urgência
A47: 4225501391474 | B47: 415010012 | C47: 3230.99 | D47: =VLOOKUP(A47,'202511'!$B$3:$B$175,1,0) -> #N/A | E47: 408040327 | F47: duplicada | G47: =VLOOKUP(A47,'BD-202512'!$A$2:$E$156,5,0) -> Eletivo
A49: 2560771 | B49: HUST | C49: =SUM(C50:C52) -> 32543.94
A50: 4225104024757 | B50: 408050063 | C50: 10938.39 | D50: =VLOOKUP(A50,'202511'!$B$3:$B$175,1,0) -> #N/A | G50: =VLOOKUP(A50,'BD-202512'!$A$2:$E$156,5,0) -> Eletivo | H50: =VLOOKUP(B50,premios!$A$1:$B$100,2,0) -> #N/A
A51: 4225104024768 | B51: 408050063 | C51: 10911.17 | D51: =VLOOKUP(A51,'202511'!$B$3:$B$175,1,0) -> #N/A | G51: =VLOOKUP(A51,'BD-202512'!$A$2:$E$156,5,0) -> Eletivo | H51: =VLOOKUP(B51,premios!$A$1:$B$100,2,0) -> #N/A
A52: 4225104054017 | B52: 408040076 | C52: 10694.38 | D52: =VLOOKUP(A52,'202511'!$B$3:$B$175,1,0) -> #N/A | G52: =VLOOKUP(A52,'BD-202512'!$A$2:$E$156,5,0) -> Urgência
A54: 2672839 | B54: Sombrio | C54: =SUM(C55:C100) -> 400871.86 | H54: =SUM(H55:H96) -> 5474.225 | I54: =SUM(C54,H54) -> 406346.09
A55: 4225106041420 | B55: 406030049 | C55: 8339.41 | D55: =VLOOKUP(A55,'202511'!$B$3:$B$175,1,0) -> #N/A | G55: =VLOOKUP(A55,'BD-202512'!$A$2:$E$156,5,0) -> Urgência
A56: 4225106078743 | B56: 406030049 | C56: 8285.3 | D56: =VLOOKUP(A56,'202511'!$B$3:$B$175,1,0) -> #N/A | G56: =VLOOKUP(A56,'BD-202512'!$A$2:$E$156,5,0) -> Urgência
A57: 4225106081647 | B57: 406030049 | C57: 11069.16 | D57: =VLOOKUP(A57,'202511'!$B$3:$B$175,1,0) -> #N/A | G57: =VLOOKUP(A57,'BD-202512'!$A$2:$E$156,5,0) -> Urgência
A58: 4225106086685 | B58: 406030049 | C58: 7733.06 | D58: =VLOOKUP(A58,'202511'!$B$3:$B$175,1,0) -> #N/A | G58: =VLOOKUP(A58,'BD-202512'!$A$2:$E$156,5,0) -> Urgência
A59: 4225106086938 | B59: 406010676 | C59: 8582.13 | D59: =VLOOKUP(A59,'202511'!$B$3:$B$175,1,0) -> #N/A | G59: =VLOOKUP(A59,'BD-202512'!$A$2:$E$156,5,0) -> Urgência
A60: 4225106087994 | B60: 406030030 | C60: 9728.02 | D60: =VLOOKUP(A60,'202511'!$B$3:$B$175,1,0) -> #N/A | G60: =VLOOKUP(A60,'BD-202512'!$A$2:$E$156,5,0) -> Urgência
A61: 4225106088412 | B61: 406030022 | C61: 9256.09 | D61: =VLOOKUP(A61,'202511'!$B$3:$B$175,1,0) -> #N/A | G61: =VLOOKUP(A61,'BD-202512'!$A$2:$E$156,5,0) -> Urgência
A62: 4225106091646 | B62: 406010650 | C62: 10382.33 | D62: =VLOOKUP(A62,'202511'!$B$3:$B$175,1,0) -> #N/A | G62: =VLOOKUP(A62,'BD-202512'!$A$2:$E$156,5,0) -> Urgência
A63: 4225106093440 | B63: 406030049 | C63: 6547.2 | D63: =VLOOKUP(A63,'202511'!$B$3:$B$175,1,0) -> #N/A | G63: =VLOOKUP(A63,'BD-202512'!$A$2:$E$156,5,0) -> Urgência
A64: 4225106097806 | B64: 406030049 | C64: 7677.9 | D64: =VLOOKUP(A64,'202511'!$B$3:$B$175,1,0) -> #N/A | G64: =VLOOKUP(A64,'BD-202512'!$A$2:$E$156,5,0) -> Urgência
A65: 4225106097840 | B65: 406030049 | C65: 8266.25 | D65: =VLOOKUP(A65,'202511'!$B$3:$B$175,1,0) -> #N/A | G65: =VLOOKUP(A65,'BD-202512'!$A$2:$E$156,5,0) -> Urgência
A66: 4225106097861 | B66: 406030049 | C66: 8266.25 | D66: =VLOOKUP(A66,'202511'!$B$3:$B$175,1,0) -> #N/A | G66: =VLOOKUP(A66,'BD-202512'!$A$2:$E$156,5,0) -> Urgência
... A69: 4225106104868 | B69: 406010650 | C69: 10975.98 | D69: =VLOOKUP(A69,'202511'!$B$3:$B$175,1,0) -> #N/A | G69: =VLOOKUP(A69,'BD-202512'!$A$2:$E$156,5,0) -> Urgência
...

Sheet BD-202512
A1: N_AIH,C,13 | B1: CNES,C,7 | C1: VAL_TOT,N,14,2 | D1: PROC_REA,C,10 | E1: Car_atend
A2: 4225100593384 | B2: 2411393 | C2: 58076.27 | D2: 406010609 | E2: Eletivo
A3: 4225100523567 | B3: 2537788 | C3: 25250.24 | D3: 406010820 | E3: Urgência
A4: 4225100525877 | B4: 2537788 | C4: 20786.66 | D4: 406010935 | E4: Urgência
A5: 4225100527791 | B5: 2537788 | C5: 2080.71 | D5: 406040052 | E5: Urgência
A6: 4225100530717 | B6: 2537788 | C6: 9197.55 | D6: 406030049 | E6: Urgência
A7: 4225100524359 | B7: 2537788 | C7: 8688.77 | D7: 406010650 | E7: Urgência
A8: 4225100542366 | B8: 2537788 | C8: 5166.45 | D8: 415010012 | E8: Urgência
A9: 4225100571252 | B9: 2537788 | C9: 2307.77 | D9: 406040052 | E9: Urgência
A10: 4225100572682 | B10: 2537788 | C10: 2260.17 | D10: 406040052 | E10: Urgência
A11: 4225100573760 | B11: 2537788 | C11: 4343.9 | D11: 415020034 | E11: Urgência
A12: 4225100580899 | B12: 2537788 | C12: 7789.79 | D12: 415020034 | E12: Eletivo
A13: 4225100548185 | B13: 2537788 | C13: 22695.84 | D13: 406010935 | E13: Urgência
... A156: 4225106624618 | B156: 9543856 | C156: 25626.5 | D156: 408040076 | E156: Urgência

Sheet 202512-Relatorio
A1: Hospital SC (CNES) - Dezembro | B1: Valor AIH | C1: Prêmio Tab Cat | D1: Total
A2: 2411393 HOSPITAL REGIONAL SAO PAULO ASSEC | B2: 58076.27 | D2: =SUM(B2:C2) -> 58076.27
A3: 2537788 HOSPITAL REGIONAL DO OESTE | B3: 548532.16 | D3: =SUM(B3:C3) -> 548532.16
A4: 2560771 HOSPITAL UNIVERSITARIO SANTA TEREZINHA | B4: 32543.94 | D4: =SUM(B4:C4) -> 32543.94
A5: 2672839 HOSPITAL DOM JOAQUIM IMAS | B5: 400871.86 | C5: 5474.225 | D5: =SUM(B5:C5) -> 406346.09
A6: 3039250 HOSPITAL SAO MIGUEL IMAS | B6: 312695.71 | C6: 79885 | D6: =SUM(B6:C6) -> 392580.71
A7: 6048692 HOSPITAL INFANTIL DR JESER AMARANTE FARIA | B7: 78998.04 | D7: =SUM(B7:C7) -> 78998.04
A8: 9543856 IMIGRANTES HOSPITAL E MATERNIDADE | B8: 55477.58 | D8: =SUM(B8:C8) -> 55477.58
A9: Total | B9: 1512543.1 | D9: =SUM(B9:C9) -> 1512543.1

Sheet BD-202601
A1: N_AIH,C,13 | B1: CNES,C,7 | C1: VAL_TOT,N,14,2 | D1: PROC_REA,C,10 | E1: CAR_INT,C,2
A2: 4225100533005 | B2: 2537788 | C2: 6531.65 | D2: 406030049 | E2: Urgencia
A3: 4225100535876 | B3: 2537788 | C3: 37271.74 | D3: 415020034 | E3: Urgencia
A4: 4225100547008 | B4: 2537788 | C4: 3778.59 | D4: 415010012 | E4: Urgencia
A5: 4225100548944 | B5: 2537788 | C5: 6721.93 | D5: 406030049 | E5: Urgencia
A6: 4225100548955 | B6: 2537788 | C6: 2246.57 | D6: 406040052 | E6: Urgencia
A7: 4225100539209 | B7: 2537788 | C7: 7752.69 | D7: 406030049 | E7: Urgencia
A8: 4225100552365 | B8: 2537788 | C8: 7200.1 | D8: 415020034 | E8: Urgencia
A9: 4225100555896 | B9: 2537788 | C9: 11006.77 | D9: 415020034 | E9: Eletivo
A10: 4225100558602 | B10: 2537788 | C10: 20492.38 | D10: 406010935 | E10: Urgencia
A11: 4225100559218 | B11: 2537788 | C11: 25813.48 | D11: 406010692 | E11: Urgencia
A12: 4225100552068 | B12: 2537788 | C12: 5923.37 | D12: 406030030 | E12: Eletivo
A13: 4225100560725 | B13: 2537788 | C13: 8696.57 | D13: 415020034 | E13: Urgencia
... A198: 4226103472261 | B198: 6048692 | C198: 6077.05 | D198: 406050040 | E198: Eletivo

Sheet 202601
A1: CNES / AIH | B1: PROCED | C1: VALOR AIH | D1: Busca 202512 | E1: Busca 202511 | G1: Carater atend | H1: Prêmio Tabela Catarinense
A2: 2537788 | B2: Chapeco HRO | C2: 750422.18 | H2: =SUM(H3:H61) -> 0 | I2: =SUM(C2,H2) -> 750422.18
A3: 4225100533005 | B3: 406030049 | C3: 6531.65 | D3: =VLOOKUP(A3,'202512'!$A$3:$A$171,1,0) -> #N/A | E3: =VLOOKUP(A3,'202511'!$B$3:$B$175,1,0) -> #N/A | G3: =VLOOKUP(A3,'BD-202601'!$A$2:$E$198,5,0) -> Urgencia
A4: 4225100535876 | B4: 415020034 | C4: 37271.74 | D4: =VLOOKUP(A4,'202512'!$A$3:$A$171,1,0) -> #N/A | E4: =VLOOKUP(A4,'202511'!$B$3:$B$175,1,0) -> #N/A | G4: =VLOOKUP(A4,'BD-202601'!$A$2:$E$198,5,0) -> Urgencia
A5: 4225100539209 | B5: 406030049 | C5: 7752.69 | D5: =VLOOKUP(A5,'202512'!$A$3:$A$171,1,0) -> #N/A | E5: =VLOOKUP(A5,'202511'!$B$3:$B$175,1,0) -> #N/A | G5: =VLOOKUP(A5,'BD-202601'!$A$2:$E$198,5,0) -> Urgencia
A6: 4225100547008 | B6: 415010012 | C6: 3778.59 | D6: =VLOOKUP(A6,'202512'!$A$3:$A$171,1,0) -> #N/A | E6: =VLOOKUP(A6,'202511'!$B$3:$B$175,1,0) -> #N/A | G6: =VLOOKUP(A6,'BD-202601'!$A$2:$E$198,5,0) -> Urgencia
A7: 4225100548944 | B7: 406030049 | C7: 6721.93 | D7: =VLOOKUP(A7,'202512'!$A$3:$A$171,1,0) -> #N/A | E7: =VLOOKUP(A7,'202511'!$B$3:$B$175,1,0) -> #N/A | G7: =VLOOKUP(A7,'BD-202601'!$A$2:$E$198,5,0) -> Urgencia
A8: 4225100548955 | B8: 406040052 | C8: 2246.57 | D8: =VLOOKUP(A8,'202512'!$A$3:$A$171,1,0) -> #N/A | E8: =VLOOKUP(A8,'202511'!$B$3:$B$175,1,0) -> #N/A | G8: =VLOOKUP(A8,'BD-202601'!$A$2:$E$198,5,0) -> Urgencia
A9: 4225100552068 | B9: 406030030 | C9: 5923.37 | D9: =VLOOKUP(A9,'202512'!$A$3:$A$171,1,0) -> #N/A | E9: =VLOOKUP(A9,'202511'!$B$3:$B$175,1,0) -> #N/A | G9: =VLOOKUP(A9,'BD-202601'!$A$2:$E$198,5,0) -> Eletivo
A10: 4225100552365 | B10: 415020034 | C10: 7200.1 | D10: =VLOOKUP(A10,'202512'!$A$3:$A$171,1,0) -> #N/A | E10: =VLOOKUP(A10,'202511'!$B$3:$B$175,1,0) -> #N/A | G10: =VLOOKUP(A10,'BD-202601'!$A$2:$E$198,5,0) -> Urgencia
A11: 4225100555896 | B11: 415020034 | C11: 11006.77 | D11: =VLOOKUP(A11,'202512'!$A$3:$A$171,1,0) -> #N/A | E11: =VLOOKUP(A11,'202511'!$B$3:$B$175,1,0) -> #N/A | G11: =VLOOKUP(A11,'BD-202601'!$A$2:$E$198,5,0) -> Eletivo
A12: 4225100558602 | B12: 406010935 | C12: 20492.38 | D12: =VLOOKUP(A12,'202512'!$A$3:$A$171,1,0) -> #N/A | E12: =VLOOKUP(A12,'202511'!$B$3:$B$175,1,0) -> #N/A | G12: =VLOOKUP(A12,'BD-202601'!$A$2:$E$198,5,0) -> Urgencia
A13: 4225100559218 | B13: 406010692 | C13: 25813.48 | D13: =VLOOKUP(A13,'202512'!$A$3:$A$171,1,0) -> #N/A | E13: =VLOOKUP(A13,'202511'!$B$3:$B$175,1,0) -> #N/A | G13: =VLOOKUP(A13,'BD-202601'!$A$2:$E$198,5,0) -> Urgencia
A14: 4225100559801 | B14: 406030049 | C14: 6528.15 | D14: =VLOOKUP(A14,'202512'!$A$3:$A$171,1,0) -> #N/A | E14: =VLOOKUP(A14,'202511'!$B$3:$B$175,1,0) -> #N/A | G14: =VLOOKUP(A14,'BD-202601'!$A$2:$E$198,5,0) -> Urgencia
... A43: 4225100615428 | B43: 406030022 | C43: 8154.41 | D43: =VLOOKUP(A43,'202512'!$A$3:$A$171,1,0) -> #N/A | E43: =VLOOKUP(A43,'202511'!$B$3:$B$175,1,0) -> #N/A | G43: =VLOOKUP(A43,'BD-202601'!$A$2:$E$198,5,0) -> Urgencia
A44: 4225100617595 | B44: =VLOOKUP(A44,'BD-202601'!$A$2:$E$198,4,0) -> 406040052 | C44: =VLOOKUP(A44,'BD-202601'!$A$2:$E$198,3,0) -> 3179.43 | D44: =VLOOKUP(A44,'202512'!$A$3:$A$171,1,0) -> #N/A | E44: =VLOOKUP(A44,'202511'!$B$3:$B$175,1,0) -> #N/A | G44: =VLOOKUP(A44,'BD-202601'!$A$2:$E$198,5,0) -> Urgencia
A45: 4225100617694 | B45: =VLOOKUP(A45,'BD-202601'!$A$2:$E$198,4,0) -> 406040052 | C45: =VLOOKUP(A45,'BD-202601'!$A$2:$E$198,3,0) -> 2397.91 | D45: =VLOOKUP(A45,'202512'!$A$3:$A$171,1,0) -> #N/A | E45: =VLOOKUP(A45,'202511'!$B$3:$B$175,1,0) -> #N/A | G45: =VLOOKUP(A45,'BD-202601'!$A$2:$E$198,5,0) -> Urgencia
A46: 4225100617870 | B46: =VLOOKUP(A46,'BD-202601'!$A$2:$E$198,4,0) -> 406010650 | C46: =VLOOKUP(A46,'BD-202601'!$A$2:$E$198,3,0) -> 8668.07 | D46: =VLOOKUP(A46,'202512'!$A$3:$A$171,1,0) -> #N/A | E46: =VLOOKUP(A46,'202511'!$B$3:$B$175,1,0) -> #N/A | G46: =VLOOKUP(A46,'BD-202601'!$A$2:$E$198,5,0) -> Urgencia
A47: 4225100619014 | B47: =VLOOKUP(A47,'BD-202601'!$A$2:$E$198,4,0) -> 406010650 | C47: =VLOOKUP(A47,'BD-202601'!$A$2:$E$198,3,0) -> 8668.07 | D47: =VLOOKUP(A47,'202512'!$A$3:$A$171,1,0) -> #N/A | E47: =VLOOKUP(A47,'202511'!$B$3:$B$175,1,0) -> #N/A | G47: =VLOOKUP(A47,'BD-202601'!$A$2:$E$198,5,0) -> Urgencia
A48: 4225100619070 | B48: =VLOOKUP(A48,'BD-202601'!$A$2:$E$198,4,0) -> 415020034 | C48: =VLOOKUP(A48,'BD-202601'!$A$2:$E$198,3,0) -> 8903.53 | D48: =VLOOKUP(A48,'202512'!$A$3:$A$171,1,0) -> #N/A | E48: =VLOOKUP(A48,'202511'!$B$3:$B$175,1,0) -> #N/A | G48: =VLOOKUP(A48,'BD-202601'!$A$2:$E$198,5,0) -> Urgencia
A49: 4225100622391 | B49: =VLOOKUP(A49,'BD-202601'!$A$2:$E$198,4,0) -> 406030030 | C49: =VLOOKUP(A49,'BD-202601'!$A$2:$E$198,3,0) -> 5062.01 | D49: =VLOOKUP(A49,'202512'!$A$3:$A$171,1,0) -> #N/A | E49: =VLOOKUP(A49,'202511'!$B$3:$B$175,1,0) -> #N/A | G49: =VLOOKUP(A49,'BD-202601'!$A$2:$E$198,5,0) -> Urgencia
A50: 4225100627077 | B50: =VLOOKUP(A50,'BD-202601'!$A$2:$E$198,4,0) -> 415020034 | C50: =VLOOKUP(A50,'BD-202601'!$A$2:$E$198,3,0) -> 2852.78 | D50: =VLOOKUP(A50,'202512'!$A$3:$A$171,1,0) -> #N/A | E50: =VLOOKUP(A50,'202511'!$B$3:$B$175,1,0) -> #N/A | G50: =VLOOKUP(A50,'BD-202601'!$A$2:$E$198,5,0) -> Urgencia
A51: 4225100629288 | B51: =VLOOKUP(A51,'BD-202601'!$A$2:$E$198,4,0) -> 406040060 | C51: =VLOOKUP(A51,'BD-202601'!$A$2:$E$198,3,0) -> 2278.94 | D51: =VLOOKUP(A51,'202512'!$A$3:$A$171,1,0) -> #N/A | E51: =VLOOKUP(A51,'202511'!$B$3:$B$175,1,0) -> #N/A | G51: =VLOOKUP(A51,'BD-202601'!$A$2:$E$198,5,0) -> Urgencia
A52: 4225100643995 | B52: =VLOOKUP(A52,'BD-202601'!$A$2:$E$198,4,0) -> 406030030 | C52: =VLOOKUP(A52,'BD-202601'!$A$2:$E$198,3,0) -> 5301.37 | D52: =VLOOKUP(A52,'202512'!$A$3:$A$171,1,0) -> #N/A | E52: =VLOOKUP(A52,'202511'!$B$3:$B$175,1,0) -> #N/A | G52: =VLOOKUP(A52,'BD-202601'!$A$2:$E$198,5,0) -> Urgencia
A53: 4225100645315 | B53: =VLOOKUP(A53,'BD-202601'!$A$2:$E$198,4,0) -> 406040117 | C53: =VLOOKUP(A53,'BD-202601'!$A$2:$E$198,3,0) -> 1419.22 | D53: =VLOOKUP(A53,'202512'!$A$3:$A$171,1,0) -> #N/A | E53: =VLOOKUP(A53,'202511'!$B$3:$B$175,1,0) -> #N/A | G53: =VLOOKUP(A53,'BD-202601'!$A$2:$E$198,5,0) -> Eletivo
A54: 4225100645766 | B54: =VLOOKUP(A54,'BD-202601'!$A$2:$E$198,4,0) -> 415020034 | C54: =VLOOKUP(A54,'BD-202601'!$A$2:$E$198,3,0) -> 3618.67 | D54: =VLOOKUP(A54,'202512'!$A$3:$A$171,1,0) -> #N/A | E54: =VLOOKUP(A54,'202511'!$B$3:$B$175,1,0) -> #N/A | G54: =VLOOKUP(A54,'BD-202601'!$A$2:$E$198,5,0) -> Urgencia
A55: 4225100646008 | B55: =VLOOKUP(A55,'BD-202601'!$A$2:$E$198,4,0) -> 406010820 | C55: =VLOOKUP(A55,'BD-202601'!$A$2:$E$198,3,0) -> 23340 | D55: =VLOOKUP(A55,'202512'!$A$3:$A$171,1,0) -> #N/A | E55: =VLOOKUP(A55,'202511'!$B$3:$B$175,1,0) -> #N/A | G55: =VLOOKUP(A55,'BD-202601'!$A$2:$E$198,5,0) -> Urgencia
... A61: 4226104631925 | B61: =VLOOKUP(A61,'BD-202601'!$A$2:$E$198,4,0) -> 406030022 | C61: =VLOOKUP(A61,'BD-202601'!$A$2:$E$198,3,0) -> 7601.21 | D61: =VLOOKUP(A61,'202512'!$A$3:$A$171,1,0) -> #N/A | E61: =VLOOKUP(A61,'202511'!$B$3:$B$175,1,0) -> #N/A | G61: =VLOOKUP(A61,'BD-202601'!$A$2:$E$198,5,0) -> Urgencia
A62: 4225100551661 | B62: 406040109 | C62: 4780.09 | G62: Urgencia
A63: 4225100590205 | B63: 415010012 | C63: 68156.04 | G63: eletiva
A64: 4225106557200 | B64: 406010650 | C64: 8668.07 | G64: urgencia
A66: 2672839 | B66: IMAS SOMBRIO | C66: 532755.08 | H66: =SUM(H67:H116) -> 7950.9225 | I66: =SUM(C66,H66) -> 540706
A67: 4225106028506 | B67: =VLOOKUP(A67,'BD-202601'!$A$2:$E$198,4,0) -> 406030022 | C67: =VLOOKUP(A67,'BD-202601'!$A$2:$E$198,3,0) -> 11531.16 | D67: =VLOOKUP(A67,'202512'!$A$3:$A$171,1,0) -> #N/A | E67: =VLOOKUP(A67,'202511'!$B$3:$B$175,1,0) -> #N/A | G67: =VLOOKUP(A67,'BD-202601'!$A$2:$E$198,5,0) -> Urgencia
A68: 4225106093384 | B68: =VLOOKUP(A68,'BD-202601'!$A$2:$E$198,4,0) -> 406030049 | C68: =VLOOKUP(A68,'BD-202601'!$A$2:$E$198,3,0) -> 7052.5 | D68: =VLOOKUP(A68,'202512'!$A$3:$A$171,1,0) -> #N/A | E68: =VLOOKUP(A68,'202511'!$B$3:$B$175,1,0) -> #N/A | G68: =VLOOKUP(A68,'BD-202601'!$A$2:$E$198,5,0) -> Urgencia
A69: 4225106108410 | B69: =VLOOKUP(A69,'BD-202601'!$A$2:$E$198,4,0) -> 406030030 | C69: =VLOOKUP(A69,'BD-202601'!$A$2:$E$198,3,0) -> 6439.51 | D69: =VLOOKUP(A69,'202512'!$A$3:$A$171,1,0) -> #N/A | E69: =VLOOKUP(A69,'202511'!$B$3:$B$175,1,0) -> #N/A | G69: =VLOOKUP(A69,'BD-202601'!$A$2:$E$198,5,0) -> Urgencia
A70: 4225106119014 | B70: =VLOOKUP(A70,'BD-202601'!$A$2:$E$198,4,0) -> 415020034 | C70: =VLOOKUP(A70,'BD-202601'!$A$2:$E$198,3,0) -> 52013.2 | D70: =VLOOKUP(A70,'202512'!$A$3:$A$171,1,0) -> #N/A | E70: =VLOOKUP(A70,'202511'!$B$3:$B$175,1,0) -> #N/A | G70: =VLOOKUP(A70,'BD-202601'!$A$2:$E$198,5,0) -> Urgencia
A71: 4225106125031 | B71: =VLOOKUP(A71,'BD-202601'!$A$2:$E$198,4,0) -> 406030049 | C71: =VLOOKUP(A71,'BD-202601'!$A$2:$E$198,3,0) -> 15706.86 | D71: =VLOOKUP(A71,'202512'!$A$3:$A$171,1,0) -> #N/A | E71: =VLOOKUP(A71,'202511'!$B$3:$B$175,1,0) -> #N/A | G71: =VLOOKUP(A71,'BD-202601'!$A$2:$E$198,5,0) -> Urgencia
A72: 4225106132390 | B72: =VLOOKUP(A72,'BD-202601'!$A$2:$E$198,4,0) -> 406030030 | C72: =VLOOKUP(A72,'BD-202601'!$A$2:$E$198,3,0) -> 7652.21 | D72: =VLOOKUP(A72,'202512'!$A$3:$A$171,1,0) -> #N/A | E72: =VLOOKUP(A72,'202511'!$B$3:$B$175,1,0) -> #N/A | G72: =VLOOKUP(A72,'BD-202601'!$A$2:$E$198,5,0) -> Urgencia
A73: 4225106135998 | B73: =VLOOKUP(A73,'BD-202601'!$A$2:$E$198,4,0) -> 406030030 | C73: =VLOOKUP(A73,'BD-202601'!$A$2:$E$198,3,0) -> 7671.26 | D73: =VLOOKUP(A73,'202512'!$A$3:$A$171,1,0) -> #N/A | E73: =VLOOKUP(A73,'202511'!$B$3:$B$175,1,0) -> #N/A | G73: =VLOOKUP(A73,'BD-202601'!$A$2:$E$198,5,0) -> Urgencia
A74: 4226104280497 | B74: =VLOOKUP(A74,'BD-202601'!$A$2:$E$198,4,0) -> 406030030 | C74: =VLOOKUP(A74,'BD-202601'!$A$2:$E$198,3,0) -> 7658.56 | D74: =VLOOKUP(A74,'202512'!$A$3:$A$171,1,0) -> #N/A | E74: =VLOOKUP(A74,'202511'!$B$3:$B$175,1,0) -> #N/A | G74: =VLOOKUP(A74,'BD-202601'!$A$2:$E$198,5,0) -> Urgencia
...

Sheet 202601-Relatorio
A1: Hospital SC (CNES) - Janeiro 2026 | B1: Freq | C1: Valor AIH | D1: Prêmio Tab Cat | E1: Total
A2: 2537788 HOSPITAL REGIONAL DO OESTE | B2: 62 | C2: 750422.18 | E2: 750422.18
A3: 2672839 HOSPITAL DOM JOAQUIM IMAS | B3: 49 | C3: 532755.06 | D3: 7950.9225 | E3: =SUM(C3:D3) -> 540705.98
A4: 2758164 HOSPITAL SAO JOSE | B4: 3 | C4: 210987.33 | E4: =SUM(C4:D4) -> 210987.33
A5: 3039250 HOSPITAL SAO MIGUEL IMAS | B5: 68 | C5: 423650.17 | D5: 208930 | E5: =SUM(C5:D5) -> 632580.17
A6: 6048692 HOSPITAL INFANTIL DR JESER AMARANTE FARIA | B6: 9 | C6: 84076.97 | D6: ='[1]202601'!H189 -> 4399.5675 | E6: =SUM(C6:D6) -> 88476.538
A7: 9543856 IMIGRANTES HOSPITAL E MATERNIDADE | B7: 4 | C7: 60778.43 | D7: 3921.32 | E7: =SUM(C7:D7) -> 64699.75
A8: Total | B8: =SUM(B2:B7) -> 195 | C8: =SUM(C2:C7) -> 2062670.1 | D8: =SUM(D2:D7) -> 225201.81 | E8: =SUM(C8:D8) -> 2287872

Sheet 202602
A1: CNES / AIH | B1: PROCED | C1: VALOR AIH | D1: Busca 202601 | E1: Busca 202512 | F1: Busca 202511 | G1: Carater atend | H1: Prêmio Tabela Catarinense | I1: Total
A2: 2537788 | B2: Chapeco HRO | C2: =SUM(C3:C38) -> 538295.31 | H2: =SUM(H3:H61) -> 0 | I2: =SUM(C2,H2) -> 538295.31
A3: 4225100570691 | B3: 415020034 | C3: 22276.71 | D3: =VLOOKUP(A3,'202601'!$A$3:$A$216,1,0) -> #N/A | E3: =VLOOKUP(A3,'202512'!$A$2:$A$172,1,0) -> #N/A | F3: =VLOOKUP(A3,'202511'!$B$4:$B$176,1,0) -> #N/A | G3: =VLOOKUP(A3,'BD-202602'!$A$2:$G$189,6,0) -> ELETIVO
A4: 4225100575058 | B4: 415020034 | C4: 26999.7 | D4: =VLOOKUP(A4,'202601'!$A$3:$A$216,1,0) -> #N/A | E4: =VLOOKUP(A4,'202512'!$A$2:$A$172,1,0) -> #N/A | F4: =VLOOKUP(A4,'202511'!$B$4:$B$176,1,0) -> #N/A | G4: =VLOOKUP(A4,'BD-202602'!$A$2:$G$189,6,0) -> URGENCIA
A5: 4225100587400 | B5: 406030049 | C5: 7759.45 | D5: =VLOOKUP(A5,'202601'!$A$3:$A$216,1,0) -> #N/A | E5: =VLOOKUP(A5,'202512'!$A$2:$A$172,1,0) -> #N/A | F5: =VLOOKUP(A5,'202511'!$B$4:$B$176,1,0) -> #N/A | G5: =VLOOKUP(A5,'BD-202602'!$A$2:$G$189,6,0) -> URGENCIA
A6: 4225100591723 | B6: 406030022 | C6: 8101.69 | D6: =VLOOKUP(A6,'202601'!$A$3:$A$216,1,0) -> #N/A | E6: =VLOOKUP(A6,'202512'!$A$2:$A$172,1,0) -> #N/A | F6: =VLOOKUP(A6,'202511'!$B$4:$B$176,1,0) -> #N/A | G6: =VLOOKUP(A6,'BD-202602'!$A$2:$G$189,6,0) -> URGENCIA
A7: 4225100593373 | B7: 415020034 | C7: 33857.35 | D7: =VLOOKUP(A7,'202601'!$A$3:$A$216,1,0) -> #N/A | E7: =VLOOKUP(A7,'202512'!$A$2:$A$172,1,0) -> #N/A | F7: =VLOOKUP(A7,'202511'!$B$4:$B$176,1,0) -> #N/A | G7: =VLOOKUP(A7,'BD-202602'!$A$2:$G$189,6,0) -> URGENCIA
A8: 4225100598774 | B8: 406030049 | C8: 6489.66 | D8: =VLOOKUP(A8,'202601'!$A$3:$A$216,1,0) -> #N/A | E8: =VLOOKUP(A8,'202512'!$A$2:$A$172,1,0) -> #N/A | F8: =VLOOKUP(A8,'202511'!$B$4:$B$176,1,0) -> #N/A | G8: =VLOOKUP(A8,'BD-202602'!$A$2:$G$189,6,0) -> URGENCIA
A9: 4225100600072 | B9: 406010650 | C9: 29242.1 | D9: =VLOOKUP(A9,'202601'!$A$3:$A$216,1,0) -> #N/A | E9: =VLOOKUP(A9,'202512'!$A$2:$A$172,1,0) -> #N/A | F9: =VLOOKUP(A9,'202511'!$B$4:$B$176,1,0) -> #N/A | G9: =VLOOKUP(A9,'BD-202602'!$A$2:$G$189,6,0) -> URGENCIA
A10: 4225100601953 | B10: 406010692 | C10: 22305.53 | D10: =VLOOKUP(A10,'202601'!$A$3:$A$216,1,0) -> #N/A | E10: =VLOOKUP(A10,'202512'!$A$2:$A$172,1,0) -> #N/A | F10: =VLOOKUP(A10,'202511'!$B$4:$B$176,1,0) -> #N/A | G10: =VLOOKUP(A10,'BD-202602'!$A$2:$G$189,6,0) -> URGENCIA
A11: 4225100606837 | B11: 406010935 | C11: 21603.38 | D11: =VLOOKUP(A11,'202601'!$A$3:$A$216,1,0) -> #N/A | E11: =VLOOKUP(A11,'202512'!$A$2:$A$172,1,0) -> #N/A | F11: =VLOOKUP(A11,'202511'!$B$4:$B$176,1,0) -> #N/A | G11: =VLOOKUP(A11,'BD-202602'!$A$2:$G$189,6,0) -> URGENCIA
A12: 4225100611908 | B12: 406010935 | C12: 26630.17 | D12: =VLOOKUP(A12,'202601'!$A$3:$A$216,1,0) -> #N/A | E12: =VLOOKUP(A12,'202512'!$A$2:$A$172,1,0) -> #N/A | F12: =VLOOKUP(A12,'202511'!$B$4:$B$176,1,0) -> #N/A | G12: =VLOOKUP(A12,'BD-202602'!$A$2:$G$189,6,0) -> URGENCIA
A13: 4225100614450 | B13: 415010012 | C13: 61192.1 | D13: =VLOOKUP(A13,'202601'!$A$3:$A$216,1,0) -> #N/A | E13: =VLOOKUP(A13,'202512'!$A$2:$A$172,1,0) -> #N/A | F13: =VLOOKUP(A13,'202511'!$B$4:$B$176,1,0) -> #N/A | G13: =VLOOKUP(A13,'BD-202602'!$A$2:$G$189,6,0) -> URGENCIA
A14: 4225100615065 | B14: 406010820 | C14: 24104.14 | D14: =VLOOKUP(A14,'202601'!$A$3:$A$216,1,0) -> #N/A | E14: =VLOOKUP(A14,'202512'!$A$2:$A$172,1,0) -> #N/A | F14: =VLOOKUP(A14,'202511'!$B$4:$B$176,1,0) -> #N/A | G14: =VLOOKUP(A14,'BD-202602'!$A$2:$G$189,6,0) -> URGENCIA
... A38: 4226104672911 | B38: 415020034 | C38: 37441.65 | D38: =VLOOKUP(A38,'202601'!$A$3:$A$216,1,0) -> #N/A | E38: =VLOOKUP(A38,'202512'!$A$2:$A$172,1,0) -> #N/A | F38: =VLOOKUP(A38,'202511'!$B$4:$B$176,1,0) -> #N/A | G38: =VLOOKUP(A38,'BD-202602'!$A$2:$G$189,6,0) -> ELETIVO
A40: CNES / AIH | B40: PROCED | C40: VALOR AIH | D40: Busca 202601 | E40: Busca 202512 | F40: Busca 202511 | G40: Carater atend | H40: Prêmio Tabela Catarinense | I40: Total
A41: 2560771 | B41: Joaçaba HUST | C41: =SUM(C42) -> 834.66 | H41: =SUM(H42:H100) -> 0 | I41: =SUM(C41,H41) -> 834.66
A42: 4225106401923 | B42: 408040173 | C42: 834.66 | D42: =VLOOKUP(A42,'202601'!$A$3:$A$216,1,0) -> #N/A | E42: =VLOOKUP(A42,'202512'!$A$2:$A$172,1,0) -> #N/A | F42: =VLOOKUP(A42,'202511'!$B$4:$B$176,1,0) -> #N/A | G42: =VLOOKUP(A42,'BD-202602'!$A$2:$G$189,6,0) -> URGENCIA
A44: CNES / AIH | B44: PROCED | C44: VALOR AIH | D44: Busca 202601 | E44: Busca 202512 | F44: Busca 202511 | G44: Carater atend | H44: Prêmio Tabela Catarinense | I44: Total
A45: 2672839 | B45: Sombrio IMAS | C45: =SUM(C46:C103) -> 681278.6 | H45: =SUM(H46:H104) -> 0 | I45: =SUM(C45,H45) -> 681278.6
A46: 4225106109257 | B46: 406030022 | C46: 28675.92 | D46: =VLOOKUP(A46,'202601'!$A$3:$A$216,1,0) -> #N/A | E46: =VLOOKUP(A46,'202512'!$A$2:$A$172,1,0) -> #N/A | F46: =VLOOKUP(A46,'202511'!$B$4:$B$176,1,0) -> #N/A | G46: =VLOOKUP(A46,'BD-202602'!$A$2:$G$189,6,0) -> URGENCIA
A47: 4226104303883 | B47: 415020034 | C47: 38383.26 | D47: =VLOOKUP(A47,'202601'!$A$3:$A$216,1,0) -> #N/A | E47: =VLOOKUP(A47,'202512'!$A$2:$A$172,1,0) -> #N/A | F47: =VLOOKUP(A47,'202511'!$B$4:$B$176,1,0) -> #N/A | G47: =VLOOKUP(A47,'BD-202602'!$A$2:$G$189,6,0) -> ELETIVO
A48: 4226104326686 | B48: 406030049 | C48: 7071.55 | D48: =VLOOKUP(A48,'202601'!$A$3:$A$216,1,0) -> #N/A | E48: =VLOOKUP(A48,'202512'!$A$2:$A$172,1,0) -> #N/A | F48: =VLOOKUP(A48,'202511'!$B$4:$B$176,1,0) -> #N/A | G48: =VLOOKUP(A48,'BD-202602'!$A$2:$G$189,6,0) -> URGENCIA
A49: 4226104326730 | B49: 406030030 | C49: 7079.26 | D49: =VLOOKUP(A49,'202601'!$A$3:$A$216,1,0) -> #N/A | E49: =VLOOKUP(A49,'202512'!$A$2:$A$172,1,0) -> #N/A | F49: =VLOOKUP(A49,'202511'!$B$4:$B$176,1,0) -> #N/A | G49: =VLOOKUP(A49,'BD-202602'!$A$2:$G$189,6,0) -> URGENCIA
A50: 4226104332582 | B50: 406010862 | C50: 916.28 | D50: =VLOOKUP(A50,'202601'!$A$3:$A$216,1,0) -> #N/A | E50: =VLOOKUP(A50,'202512'!$A$2:$A$172,1,0) -> #N/A | F50: =VLOOKUP(A50,'202511'!$B$4:$B$176,1,0) -> #N/A | G50: =VLOOKUP(A50,'BD-202602'!$A$2:$G$189,6,0) -> URGENCIA
A51: 4226104332615 | B51: 415020034 | C51: 65630.65 | D51: =VLOOKUP(A51,'202601'!$A$3:$A$216,1,0) -> #N/A | E51: =VLOOKUP(A51,'202512'!$A$2:$A$172,1,0) -> #N/A | F51: =VLOOKUP(A51,'202511'!$B$4:$B$176,1,0) -> #N/A | G51: =VLOOKUP(A51,'BD-202602'!$A$2:$G$189,6,0) -> ELETIVO
A52: 4226104334705 | B52: 406030022 | C52: 11886.04 | D52: =VLOOKUP(A52,'202601'!$A$3:$A$216,1,0) -> #N/A | E52: =VLOOKUP(A52,'202512'!$A$2:$A$172,1,0) -> #N/A | F52: =VLOOKUP(A52,'202511'!$B$4:$B$176,1,0) -> #N/A | G52: =VLOOKUP(A52,'BD-202602'!$A$2:$G$189,6,0) -> URGENCIA
A53: 4226104335156 | B53: 406010676 | C53: 7232.81 | D53: =VLOOKUP(A53,'202601'!$A$3:$A$216,1,0) -> #N/A | E53: =VLOOKUP(A53,'202512'!$A$2:$A$172,1,0) -> #N/A | F53: =VLOOKUP(A53,'202511'!$B$4:$B$176,1,0) -> #N/A | G53: =VLOOKUP(A53,'BD-202602'!$A$2:$G$189,6,0) -> URGENCIA
A54: 4226104339677 | B54: 406040060 | C54: 4860.95 | D54: =VLOOKUP(A54,'202601'!$A$3:$A$216,1,0) -> #N/A | E54: =VLOOKUP(A54,'202512'!$A$2:$A$172,1,0) -> #N/A | F54: =VLOOKUP(A54,'202511'!$B$4:$B$176,1,0) -> #N/A | G54: =VLOOKUP(A54,'BD-202602'!$A$2:$G$189,6,0) -> URGENCIA
A55: 4226104339952 | B55: 406010862 | C55: 916.28 | D55: =VLOOKUP(A55,'202601'!$A$3:$A$216,1,0) -> #N/A | E55: =VLOOKUP(A55,'202512'!$A$2:$A$172,1,0) -> #N/A | F55: =VLOOKUP(A55,'202511'!$B$4:$B$176,1,0) -> #N/A | G55: =VLOOKUP(A55,'BD-202602'!$A$2:$G$189,6,0) -> URGENCIA
A56: 4226104340040 | B56: 406030022 | C56: 12118.49 | D56: =VLOOKUP(A56,'202601'!$A$3:$A$216,1,0) -> #N/A | E56: =VLOOKUP(A56,'202512'!$A$2:$A$172,1,0) -> #N/A | F56: =VLOOKUP(A56,'202511'!$B$4:$B$176,1,0) -> #N/A | G56: =VLOOKUP(A56,'BD-202602'!$A$2:$G$189,6,0) -> URGENCIA
A57: 4226104341833 | B57: 406030022 | C57: 9433.56 | D57: =VLOOKUP(A57,'202601'!$A$3:$A$216,1,0) -> #N/A | E57: =VLOOKUP(A57,'202512'!$A$2:$A$172,1,0) -> #N/A | F57: =VLOOKUP(A57,'202511'!$B$4:$B$176,1,0) -> #N/A | G57: =VLOOKUP(A57,'BD-202602'!$A$2:$G$189,6,0) -> ELETIVO
A58: 4226104347685 | B58: 406030022 | C58: 8033.68 | D58: =VLOOKUP(A58,'202601'!$A$3:$A$216,1,0) -> #N/A | E58: =VLOOKUP(A58,'202512'!$A$2:$A$172,1,0) -> #N/A | F58: =VLOOKUP(A58,'202511'!$B$4:$B$176,1,0) -> #N/A | G58: =VLOOKUP(A58,'BD-202602'!$A$2:$G$189,6,0) -> URGENCIA | H58: VERIFICAR SE CABE O PAGAMENTO
A59: 4226104348829 | B59: 406010676 | C59: 8426.52 | D59: =VLOOKUP(A59,'202601'!$A$3:$A$216,1,0) -> #N/A | E59: =VLOOKUP(A59,'202512'!$A$2:$A$172,1,0) -> #N/A | F59: =VLOOKUP(A59,'202511'!$B$4:$B$176,1,0) -> #N/A | G59: =VLOOKUP(A59,'BD-202602'!$A$2:$G$189,6,0) -> URGENCIA
A60: 4226104348972 | B60: 406030030 | C60: 7077.61 | D60: =VLOOKUP(A60,'202601'!$A$3:$A$216,1,0) -> #N/A | E60: =VLOOKUP(A60,'202512'!$A$2:$A$172,1,0) -> #N/A | F60: =VLOOKUP(A60,'202511'!$B$4:$B$176,1,0) -> #N/A | G60: =VLOOKUP(A60,'BD-202602'!$A$2:$G$189,6,0) -> URGENCIA
A61: 4226104349588 | B61: 406050031 | C61: 6179.36 | D61: =VLOOKUP(A61,'202601'!$A$3:$A$216,1,0) -> #N/A | E61: =VLOOKUP(A61,'202512'!$A$2:$A$172,1,0) -> #N/A | F61: =VLOOKUP(A61,'202511'!$B$4:$B$176,1,0) -> #N/A | G61: =VLOOKUP(A61,'BD-202602'!$A$2:$G$189,6,0) -> ELETIVO
A62: 4226104349599 | B62: 406050066 | C62: 5993.23 | D62: =VLOOKUP(A62,'202601'!$A$3:$A$216,1,0) -> #N/A | E62: =VLOOKUP(A62,'202512'!$A$2:$A$172,1,0) -> #N/A | F62: =VLOOKUP(A62,'202511'!$B$4:$B$176,1,0) -> #N/A | G62: =VLOOKUP(A62,'BD-202602'!$A$2:$G$189,6,0) -> ELETIVO
A63: 4226104349600 | B63: 406050112 | C63: 7739.52 | D63: =VLOOKUP(A63,'202601'!$A$3:$A$216,1,0) -> #N/A | E63: =VLOOKUP(A63,'202512'!$A$2:$A$172,1,0) -> #N/A | F63: =VLOOKUP(A63,'202511'!$B$4:$B$176,1,0) -> #N/A | G63: =VLOOKUP(A63,'BD-202602'!$A$2:$G$189,6,0) -> ELETIVO
A64: 4226104349610 | B64: 406050066 | C64: 5993.23 | D64: =VLOOKUP(A64,'202601'!$A$3:$A$216,1,0) -> #N/A | E64: =VLOOKUP(A64,'202512'!$A$2:$A$172,1,0) -> #N/A | F64: =VLOOKUP(A64,'202511'!$B$4:$B$176,1,0) -> #N/A | G64: =VLOOKUP(A64,'BD-202602'!$A$2:$G$189,6,0) -> ELETIVO
A65: 4226104349654 | B65: 406050015 | C65: 3713.97 | D65: =VLOOKUP(A65,'202601'!$A$3:$A$216,1,0) -> #N/A | E65: =VLOOKUP(A65,'202512'!$A$2:$A$172,1,0) -> #N/A | F65: =VLOOKUP(A65,'202511'!$B$4:$B$176,1,0) -> #N/A | G65: =VLOOKUP(A65,'BD-202602'!$A$2:$G$189,6,0) -> ELETIVO
...

Sheet BD-202602
A1: N_AIH,C,13 | B1: PROC_REA,C,10 | C1: VAL_TOT,N,14,2 | D1: DT_INTER,C,8 | E1: DT_SAIDA,C,8 | F1: CAR_INT,C,URGENCIA | G1: CNES,C,7
A2: 4226104287218 | B2: 406010560 | C2: 55080.89 | D2: 20260104 | E2: 20260207 | F2: URGENCIA | G2: 2758164
A3: 4225100575058 | B3: 406011206 | C3: 26999.7 | D3: 20251124 | E3: 20251126 | F3: URGENCIA | G3: 2537788
A4: 4225100587400 | B4: 406030049 | C4: 7759.45 | D4: 20251201 | E4: 20251203 | F4: URGENCIA | G4: 2537788
A5: 4225100591723 | B5: 406030022 | C5: 8101.69 | D5: 20251202 | E5: 20251204 | F5: URGENCIA | G5: 2537788
A6: 4225100570691 | B6: 415020034 | C6: 22276.71 | D6: 20251115 | E6: 20251116 | F6: ELETIVO | G6: 2537788
A7: 4225100598774 | B7: 406030049 | C7: 6489.66 | D7: 20251206 | E7: 20251208 | F7: URGENCIA | G7: 2537788
A8: 4225100600072 | B8: 406010650 | C8: 29242.1 | D8: 20251201 | E8: 20251231 | F8: URGENCIA | G8: 2537788
A9: 4225100601953 | B9: 406010692 | C9: 22305.53 | D9: 20251208 | E9: 20251222 | F9: URGENCIA | G9: 2537788
A10: 4225100593373 | B10: 415020034 | C10: 33857.35 | D10: 20251203 | E10: 20251211 | F10: URGENCIA | G10: 2537788
A11: 4225100611908 | B11: 406010935 | C11: 26630.17 | D11: 20251202 | E11: 20251214 | F11: URGENCIA | G11: 2537788
A12: 4225100614450 | B12: 415010012 | C12: 61192.1 | D12: 20251215 | E12: 20251226 | F12: URGENCIA | G12: 2537788
A13: 4225100615065 | B13: 406010820 | C13: 24104.14 | D13: 20251215 | E13: 20251225 | F13: URGENCIA | G13: 2537788
... A189: 4226104423453 | B189: 406040052 | C189: 2617.11 | D189: 20260206 | E189: 20260207 | F189: ELETIVO | G189: 9543856

Sheet BD-202603
A1: N_AIH,C,13 | B1: PROC_REA,C,10 | C1: VAL_TOT,N,14,2 | D1: DT_INTER,C,8 | E1: DT_SAIDA,C,8 | F1: CAR_INT,C,2 | G1: CNES,C,7 | H1: nome | I1: valor
A2: 4226104600993 | B2: 415020034 | C2: 8663.65 | D2: 20260101 | E2: 20260103 | F2: URGENCIA | G2: 2537788 | H2: Chapeco HRO | I2: =VLOOKUP(B2,premios!$A$1:$B$100,2,0) -> #N/A
A3: 4226104601829 | B3: 415020034 | C3: 8377.36 | D3: 20260101 | E3: 20260104 | F3: URGENCIA | G3: 2537788 | H3: Chapeco HRO | I3: =VLOOKUP(B3,premios!$A$1:$B$100,2,0) -> #N/A
A4: 4226104603369 | B4: 406030049 | C4: 5802.45 | D4: 20260103 | E4: 20260110 | F4: URGENCIA | G4: 2537788 | H4: Chapeco HRO | I4: =VLOOKUP(B4,premios!$A$1:$B$100,2,0) -> #N/A
A5: 4226104606768 | B5: 406030049 | C5: 8429.96 | D5: 20260105 | E5: 20260109 | F5: URGENCIA | G5: 2537788 | H5: Chapeco HRO | I5: =VLOOKUP(B5,premios!$A$1:$B$100,2,0) -> #N/A
A6: 4226104608044 | B6: 406030049 | C6: 6434.8 | D6: 20260106 | E6: 20260107 | F6: URGENCIA | G6: 2537788 | H6: Chapeco HRO | I6: =VLOOKUP(B6,premios!$A$1:$B$100,2,0) -> #N/A
A7: 4226104602995 | B7: 406030022 | C7: 7926.71 | D7: 20260102 | E7: 20260107 | F7: URGENCIA | G7: 2537788 | H7: Chapeco HRO | I7: =VLOOKUP(B7,premios!$A$1:$B$100,2,0) -> #N/A
A8: 4226104610552 | B8: 406030049 | C8: 5114.45 | D8: 20260107 | E8: 20260109 | F8: URGENCIA | G8: 2537788 | H8: Chapeco HRO | I8: =VLOOKUP(B8,premios!$A$1:$B$100,2,0) -> #N/A
A9: 4226104612378 | B9: 406040052 | C9: 2881.54 | D9: 20260108 | E9: 20260116 | F9: URGENCIA | G9: 2537788 | H9: Chapeco HRO | I9: =VLOOKUP(B9,premios!$A$1:$B$100,2,0) -> #N/A
A10: 4226104615030 | B10: 406030022 | C10: 8930.4 | D10: 20260109 | E10: 20260114 | F10: URGENCIA | G10: 2537788 | H10: Chapeco HRO | I10: =VLOOKUP(B10,premios!$A$1:$B$100,2,0) -> #N/A
A11: 4226104616789 | B11: 406010935 | C11: 30147.42 | D11: 20260110 | E11: 20260129 | F11: URGENCIA | G11: 2537788 | H11: Chapeco HRO | I11: =VLOOKUP(B11,premios!$A$1:$B$100,2,0) -> #N/A
A12: 4226104617075 | B12: 406010935 | C12: 22305.66 | D12: 20260111 | E12: 20260124 | F12: URGENCIA | G12: 2537788 | H12: Chapeco HRO | I12: =VLOOKUP(B12,premios!$A$1:$B$100,2,0) -> #N/A
A13: 4226104617801 | B13: 406010692 | C13: 22373.69 | D13: 20260106 | E13: 20260113 | F13: ELETIVO | G13: 2537788 | H13: Chapeco HRO | I13: =VLOOKUP(B13,premios!$A$1:$B$100,2,0) -> #N/A
... A203: 4226103532244 | B203: 415010012 | C203: 4205.78 | D203: 20260225 | E203: 20260302 | F203: URGENCIA | G203: 6048692 | H203: Joinville - JESER | I203: =VLOOKUP(B203,premios!$A$1:$B$100,2,0) -> #N/A
A204: 4226103537040 | B204: 406050031 | C204: 6194.65 | D204: 20260316 | E204: 20260321 | F204: URGENCIA | G204: 6048692 | H204: Joinville - JESER
A205: 4226103538129 | B205: 406030057 | C205: 2692.65 | D205: 20260317 | E205: 20260320 | F205: URGENCIA | G205: 6048692 | H205: Joinville - JESER | I205: =VLOOKUP(B205,premios!$A$1:$B$100,2,0) -> #N/A
A206: 4226103540890 | B206: 406030111 | C206: 6627.09 | D206: 20260318 | E206: 20260325 | F206: URGENCIA | G206: 6048692 | H206: Joinville - JESER | I206: =VLOOKUP(B206,premios!$A$1:$B$100,2,0) -> #N/A
A207: 4226103549657 | B207: 406030057 | C207: 2783 | D207: 20260324 | E207: 20260326 | F207: URGENCIA | G207: 6048692 | H207: Joinville - JESER | I207: =VLOOKUP(B207,premios!$A$1:$B$100,2,0) -> #N/A
A208: 4226103552748 | B208: 406030090 | C208: 2389.94 | D208: 20260318 | E208: 20260325 | F208: ELETIVO | G208: 6048692 | H208: Joinville - JESER | I208: =VLOOKUP(B208,premios!$A$1:$B$100,2,0) -> #N/A
A209: 4226103525787 | B209: 0406030057 | C209: 3173.2 | D209: 20260206 | E209: 20260208 | F209: URGENCIA | G209: 6048692 | H209: Joinville - JESER | I209: =VLOOKUP(B209,premios!$A$1:$B$100,2,0) -> #N/A
A210: 4226103560668 | B210: 0406030057 | C210: 10395.15 | D210: 20260311 | E210: 20260327 | F210: URGENCIA | G210: 6048692 | H210: Joinville - JESER | I210: =VLOOKUP(B210,premios!$A$1:$B$100,2,0) -> #N/A
A211: 4226103560822 | B211: 0406030111 | C211: 8437.05 | D211: 20260326 | E211: 20260331 | F211: URGENCIA | G211: 6048692 | H211: Joinville - JESER | I211: =VLOOKUP(B211,premios!$A$1:$B$100,2,0) -> #N/A
A212: 4226103563759 | B212: 0406030057 | C212: 22035.83 | D212: 20260227 | E212: 20260330 | F212: URGENCIA | G212: 6048692 | H212: Joinville - JESER | I212: =VLOOKUP(B212,premios!$A$1:$B$100,2,0) -> #N/A
A213: 4226104394292 | B213: 0408030631 | C213: 2279.25 | D213: 20251202 | E213: 20251204 | F213: URGENCIA | G213: 9543856 | H213: Brusque - IMAS | I213: =VLOOKUP(B213,premios!$A$1:$B$100,2,0) -> #N/A
A214: 4226104417821 | B214: 0408040076 | C214: 16359.4 | D214: 20260222 | E214: 20260304 | F214: URGENCIA | G214: 9543856 | H214: Brusque - IMAS | I214: =VLOOKUP(B214,premios!$A$1:$B$100,2,0) -> #N/A

Sheet Planilha1
A1: 202603 | B1: 202602 | C1: 202601 | D1: 202512 | E1: 202511
A2: 4226104323628 | B2: =VLOOKUP(A2,'202602'!$A$1:$A$211,1,0) -> #N/A | C2: =VLOOKUP(A2,'202601'!$A$3:$A$216,1,0) -> #N/A
A3: 4226104334683 | B3: =VLOOKUP(A3,'202602'!$A$1:$A$211,1,0) -> #N/A | C3: =VLOOKUP(A3,'202601'!$A$3:$A$216,1,0) -> #N/A
A4: 4226104343879 | B4: =VLOOKUP(A4,'202602'!$A$1:$A$211,1,0) -> #N/A | C4: =VLOOKUP(A4,'202601'!$A$3:$A$216,1,0) -> #N/A
A5: 4226104344154 | B5: =VLOOKUP(A5,'202602'!$A$1:$A$211,1,0) -> #N/A | C5: =VLOOKUP(A5,'202601'!$A$3:$A$216,1,0) -> #N/A
A6: 4226104350457 | B6: =VLOOKUP(A6,'202602'!$A$1:$A$211,1,0) -> #N/A | C6: =VLOOKUP(A6,'202601'!$A$3:$A$216,1,0) -> #N/A
A7: 4226104386966 | B7: =VLOOKUP(A7,'202602'!$A$1:$A$211,1,0) -> #N/A | C7: =VLOOKUP(A7,'202601'!$A$3:$A$216,1,0) -> #N/A
A8: 4226105249432 | B8: =VLOOKUP(A8,'202602'!$A$1:$A$211,1,0) -> #N/A | C8: =VLOOKUP(A8,'202601'!$A$3:$A$216,1,0) -> #N/A
A9: 4226105253216 | B9: =VLOOKUP(A9,'202602'!$A$1:$A$211,1,0) -> #N/A | C9: =VLOOKUP(A9,'202601'!$A$3:$A$216,1,0) -> #N/A
A10: 4226105253788 | B10: =VLOOKUP(A10,'202602'!$A$1:$A$211,1,0) -> #N/A | C10: =VLOOKUP(A10,'202601'!$A$3:$A$216,1,0) -> #N/A
A11: 4226105256208 | B11: =VLOOKUP(A11,'202602'!$A$1:$A$211,1,0) -> #N/A | C11: =VLOOKUP(A11,'202601'!$A$3:$A$216,1,0) -> #N/A
A12: 4226105256230 | B12: =VLOOKUP(A12,'202602'!$A$1:$A$211,1,0) -> #N/A | C12: =VLOOKUP(A12,'202601'!$A$3:$A$216,1,0) -> #N/A
A13: 4226105259013 | B13: =VLOOKUP(A13,'202602'!$A$1:$A$211,1,0) -> #N/A | C13: =VLOOKUP(A13,'202601'!$A$3:$A$216,1,0) -> #N/A
... A214: 4226107057018 | B214: =VLOOKUP(A214,'202602'!$A$1:$A$211,1,0) -> #N/A | C214: =VLOOKUP(A214,'202601'!$A$3:$A$216,1,0) -> #N/A

Sheet 202604
A1: 4225100608080 | B1: =VLOOKUP(A1,'BD-202603'!$A$2:$A$214,1,0) -> #N/A | C1: =VLOOKUP(A1,'BD-202602'!$A$2:$A$189,1,0) -> #N/A | D1: =VLOOKUP(A1,'BD-202601'!$A$1:$A$198,1,0) -> #N/A
A2: 4225100629850 | B2: =VLOOKUP(A2,'BD-202603'!$A$2:$A$214,1,0) -> #N/A | C2: =VLOOKUP(A2,'BD-202602'!$A$2:$A$189,1,0) -> #N/A | D2: =VLOOKUP(A2,'BD-202601'!$A$1:$A$198,1,0) -> #N/A
A3: 4225100646019 | B3: =VLOOKUP(A3,'BD-202603'!$A$2:$A$214,1,0) -> #N/A | C3: =VLOOKUP(A3,'BD-202602'!$A$2:$A$189,1,0) -> #N/A | D3: =VLOOKUP(A3,'BD-202601'!$A$1:$A$198,1,0) -> #N/A
A4: 4226104613214 | B4: =VLOOKUP(A4,'BD-202603'!$A$2:$A$214,1,0) -> #N/A | C4: =VLOOKUP(A4,'BD-202602'!$A$2:$A$189,1,0) -> #N/A | D4: =VLOOKUP(A4,'BD-202601'!$A$1:$A$198,1,0) -> #N/A
A5: 4226104645081 | B5: =VLOOKUP(A5,'BD-202603'!$A$2:$A$214,1,0) -> #N/A | C5: =VLOOKUP(A5,'BD-202602'!$A$2:$A$189,1,0) -> #N/A | D5: =VLOOKUP(A5,'BD-202601'!$A$1:$A$198,1,0) -> #N/A
A6: 4226104648854 | B6: =VLOOKUP(A6,'BD-202603'!$A$2:$A$214,1,0) -> #N/A | C6: =VLOOKUP(A6,'BD-202602'!$A$2:$A$189,1,0) -> #N/A | D6: =VLOOKUP(A6,'BD-202601'!$A$1:$A$198,1,0) -> #N/A
A7: 4226104655124 | B7: =VLOOKUP(A7,'BD-202603'!$A$2:$A$214,1,0) -> #N/A | C7: =VLOOKUP(A7,'BD-202602'!$A$2:$A$189,1,0) -> #N/A | D7: =VLOOKUP(A7,'BD-202601'!$A$1:$A$198,1,0) -> #N/A
A8: 4226104655179 | B8: =VLOOKUP(A8,'BD-202603'!$A$2:$A$214,1,0) -> #N/A | C8: =VLOOKUP(A8,'BD-202602'!$A$2:$A$189,1,0) -> #N/A | D8: =VLOOKUP(A8,'BD-202601'!$A$1:$A$198,1,0) -> #N/A
A9: 4226104655245 | B9: =VLOOKUP(A9,'BD-202603'!$A$2:$A$214,1,0) -> #N/A | C9: =VLOOKUP(A9,'BD-202602'!$A$2:$A$189,1,0) -> #N/A | D9: =VLOOKUP(A9,'BD-202601'!$A$1:$A$198,1,0) -> #N/A
A10: 4226104658314 | B10: =VLOOKUP(A10,'BD-202603'!$A$2:$A$214,1,0) -> #N/A | C10: =VLOOKUP(A10,'BD-202602'!$A$2:$A$189,1,0) -> #N/A | D10: =VLOOKUP(A10,'BD-202601'!$A$1:$A$198,1,0) -> #N/A
A11: 4226104659216 | B11: =VLOOKUP(A11,'BD-202603'!$A$2:$A$214,1,0) -> #N/A | C11: =VLOOKUP(A11,'BD-202602'!$A$2:$A$189,1,0) -> #N/A | D11: =VLOOKUP(A11,'BD-202601'!$A$1:$A$198,1,0) -> #N/A
A12: 4226104660833 | B12: =VLOOKUP(A12,'BD-202603'!$A$2:$A$214,1,0) -> #N/A | C12: =VLOOKUP(A12,'BD-202602'!$A$2:$A$189,1,0) -> #N/A | D12: =VLOOKUP(A12,'BD-202601'!$A$1:$A$198,1,0) -> #N/A
... A239: 4226107064520 | B239: =VLOOKUP(A239,'BD-202603'!$A$2:$A$214,1,0) -> #N/A | C239: =VLOOKUP(A239,'BD-202602'!$A$2:$A$189,1,0) -> #N/A | D239: =VLOOKUP(A239,'BD-202601'!$A$1:$A$198,1,0) -> #N/A

Sheet BD-202604
A1: N_AIH,C,13 | B1: VAL_TOT,N,14,2 | C1: PROC_REA,C,10 | D1: CAR_INT,C,2 | E1: CNES,C,7 | I1: Hospital SC (CNES) | J1: Freq | K1: Valor AIH | L1: Prêmio Eletivas | M1: Total
A2: 4225100629850 | B2: 10856.61 | C2: 415020034 | D2: Urgencia | E2: 2537788 | I2: 2537788 HOSPITAL REGIONAL DO OESTE | J2: 69 | K2: 739479.18 | L2: 8369.0375 | M2: =SUM(K2:L2) -> 747848.22
A3: 4225100646019 | B3: 10710.61 | C3: 415020034 | D3: Eletivo | E3: 2537788 | I3: 2672839 HOSPITAL DOM JOAQUIM IMAS | J3: 73 | K3: 853180.91 | L3: 22113.798 | M3: =SUM(K3:L3) -> 875294.71
A4: 4226104613214 | B4: 3876.47 | C4: 415020034 | D4: Urgencia | E4: 2537788 | I4: 2758164 HOSPITAL SAO JOSE | J4: 3 | K4: 116859.7 | M4: =SUM(K4:L4) -> 116859.7
A5: 4225100608080 | B5: 6703.55 | C5: 415020034 | D5: Urgencia | E5: 2537788 | I5: 3039250 HOSPITAL SAO MIGUEL IMAS | J5: 80 | K5: 501974.68 | L5: 245800 | M5: =SUM(K5:L5) -> 747774.68
A6: 4226104645081 | B6: 2571.52 | C6: 415020034 | D6: Urgencia | E6: 2537788 | I6: 6048692 HOSPITAL INFANTIL DR JESER AMARANTE FARIA | J6: 9 | K6: 104707.48 | M6: =SUM(K6:L6) -> 104707.48
A7: 4226104648854 | B7: 4758.56 | C7: 406030049 | D7: Urgencia | E7: 2537788 | I7: 9543856 IMIGRANTES HOSPITAL E MATERNIDADE | J7: 4 | K7: 26384.17 | M7: =SUM(K7:L7) -> 26384.17
A8: 4226104655124 | B8: 6528.16 | C8: 406030049 | D8: Urgencia | E8: 2537788 | I8: Total | J8: =SUM(J2:J7) -> 238 | K8: =SUM(K2:K7) -> 2342586.1 | L8: =SUM(L2:L7) -> 276282.84 | M8: =SUM(M2:M7) -> 2618869
A9: 4226104655179 | B9: 6538.85 | C9: 406030049 | D9: Urgencia | E9: 2537788
A10: 4226104655245 | B10: 2644.8 | C10: 406040052 | D10: Urgencia | E10: 2537788
A11: 4226104658314 | B11: 28402.1 | C11: 415020034 | D11: Urgencia | E11: 2537788
A12: 4226104659216 | B12: 5842.81 | C12: 406030030 | D12: Urgencia | E12: 2537788
A13: 4226104660833 | B13: 45843.7 | C13: 415020034 | D13: Urgencia | E13: 2537788
A14: 4226104666840 | B14: 23650.8 | C14: 415010012 | D14: Urgencia | E14: 2537788
A15: 4226104666993 | B15: 10692.3 | C15: 406010650 | D15: Urgencia | E15: 2537788
A16: 4226104670953 | B16: 7702.71 | C16: 415020034 | D16: Urgencia | E16: 2537788
A17: 4226104672196 | B17: 3685.2 | C17: 406050015 | D17: Urgencia | E17: 2537788
A18: 4226104672460 | B18: 21476.84 | C18: 415020034 | D18: Urgencia | E18: 2537788
A19: 4226104673296 | B19: 7698.25 | C19: 406030022 | D19: Urgencia | E19: 2537788
A20: 4226104664122 | B20: 8668.07 | C20: 406010650 | D20: Urgencia | E20: 2537788
... A24: 4226104673736 | B24: 27001.89 | C24: 415020034 | D24: Eletivo | E24: 2537788
A25: 4226104683966 | B25: 3706.82 | C25: 406050015 | D25: Eletivo | E25: 2537788 | F25: =VLOOKUP(C25,premios!$A$1:$B$100,2,0) -> 875.965
A26: 4226104685253 | B26: 7796.05 | C26: 406030049 | D26: Urgencia | E26: 2537788
A27: 4226104687717 | B27: 6101.11 | C27: 406050023 | D27: Eletivo | E27: 2537788 | F27: =VLOOKUP(C27,premios!$A$1:$B$100,2,0) -> 1474.5375
A28: 4226104688608 | B28: 6614.62 | C28: 406030049 | D28: Urgencia | E28: 2537788
A29: 4226104683955 | B29: 6069.05 | C29: 406050040 | D29: Eletivo | E29: 2537788 | F29: =VLOOKUP(C29,premios!$A$1:$B$100,2,0) -> 1466.5225
A30: 4226104692612 | B30: 9424.83 | C30: 406010650 | D30: Urgencia | E30: 2537788
A31: 4226104693481 | B31: 5070.01 | C31: 406030030 | D31: Urgencia | E31: 2537788
A32: 4226104693900 | B32: 22857.66 | C32: 406010935 | D32: Urgencia | E32: 2537788
A33: 4226104698200 | B33: 6133.77 | C33: 406030030 | D33: Urgencia | E33: 2537788
A34: 4226104701676 | B34: 49697.69 | C34: 406010587 | D34: Urgencia | E34: 2537788
A35: 4226104692117 | B35: 8794.73 | C35: 406010650 | D35: Urgencia | E35: 2537788
A36: 4226104704338 | B36: 23587.63 | C36: 406010935 | D36: Urgencia | E36: 2537788
A37: 4226104704371 | B37: 22668.45 | C37: 406030049 | D37: Urgencia | E37: 2537788
A38: 4226104706384 | B38: 7118.35 | C38: 406030049 | D38: Urgencia | E38: 2537788
A39: 4226104706461 | B39: 8652.07 | C39: 406010650 | D39: Urgencia | E39: 2537788
A40: 4226104707044 | B40: 9121.18 | C40: 415020034 | D40: Urgencia | E40: 2537788
A41: 4226104708804 | B41: 2207.41 | C41: 406040052 | D41: Urgencia | E41: 2537788
... A54: 4226104747689 | B54: 9570.14 | C54: 406010650 | D54: Urgencia | E54: 2537788
A55: 4226104749120 | B55: 6069.05 | C55: 406050040 | D55: Eletivo | E55: 2537788 | F55: =VLOOKUP(C55,premios!$A$1:$B$100,2,0) -> 1466.5225
...

Sheet 202605
A1: 4226104784583 | B1: 2411393 | C1: =VLOOKUP(A1,'BD-202604'!$A$1:$A$239,1,0) -> #N/A | D1: =VLOOKUP(A1,'BD-202603'!$A$2:$A$214,1,0) -> #N/A | E1: =VLOOKUP(A1,'BD-202602'!$A$2:$A$189,1,0) -> #N/A | F1: =VLOOKUP(A1,'BD-202601'!$A$1:$A$198,1,0) -> #N/A
A2: 4226104705801 | B2: 2537788 | C2: =VLOOKUP(A2,'BD-202604'!$A$1:$A$239,1,0) -> #N/A | D2: =VLOOKUP(A2,'BD-202603'!$A$2:$A$214,1,0) -> #N/A | E2: =VLOOKUP(A2,'BD-202602'!$A$2:$A$189,1,0) -> #N/A | F2: =VLOOKUP(A2,'BD-202601'!$A$1:$A$198,1,0) -> #N/A
A3: 4226104709739 | C3: =VLOOKUP(A3,'BD-202604'!$A$1:$A$239,1,0) -> #N/A | D3: =VLOOKUP(A3,'BD-202603'!$A$2:$A$214,1,0) -> #N/A | E3: =VLOOKUP(A3,'BD-202602'!$A$2:$A$189,1,0) -> #N/A | F3: =VLOOKUP(A3,'BD-202601'!$A$1:$A$198,1,0) -> #N/A
A4: 4226104714524 | C4: =VLOOKUP(A4,'BD-202604'!$A$1:$A$239,1,0) -> #N/A | D4: =VLOOKUP(A4,'BD-202603'!$A$2:$A$214,1,0) -> #N/A | E4: =VLOOKUP(A4,'BD-202602'!$A$2:$A$189,1,0) -> #N/A | F4: =VLOOKUP(A4,'BD-202601'!$A$1:$A$198,1,0) -> #N/A
A5: 4226104716757 | C5: =VLOOKUP(A5,'BD-202604'!$A$1:$A$239,1,0) -> #N/A | D5: =VLOOKUP(A5,'BD-202603'!$A$2:$A$214,1,0) -> #N/A | E5: =VLOOKUP(A5,'BD-202602'!$A$2:$A$189,1,0) -> #N/A | F5: =VLOOKUP(A5,'BD-202601'!$A$1:$A$198,1,0) -> #N/A
A6: 4226104723027 | C6: =VLOOKUP(A6,'BD-202604'!$A$1:$A$239,1,0) -> #N/A | D6: =VLOOKUP(A6,'BD-202603'!$A$2:$A$214,1,0) -> #N/A | E6: =VLOOKUP(A6,'BD-202602'!$A$2:$A$189,1,0) -> #N/A | F6: =VLOOKUP(A6,'BD-202601'!$A$1:$A$198,1,0) -> #N/A
A7: 4226104724017 | C7: =VLOOKUP(A7,'BD-202604'!$A$1:$A$239,1,0) -> #N/A | D7: =VLOOKUP(A7,'BD-202603'!$A$2:$A$214,1,0) -> #N/A | E7: =VLOOKUP(A7,'BD-202602'!$A$2:$A$189,1,0) -> #N/A | F7: =VLOOKUP(A7,'BD-202601'!$A$1:$A$198,1,0) -> #N/A
A8: 4226104726723 | C8: =VLOOKUP(A8,'BD-202604'!$A$1:$A$239,1,0) -> #N/A | D8: =VLOOKUP(A8,'BD-202603'!$A$2:$A$214,1,0) -> #N/A | E8: =VLOOKUP(A8,'BD-202602'!$A$2:$A$189,1,0) -> #N/A | F8: =VLOOKUP(A8,'BD-202601'!$A$1:$A$198,1,0) -> #N/A
A9: 4226104727010 | C9: =VLOOKUP(A9,'BD-202604'!$A$1:$A$239,1,0) -> #N/A | D9: =VLOOKUP(A9,'BD-202603'!$A$2:$A$214,1,0) -> #N/A | E9: =VLOOKUP(A9,'BD-202602'!$A$2:$A$189,1,0) -> #N/A | F9: =VLOOKUP(A9,'BD-202601'!$A$1:$A$198,1,0) -> #N/A
A10: 4226104739549 | C10: =VLOOKUP(A10,'BD-202604'!$A$1:$A$239,1,0) -> #N/A | D10: =VLOOKUP(A10,'BD-202603'!$A$2:$A$214,1,0) -> #N/A | E10: =VLOOKUP(A10,'BD-202602'!$A$2:$A$189,1,0) -> #N/A | F10: =VLOOKUP(A10,'BD-202601'!$A$1:$A$198,1,0) -> #N/A
A11: 4226104741155 | C11: =VLOOKUP(A11,'BD-202604'!$A$1:$A$239,1,0) -> #N/A | D11: =VLOOKUP(A11,'BD-202603'!$A$2:$A$214,1,0) -> #N/A | E11: =VLOOKUP(A11,'BD-202602'!$A$2:$A$189,1,0) -> #N/A | F11: =VLOOKUP(A11,'BD-202601'!$A$1:$A$198,1,0) -> #N/A
A12: 4226104744500 | C12: =VLOOKUP(A12,'BD-202604'!$A$1:$A$239,1,0) -> #N/A | D12: =VLOOKUP(A12,'BD-202603'!$A$2:$A$214,1,0) -> #N/A | E12: =VLOOKUP(A12,'BD-202602'!$A$2:$A$189,1,0) -> #N/A | F12: =VLOOKUP(A12,'BD-202601'!$A$1:$A$198,1,0) -> #N/A
A13: 4226104749163 | C13: =VLOOKUP(A13,'BD-202604'!$A$1:$A$239,1,0) -> #N/A | D13: =VLOOKUP(A13,'BD-202603'!$A$2:$A$214,1,0) -> #N/A | E13: =VLOOKUP(A13,'BD-202602'!$A$2:$A$189,1,0) -> #N/A | F13: =VLOOKUP(A13,'BD-202601'!$A$1:$A$198,1,0) -> #N/A
A14: 4226104749328 | C14: =VLOOKUP(A14,'BD-202604'!$A$1:$A$239,1,0) -> #N/A | D14: =VLOOKUP(A14,'BD-202603'!$A$2:$A$214,1,0) -> #N/A | E14: =VLOOKUP(A14,'BD-202602'!$A$2:$A$189,1,0) -> #N/A | F14: =VLOOKUP(A14,'BD-202601'!$A$1:$A$198,1,0) -> #N/A
... A44: 4226104855291 | C44: =VLOOKUP(A44,'BD-202604'!$A$1:$A$239,1,0) -> #N/A | D44: =VLOOKUP(A44,'BD-202603'!$A$2:$A$214,1,0) -> #N/A | E44: =VLOOKUP(A44,'BD-202602'!$A$2:$A$189,1,0) -> #N/A | F44: =VLOOKUP(A44,'BD-202601'!$A$1:$A$198,1,0) -> #N/A
A45: 4226104369400 | B45: 2672839 | C45: =VLOOKUP(A45,'BD-202604'!$A$1:$A$239,1,0) -> #N/A | D45: =VLOOKUP(A45,'BD-202603'!$A$2:$A$214,1,0) -> #N/A | E45: =VLOOKUP(A45,'BD-202602'!$A$2:$A$189,1,0) -> #N/A | F45: =VLOOKUP(A45,'BD-202601'!$A$1:$A$198,1,0) -> #N/A
A46: 4226105299834 | C46: =VLOOKUP(A46,'BD-202604'!$A$1:$A$239,1,0) -> #N/A | D46: =VLOOKUP(A46,'BD-202603'!$A$2:$A$214,1,0) -> #N/A | E46: =VLOOKUP(A46,'BD-202602'!$A$2:$A$189,1,0) -> #N/A | F46: =VLOOKUP(A46,'BD-202601'!$A$1:$A$198,1,0) -> #N/A
A47: 4226105303112 | C47: =VLOOKUP(A47,'BD-202604'!$A$1:$A$239,1,0) -> #N/A | D47: =VLOOKUP(A47,'BD-202603'!$A$2:$A$214,1,0) -> #N/A | E47: =VLOOKUP(A47,'BD-202602'!$A$2:$A$189,1,0) -> #N/A | F47: =VLOOKUP(A47,'BD-202601'!$A$1:$A$198,1,0) -> #N/A
A48: 4226105387120 | C48: =VLOOKUP(A48,'BD-202604'!$A$1:$A$239,1,0) -> #N/A | D48: =VLOOKUP(A48,'BD-202603'!$A$2:$A$214,1,0) -> #N/A | E48: =VLOOKUP(A48,'BD-202602'!$A$2:$A$189,1,0) -> #N/A | F48: =VLOOKUP(A48,'BD-202601'!$A$1:$A$198,1,0) -> #N/A
A49: 4226105389880 | C49: =VLOOKUP(A49,'BD-202604'!$A$1:$A$239,1,0) -> #N/A | D49: =VLOOKUP(A49,'BD-202603'!$A$2:$A$214,1,0) -> #N/A | E49: =VLOOKUP(A49,'BD-202602'!$A$2:$A$189,1,0) -> #N/A | F49: =VLOOKUP(A49,'BD-202601'!$A$1:$A$198,1,0) -> #N/A
A50: 4226105389913 | C50: =VLOOKUP(A50,'BD-202604'!$A$1:$A$239,1,0) -> #N/A | D50: =VLOOKUP(A50,'BD-202603'!$A$2:$A$214,1,0) -> #N/A | E50: =VLOOKUP(A50,'BD-202602'!$A$2:$A$189,1,0) -> #N/A | F50: =VLOOKUP(A50,'BD-202601'!$A$1:$A$198,1,0) -> #N/A
A51: 4226105390111 | C51: =VLOOKUP(A51,'BD-202604'!$A$1:$A$239,1,0) -> #N/A | D51: =VLOOKUP(A51,'BD-202603'!$A$2:$A$214,1,0) -> #N/A | E51: =VLOOKUP(A51,'BD-202602'!$A$2:$A$189,1,0) -> #N/A | F51: =VLOOKUP(A51,'BD-202601'!$A$1:$A$198,1,0) -> #N/A
A52: 4226105390628 | C52: =VLOOKUP(A52,'BD-202604'!$A$1:$A$239,1,0) -> #N/A | D52: =VLOOKUP(A52,'BD-202603'!$A$2:$A$214,1,0) -> #N/A | E52: =VLOOKUP(A52,'BD-202602'!$A$2:$A$189,1,0) -> #N/A | F52: =VLOOKUP(A52,'BD-202601'!$A$1:$A$198,1,0) -> #N/A
A53: 4226105391530 | C53: =VLOOKUP(A53,'BD-202604'!$A$1:$A$239,1,0) -> #N/A | D53: =VLOOKUP(A53,'BD-202603'!$A$2:$A$214,1,0) -> #N/A | E53: =VLOOKUP(A53,'BD-202602'!$A$2:$A$189,1,0) -> #N/A | F53: =VLOOKUP(A53,'BD-202601'!$A$1:$A$198,1,0) -> #N/A
A54: 4226105393280 | C54: =VLOOKUP(A54,'BD-202604'!$A$1:$A$239,1,0) -> #N/A | D54: =VLOOKUP(A54,'BD-202603'!$A$2:$A$214,1,0) -> #N/A | E54: =VLOOKUP(A54,'BD-202602'!$A$2:$A$189,1,0) -> #N/A | F54: =VLOOKUP(A54,'BD-202601'!$A$1:$A$198,1,0) -> #N/A
A55: 4226105412452 | C55: =VLOOKUP(A55,'BD-202604'!$A$1:$A$239,1,0) -> #N/A | D55: =VLOOKUP(A55,'BD-202603'!$A$2:$A$214,1,0) -> #N/A | E55: =VLOOKUP(A55,'BD-202602'!$A$2:$A$189,1,0) -> #N/A | F55: =VLOOKUP(A55,'BD-202601'!$A$1:$A$198,1,0) -> #N/A
A56: 4226105412463 | C56: =VLOOKUP(A56,'BD-202604'!$A$1:$A$239,1,0) -> #N/A | D56: =VLOOKUP(A56,'BD-202603'!$A$2:$A$214,1,0) -> #N/A | E56: =VLOOKUP(A56,'BD-202602'!$A$2:$A$189,1,0) -> #N/A | F56: =VLOOKUP(A56,'BD-202601'!$A$1:$A$198,1,0) -> #N/A
A57: 4226105412980 | C57: =VLOOKUP(A57,'BD-202604'!$A$1:$A$239,1,0) -> #N/A | D57: =VLOOKUP(A57,'BD-202603'!$A$2:$A$214,1,0) -> #N/A | E57: =VLOOKUP(A57,'BD-202602'!$A$2:$A$189,1,0) -> #N/A | F57: =VLOOKUP(A57,'BD-202601'!$A$1:$A$198,1,0) -> #N/A
... A109: 4226105476395 | C109: =VLOOKUP(A109,'BD-202604'!$A$1:$A$239,1,0) -> #N/A | D109: =VLOOKUP(A109,'BD-202603'!$A$2:$A$214,1,0) -> #N/A | E109: =VLOOKUP(A109,'BD-202602'!$A$2:$A$189,1,0) -> #N/A | F109: =VLOOKUP(A109,'BD-202601'!$A$1:$A$198,1,0) -> #N/A
A110: 4226102924373 | B110: 3039250 | C110: =VLOOKUP(A110,'BD-202604'!$A$1:$A$239,1,0) -> #N/A | D110: =VLOOKUP(A110,'BD-202603'!$A$2:$A$214,1,0) -> #N/A | E110: =VLOOKUP(A110,'BD-202602'!$A$2:$A$189,1,0) -> #N/A | F110: =VLOOKUP(A110,'BD-202601'!$A$1:$A$198,1,0) -> #N/A
A111: 4226102947814 | C111: =VLOOKUP(A111,'BD-202604'!$A$1:$A$239,1,0) -> #N/A | D111: =VLOOKUP(A111,'BD-202603'!$A$2:$A$214,1,0) -> #N/A | E111: =VLOOKUP(A111,'BD-202602'!$A$2:$A$189,1,0) -> #N/A | F111: =VLOOKUP(A111,'BD-202601'!$A$1:$A$198,1,0) -> #N/A
A112: 4226102947870 | C112: =VLOOKUP(A112,'BD-202604'!$A$1:$A$239,1,0) -> #N/A | D112: =VLOOKUP(A112,'BD-202603'!$A$2:$A$214,1,0) -> #N/A | E112: =VLOOKUP(A112,'BD-202602'!$A$2:$A$189,1,0) -> #N/A | F112: =VLOOKUP(A112,'BD-202601'!$A$1:$A$198,1,0) -> #N/A
A113: 4226102947880 | C113: =VLOOKUP(A113,'BD-202604'!$A$1:$A$239,1,0) -> #N/A | D113: =VLOOKUP(A113,'BD-202603'!$A$2:$A$214,1,0) -> #N/A | E113: =VLOOKUP(A113,'BD-202602'!$A$2:$A$189,1,0) -> #N/A | F113: =VLOOKUP(A113,'BD-202601'!$A$1:$A$198,1,0) -> #N/A
A114: 4226102947891 | C114: =VLOOKUP(A114,'BD-202604'!$A$1:$A$239,1,0) -> #N/A | D114: =VLOOKUP(A114,'BD-202603'!$A$2:$A$214,1,0) -> #N/A | E114: =VLOOKUP(A114,'BD-202602'!$A$2:$A$189,1,0) -> #N/A | F114: =VLOOKUP(A114,'BD-202601'!$A$1:$A$198,1,0) -> #N/A
A115: 4226102947902 | C115: =VLOOKUP(A115,'BD-202604'!$A$1:$A$239,1,0) -> #N/A | D115: =VLOOKUP(A115,'BD-202603'!$A$2:$A$214,1,0) -> #N/A | E115: =VLOOKUP(A115,'BD-202602'!$A$2:$A$189,1,0) -> #N/A | F115: =VLOOKUP(A115,'BD-202601'!$A$1:$A$198,1,0) -> #N/A
A116: 4226102947913 | C116: =VLOOKUP(A116,'BD-202604'!$A$1:$A$239,1,0) -> #N/A | D116: =VLOOKUP(A116,'BD-202603'!$A$2:$A$214,1,0) -> #N/A | E116: =VLOOKUP(A116,'BD-202602'!$A$2:$A$189,1,0) -> #N/A | F116: =VLOOKUP(A116,'BD-202601'!$A$1:$A$198,1,0) -> #N/A
A117: 4226102947946 | C117: =VLOOKUP(A117,'BD-202604'!$A$1:$A$239,1,0) -> #N/A | D117: =VLOOKUP(A117,'BD-202603'!$A$2:$A$214,1,0) -> #N/A | E117: =VLOOKUP(A117,'BD-202602'!$A$2:$A$189,1,0) -> #N/A | F117: =VLOOKUP(A117,'BD-202601'!$A$1:$A$198,1,0) -> #N/A
A118: 4226102947748 | C118: =VLOOKUP(A118,'BD-202604'!$A$1:$A$239,1,0) -> #N/A | D118: =VLOOKUP(A118,'BD-202603'!$A$2:$A$214,1,0) -> #N/A | E118: =VLOOKUP(A118,'BD-202602'!$A$2:$A$189,1,0) -> #N/A | F118: =VLOOKUP(A118,'BD-202601'!$A$1:$A$198,1,0) -> #N/A
A119: 4226102947979 | C119: =VLOOKUP(A119,'BD-202604'!$A$1:$A$239,1,0) -> #N/A | D119: =VLOOKUP(A119,'BD-202603'!$A$2:$A$214,1,0) -> #N/A | E119: =VLOOKUP(A119,'BD-202602'!$A$2:$A$189,1,0) -> #N/A | F119: =VLOOKUP(A119,'BD-202601'!$A$1:$A$198,1,0) -> #N/A
A120: 4226102947990 | C120: =VLOOKUP(A120,'BD-202604'!$A$1:$A$239,1,0) -> #N/A | D120: =VLOOKUP(A120,'BD-202603'!$A$2:$A$214,1,0) -> #N/A | E120: =VLOOKUP(A120,'BD-202602'!$A$2:$A$189,1,0) -> #N/A | F120: =VLOOKUP(A120,'BD-202601'!$A$1:$A$198,1,0) -> #N/A
...

Sheet BD-202605
A1: N_AIH,C,13 | B1: VAL_TOT,N,14,2 | C1: PROC_REA,C,10 | D1: CAR_INT,C,2 | E1: CNES,C,7 | L1: Hospital SC (CNES) | M1: Freq | N1: Valor AIH | O1: Prêmio Eletivas | P1: Total
A2: 4226104784583 | B2: 58465.94 | C2: 406030162 | D2: URGENCIA | E2: 2411393 | L2: 2411393 HOSPITAL REGIONAL SAO PAULO ASSEC | M2: 1 | N2: 58465.94 | P2: =SUM(N2:O2) -> 58465.94
A3: 4226104705801 | B3: 3427.73 | C3: 415020034 | D3: URGENCIA | E3: 2537788 | L3: 2537788 HOSPITAL REGIONAL DO OESTE | M3: 43 | N3: 509374.47 | O3: =SUM(F3:F45) -> 6323.425 | P3: =SUM(N3:O3) -> 515697.9
A4: 4226104709739 | B4: 7344.89 | C4: 406030022 | D4: URGENCIA | E4: 2537788 | L4: 2672839 HOSPITAL DOM JOAQUIM IMAS | M4: 65 | N4: 733237.69 | O4: =SUM(F71:F76,F86:F88) -> 14084.458 | P4: =SUM(N4:O4) -> 747322.15
A5: 4226104714524 | B5: 8684.07 | C5: 406010650 | D5: URGENCIA | E5: 2537788 | L5: 2691841 HOSPITAL GOVERNADOR CELSO RAMOS | M5: 1 | N5: 1688.52 | P5: =SUM(N5:O5) -> 1688.52
A6: 4226104716757 | B6: 64084.05 | C6: 415010012 | D6: URGENCIA | E6: 2537788 | L6: 3039250 HOSPITAL SAO MIGUEL IMAS | M6: 66 | N6: 413737.59 | O6: =SUM(F112:F177) -> 202785 | P6: =SUM(N6:O6) -> 616522.59
A7: 4226104723027 | B7: 5145.87 | C7: 406030030 | D7: URGENCIA | E7: 2537788 | L7: 6048692 HOSPITAL INFANTIL DR JESER AMARANTE FARIA | M7: 13 | N7: 142748.15 | O7: =SUM(F181:F182) -> 2891.56 | P7: =SUM(N7:O7) -> 145639.71
A8: 4226104724017 | B8: 13004.4 | C8: 415020034 | D8: URGENCIA | E8: 2537788 | L8: 9543856 IMIGRANTES HOSPITAL E MATERNIDADE | M8: 1 | N8: 1162.84 | P8: =SUM(N8:O8) -> 1162.84
A9: 4226104726723 | B9: 17485.81 | C9: 415020034 | D9: URGENCIA | E9: 2537788 | L9: Total | M9: 190 | N9: 1860415.2 | O9: =SUM(O2:O8) -> 226084.44 | P9: =SUM(N9:O9) -> 2086499.6
A10: 4226104727010 | B10: 48936.72 | C10: 415020034 | D10: URGENCIA | E10: 2537788
A11: 4226104741155 | B11: 6674.16 | C11: 406030049 | D11: URGENCIA | E11: 2537788
A12: 4226104744500 | B12: 2220.56 | C12: 406040052 | D12: URGENCIA | E12: 2537788
A13: 4226104739549 | B13: 11363.37 | C13: 415020034 | D13: URGENCIA | E13: 2537788
A14: 4226104749328 | B14: 8805.5 | C14: 406050104 | D14: ELETIVO | E14: 2537788 | F14: =VLOOKUP(C14,premios!$A$1:$B$100,2,0) -> 1618.9675
A15: 4226104749559 | B15: 3521.56 | C15: 415020034 | D15: ELETIVO | E15: 2537788
A16: 4226104753376 | B16: 5860.99 | C16: 415020034 | D16: URGENCIA | E16: 2537788
