Workbook

Sheet premios
A1: 406050015 | B1: 875.965
A2: 406050023 | B2: 1474.5375
A3: 406050031 | B3: 1492.3125
A4: 406050040 | B4: 1466.5225
A5: 406050058 | B5: 1486.97
A6: 406050066 | B6: 1445.78
A7: 406050074 | B7: 2059.2325
A8: 406050082 | B8: 2142.0225
A9: 406050090 | B9: 2297.74
A10: 406050104 | B10: 1618.9675
A11: 406050112 | B11: 1886.14
A12: 406050120 | B12: 1560.4825
... A100: 407040226 | B100: 764.38

Sheet 202511
A1: Habilitação Estadual - verificar se AIH já foi paga em meses anteriores
A2: CNES | B2: AIH
A3: 2302500 | B3: Não tem
A4: 2379333 | B4: 4225104540558 | C4: 46420.03 | D4: Eletivo | E4: 406010587
A5: 2411393 | B5: 4225100527285 | C5: 23758.93 | D5: Eletivo | E5: 406010633 | F5: =SUM(C5:C11) -> 277798.32
B6: 4225100536790 | C6: 23758.93 | D6: Eletivo | E6: 406010633
B7: 4225100548450 | C7: 23758.93 | D7: Eletivo | E7: 406010633
B8: 4225100555665 | C8: 59208.1 | D8: urg
B9: 4225100561517 | C9: 46428.03 | D9: urg
B10: 4225100570955 | C10: 47298.73 | D10: urg
B11: 4225106558112 | C11: 53586.67 | D11: Eletivo | E11: 406010595
A12: 2420015 | B12: Não tem
A13: 2436450 | B13: Não tem
A14: 2537192 | B14: Não tem
A15: 2537788 | B15: 4225100522775 | C15: 5868.21 | D15: urg | F15: =SUM(C15:C46) -> 472428.91
B16: 4225100527538 | C16: 11314.73 | D16: urg
B17: 4225103499640 | C17: Já foi pago em mês anterior
B18: 4225103537567 | C18: 39863.25 | D18: urg
B19: 4225103614611 | C19: 22593.63 | D19: urg
B20: 4225103620386 | C20: 10533.05 | D20: urg
B21: 4225103620485 | C21: 8813.14 | D21: urg
B22: 4225103620573 | C22: 12164.51 | D22: urg
B23: 4225103623961 | C23: 21380.49 | D23: urg
B24: 4225103634092 | C24: 21908.06 | D24: urg
B25: 4225103634455 | C25: 3381.83 | D25: urg
B26: 4225103641627 | C26: 58228.48 | D26: urg
B27: 4225103639988 | C27: 4412.29 | D27: Eletivo | E27: 406030049
B28: 4225103642518 | C28: 2761.24 | D28: urg
B29: 4225103642530 | C29: 6186.38 | D29: urg
B30: 4225103643244 | C30: 6575.71 | D30: urg
B31: 4225103644510 | C31: 8652.07 | D31: Eletivo | E31: 406010650
B32: 4225103651505 | C32: 22322.6 | D32: urg
B33: 4225103653320 | C33: 2709.99 | D33: urg
B34: 4225103656598 | C34: 2301.57 | D34: urg
B35: 4225103659040 | C35: 19194.73 | D35: urg
B36: 4225103659194 | C36: 4041.21 | D36: urg
B37: 4225103659337 | C37: 47238.89 | D37: Eletivo | E37: 406010587
B38: 4225105875420 | C38: 6994.18 | D38: urg
B39: 4225106531965 | C39: 36867.02 | D39: urg
B40: 4225106538048 | C40: 3493.22 | D40: urg
B41: 4225106538301 | C41: 8820.75 | D41: urg
B42: 4225106546353 | C42: 6544.35 | D42: urg
B43: 4225106548707 | C43: 6141.86 | D43: urg
B44: 4225106555880 | C44: 6931.49 | D44: urg
B45: 4225106557210 | C45: 7769.95 | D45: urg
B46: 4225106558915 | C46: 46420.03 | D46: urg
A48: 2543044 | B48: 4225104467310 | C48: verificar duplicidade
B49: 4225104483468 | C49: verificar duplicidade
B50: 4225104484073 | C50: verificar duplicidade
A52: 2560771 | B52: 4225104000326 | C52: 14367.07 | D52: urg
A54: 2672839 | B54: 4225105517006 | C54: 55120.55 | D54: eletivo | E54: 406010951 | F54: =IFERROR(VLOOKUP(E54,premios!$A$1:$B$13,2,0)," ") | G54: =SUM(C54:C120) -> 701722.24 | H54: =SUM(F54:F120) -> 9311.9925 | I54: =SUM(G54:H54) -> 711034.23
B55: 4225105532692 | C55: 27363.77 | D55: urg | F55: =IFERROR(VLOOKUP(E55,premios!$A$1:$B$13,2,0)," ")
B56: 4225105581213 | C56: 6124.26 | D56: eletivo | E56: 406050023 | F56: =IFERROR(VLOOKUP(E56,premios!$A$1:$B$13,2,0)," ") -> 1474.5375
B57: 4225105581246 | C57: 6285.76 | D57: eletivo | E57: 406030030 | F57: =IFERROR(VLOOKUP(E57,premios!$A$1:$B$13,2,0)," ")
B58: 4225105591300 | C58: 7575.48 | D58: urg | F58: =IFERROR(VLOOKUP(E58,premios!$A$1:$B$13,2,0)," ")
B59: 4225105607162 | C59: 9992.66 | D59: urg | F59: =IFERROR(VLOOKUP(E59,premios!$A$1:$B$13,2,0)," ")
B60: 4225105607228 | C60: 8283.96 | D60: urg | F60: =IFERROR(VLOOKUP(E60,premios!$A$1:$B$13,2,0)," ")
B61: 4225105610100 | C61: 656.72 | D61: urg | F61: =IFERROR(VLOOKUP(E61,premios!$A$1:$B$13,2,0)," ")
B62: 4225105610165 | C62: 5657 | D62: urg | F62: =IFERROR(VLOOKUP(E62,premios!$A$1:$B$13,2,0)," ")
B63: 4225105610231 | C63: 3721.97 | D63: urg | F63: =IFERROR(VLOOKUP(E63,premios!$A$1:$B$13,2,0)," ")
B64: 4225106002051 | C64: 5207.23 | D64: urg | F64: =IFERROR(VLOOKUP(E64,premios!$A$1:$B$13,2,0)," ")
B65: 4225106010290 | C65: 8266.25 | D65: urg | F65: =IFERROR(VLOOKUP(E65,premios!$A$1:$B$13,2,0)," ")
B66: 4225106010774 | C66: 8294.3 | D66: urg | F66: =IFERROR(VLOOKUP(E66,premios!$A$1:$B$13,2,0)," ")
B67: 4225106012457 | C67: 7066.25 | D67: urg | F67: =IFERROR(VLOOKUP(E67,premios!$A$1:$B$13,2,0)," ")
B68: 4225106012512 | C68: 7703.3 | D68: urg | F68: =IFERROR(VLOOKUP(E68,premios!$A$1:$B$13,2,0)," ")
B69: 4225106014547 | C69: 6077.05 | D69: eletivo | E69: 406050040 | F69: =IFERROR(VLOOKUP(E69,premios!$A$1:$B$24,2,0)," ") -> 1466.5225
B70: 4225106016000 | C70: 3616.49 | D70: eletivo | E70: 406050015 | F70: =IFERROR(VLOOKUP(E70,premios!$A$1:$B$24,2,0)," ") -> 875.965
B71: 4225106016021 | C71: 6591.72 | D71: eletivo | E71: 406010676 | F71: =IFERROR(VLOOKUP(E71,premios!$A$1:$B$24,2,0)," ")
B72: 4225106016032 | C72: 6591.72 | D72: eletivo | E72: 406010676 | F72: =IFERROR(VLOOKUP(E72,premios!$A$1:$B$24,2,0)," ")
B73: 4225106017011 | C73: 9074.01 | F73: =IFERROR(VLOOKUP(E73,premios!$A$1:$B$24,2,0)," ")
B74: 4225106017022 | C74: 2625.03 | F74: =IFERROR(VLOOKUP(E74,premios!$A$1:$B$24,2,0)," ")
B75: 4225106018144 | C75: 12682.44 | F75: =IFERROR(VLOOKUP(E75,premios!$A$1:$B$24,2,0)," ")
B76: 4225106020751 | C76: 11860.64 | F76: =IFERROR(VLOOKUP(E76,premios!$A$1:$B$24,2,0)," ")
B77: 4225106020817 | C77: 8112.5 | F77: =IFERROR(VLOOKUP(E77,premios!$A$1:$B$24,2,0)," ")
B78: 4225106021983 | C78: 7671.55 | F78: =IFERROR(VLOOKUP(E78,premios!$A$1:$B$24,2,0)," ")
B79: 4225106023501 | C79: 10502.87 | F79: =IFERROR(VLOOKUP(E79,premios!$A$1:$B$24,2,0)," ")
B80: 4225106028176 | C80: 11518.26 | F80: =IFERROR(VLOOKUP(E80,premios!$A$1:$B$24,2,0)," ")
B81: 4225106028209 | C81: 5679.41 | F81: =IFERROR(VLOOKUP(E81,premios!$A$1:$B$24,2,0)," ")
B82: 4225106028210 | C82: 6879.41 | F82: =IFERROR(VLOOKUP(E82,premios!$A$1:$B$24,2,0)," ")
B83: 4225106030398 | C83: 6879.41 | F83: =IFERROR(VLOOKUP(E83,premios!$A$1:$B$24,2,0)," ")
B84: 4225106031300 | C84: 10028.89 | F84: =IFERROR(VLOOKUP(E84,premios!$A$1:$B$24,2,0)," ")
B85: 4225106031366 | C85: 6279.41 | D85: eletivo | E85: 406030030 | F85: =IFERROR(VLOOKUP(E85,premios!$A$1:$B$24,2,0)," ")
B86: 4225106032114 | C86: 9871.12 | F86: =IFERROR(VLOOKUP(E86,premios!$A$1:$B$24,2,0)," ")
B87: 4225106032356 | C87: 13264.77 | F87: =IFERROR(VLOOKUP(E87,premios!$A$1:$B$24,2,0)," ")
B88: 4225106032367 | C88: 6061.05 | D88: eletivo | E88: 406050040 | F88: =IFERROR(VLOOKUP(E88,premios!$A$1:$B$24,2,0)," ") -> 1466.5225
B89: 4225106035854 | C89: 7052.21 | D89: eletivo | E89: 406030030 | F89: =IFERROR(VLOOKUP(E89,premios!$A$1:$B$24,2,0)," ")
B90: 4225106036195 | C90: 9416.19 | F90: =IFERROR(VLOOKUP(E90,premios!$A$1:$B$24,2,0)," ")
B91: 4225106036283 | C91: 6917.51 | F91: =IFERROR(VLOOKUP(E91,premios!$A$1:$B$24,2,0)," ")
B92: 4225106036294 | C92: 5054.01 | F92: =IFERROR(VLOOKUP(E92,premios!$A$1:$B$24,2,0)," ")
B93: 4225106037780 | C93: 8294.56 | F93: =IFERROR(VLOOKUP(E93,premios!$A$1:$B$24,2,0)," ")
B94: 4225106037812 | C94: 22417.47 | F94: =IFERROR(VLOOKUP(E94,premios!$A$1:$B$24,2,0)," ")
B95: 4225106040540 | C95: 28154.83 | D95: eletivo | E95: 406010811 | F95: =IFERROR(VLOOKUP(E95,premios!$A$1:$B$24,2,0)," ")
B96: 4225106041332 | C96: 9206.05 | F96: =IFERROR(VLOOKUP(E96,premios!$A$1:$B$24,2,0)," ")
B97: 4225106041376 | C97: 10325.1 | F97: =IFERROR(VLOOKUP(E97,premios!$A$1:$B$24,2,0)," ")
B98: 4225106042267 | C98: 8258.56 | F98: =IFERROR(VLOOKUP(E98,premios!$A$1:$B$24,2,0)," ")
B99: 4225106042927 | C99: 2065.02 | F99: =IFERROR(VLOOKUP(E99,premios!$A$1:$B$24,2,0)," ")
B100: 4225106043895 | C100: 8693.41 | F100: =IFERROR(VLOOKUP(E100,premios!$A$1:$B$24,2,0)," ")
B101: 4225106044170 | C101: 6069.05 | F101: =IFERROR(VLOOKUP(E101,premios!$A$1:$B$24,2,0)," ")
B102: 4225106046172 | C102: 10515.57 | F102: =IFERROR(VLOOKUP(E102,premios!$A$1:$B$24,2,0)," ")
B103: 4225106050022 | C103: 18505.52 | D103: eletivo | E103: 406010692 | F103: =IFERROR(VLOOKUP(E103,premios!$A$1:$B$24,2,0)," ")
...

Sheet 202512
A1: CNES / AIH | B1: PROCED | C1: VALOR AIH | D1: Busca mês anterior | G1: Carater atend | H1: Prêmio Tabela Catarinense
A2: 2411393 | B2: Xanxere HRSPA
A3: 4225100593384 | B3: 406010609 | C3: 58076.27 | D3: =VLOOKUP(A3,'202511'!$B$3:$B$175,1,0) -> #N/A | G3: =VLOOKUP(A3,'BD-202512'!$A$2:$E$156,5,0) -> Eletivo
A5: 2537788 | B5: HRO | C5: =SUM(C6:C41) -> 548532.16
A6: 4225100523567 | B6: 406010820 | C6: 25250.24 | D6: =VLOOKUP(A6,'202511'!$B$3:$B$175,1,0) -> #N/A | G6: =VLOOKUP(A6,'BD-202512'!$A$2:$E$156,5,0) -> Urgência
A7: 4225100524359 | B7: 406010650 | C7: 8688.77 | D7: =VLOOKUP(A7,'202511'!$B$3:$B$175,1,0) -> #N/A | G7: =VLOOKUP(A7,'BD-202512'!$A$2:$E$156,5,0) -> Urgência
A8: 4225100525877 | B8: 406010935 | C8: 20786.66 | D8: =VLOOKUP(A8,'202511'!$B$3:$B$175,1,0) -> #N/A | G8: =VLOOKUP(A8,'BD-202512'!$A$2:$E$156,5,0) -> Urgência
A9: 4225100527791 | B9: 406040052 | C9: 2080.71 | D9: =VLOOKUP(A9,'202511'!$B$3:$B$175,1,0) -> #N/A | G9: =VLOOKUP(A9,'BD-202512'!$A$2:$E$156,5,0) -> Urgência
A10: 4225100530717 | B10: 406030049 | C10: 9197.55 | D10: =VLOOKUP(A10,'202511'!$B$3:$B$175,1,0) -> #N/A | G10: =VLOOKUP(A10,'BD-202512'!$A$2:$E$156,5,0) -> Urgência
A11: 4225100542366 | B11: 406020302 | C11: 5166.45 | D11: =VLOOKUP(A11,'202511'!$B$3:$B$175,1,0) -> #N/A | G11: =VLOOKUP(A11,'BD-202512'!$A$2:$E$156,5,0) -> Urgência
A12: 4225100548185 | B12: 406010935 | C12: 22695.84 | D12: =VLOOKUP(A12,'202511'!$B$3:$B$175,1,0) -> #N/A | G12: =VLOOKUP(A12,'BD-202512'!$A$2:$E$156,5,0) -> Urgência
A13: 4225100571252 | B13: 406040052 | C13: 2307.77 | D13: =VLOOKUP(A13,'202511'!$B$3:$B$175,1,0) -> #N/A | G13: =VLOOKUP(A13,'BD-202512'!$A$2:$E$156,5,0) -> Urgência
A14: 4225100572682 | B14: 406040052 | C14: 2260.17 | D14: =VLOOKUP(A14,'202511'!$B$3:$B$175,1,0) -> #N/A | G14: =VLOOKUP(A14,'BD-202512'!$A$2:$E$156,5,0) -> Urgência
A15: 4225100573760 | B15: 415020034 | C15: 4343.9 | D15: =VLOOKUP(A15,'202511'!$B$3:$B$175,1,0) -> #N/A | G15: =VLOOKUP(A15,'BD-202512'!$A$2:$E$156,5,0) -> Urgência
A16: 4225100580899 | B16: 415020034 | C16: 7789.79 | D16: =VLOOKUP(A16,'202511'!$B$3:$B$175,1,0) -> #N/A | G16: =VLOOKUP(A16,'BD-202512'!$A$2:$E$156,5,0) -> Eletivo
A17: 4225103613852 | B17: 406030049 | C17: 4779.77 | D17: =VLOOKUP(A17,'202511'!$B$3:$B$175,1,0) -> #N/A | G17: =VLOOKUP(A17,'BD-202512'!$A$2:$E$156,5,0) -> Urgência
... A41: 4225106565372 | B41: 415020034 | C41: 11068.32 | D41: =VLOOKUP(A41,'202511'!$B$3:$B$175,1,0) -> #N/A | G41: =VLOOKUP(A41,'BD-202512'!$A$2:$E$156,5,0) -> Urgência
A43: 2543044 | B43: Porto Uniao | C43: =SUM(C44:C47) -> 3230.99
A44: 4225104467310 | B44: 408040254 | D44: =VLOOKUP(A44,'202511'!$B$3:$B$175,1,0) -> 4225104467310 | F44: duplicada | G44: =VLOOKUP(A44,'BD-202512'!$A$2:$E$156,5,0) -> Urgência
A45: 4225104483468 | B45: 415030013 | D45: =VLOOKUP(A45,'202511'!$B$3:$B$175,1,0) -> 4225104483468 | E45: 408040076 | F45: duplicada | G45: =VLOOKUP(A45,'BD-202512'!$A$2:$E$156,5,0) -> Urgência
A46: 4225104484073 | B46: 408040254 | D46: =VLOOKUP(A46,'202511'!$B$3:$B$175,1,0) -> 4225104484073 | F46: duplicada | G46: =VLOOKUP(A46,'BD-202512'!$A$2:$E$156,5,0) -> Urgência
A47: 4225501391474 | B47: 415010012 | C47: 3230.99 | D47: =VLOOKUP(A47,'202511'!$B$3:$B$175,1,0) -> #N/A | E47: 408040327 | F47: duplicada | G47: =VLOOKUP(A47,'BD-202512'!$A$2:$E$156,5,0) -> Eletivo
A49: 2560771 | B49: HUST | C49: =SUM(C50:C52) -> 32543.94
A50: 4225104024757 | B50: 408050063 | C50: 10938.39 | D50: =VLOOKUP(A50,'202511'!$B$3:$B$175,1,0) -> #N/A | G50: =VLOOKUP(A50,'BD-202512'!$A$2:$E$156,5,0) -> Eletivo | H50: =VLOOKUP(B50,premios!$A$1:$B$100,2,0) -> #N/A
A51: 4225104024768 | B51: 408050063 | C51: 10911.17 | D51: =VLOOKUP(A51,'202511'!$B$3:$B$175,1,0) -> #N/A | G51: =VLOOKUP(A51,'BD-202512'!$A$2:$E$156,5,0) -> Eletivo | H51: =VLOOKUP(B51,premios!$A$1:$B$100,2,0) -> #N/A
A52: 4225104054017 | B52: 408040076 | C52: 10694.38 | D52: =VLOOKUP(A52,'202511'!$B$3:$B$175,1,0) -> #N/A | G52: =VLOOKUP(A52,'BD-202512'!$A$2:$E$156,5,0) -> Urgência
A54: 2672839 | B54: Sombrio | C54: =SUM(C55:C100) -> 400871.86 | H54: =SUM(H55:H96) -> 5474.225 | I54: =SUM(C54,H54) -> 406346.09
A55: 4225106041420 | B55: 406030049 | C55: 8339.41 | D55: =VLOOKUP(A55,'202511'!$B$3:$B$175,1,0) -> #N/A | G55: =VLOOKUP(A55,'BD-202512'!$A$2:$E$156,5,0) -> Urgência
A56: 4225106078743 | B56: 406030049 | C56: 8285.3 | D56: =VLOOKUP(A56,'202511'!$B$3:$B$175,1,0) -> #N/A | G56: =VLOOKUP(A56,'BD-202512'!$A$2:$E$156,5,0) -> Urgência
A57: 4225106081647 | B57: 406030049 | C57: 11069.16 | D57: =VLOOKUP(A57,'202511'!$B$3:$B$175,1,0) -> #N/A | G57: =VLOOKUP(A57,'BD-202512'!$A$2:$E$156,5,0) -> Urgência
A58: 4225106086685 | B58: 406030049 | C58: 7733.06 | D58: =VLOOKUP(A58,'202511'!$B$3:$B$175,1,0) -> #N/A | G58: =VLOOKUP(A58,'BD-202512'!$A$2:$E$156,5,0) -> Urgência
A59: 4225106086938 | B59: 406010676 | C59: 8582.13 | D59: =VLOOKUP(A59,'202511'!$B$3:$B$175,1,0) -> #N/A | G59: =VLOOKUP(A59,'BD-202512'!$A$2:$E$156,5,0) -> Urgência
A60: 4225106087994 | B60: 406030030 | C60: 9728.02 | D60: =VLOOKUP(A60,'202511'!$B$3:$B$175,1,0) -> #N/A | G60: =VLOOKUP(A60,'BD-202512'!$A$2:$E$156,5,0) -> Urgência
A61: 4225106088412 | B61: 406030022 | C61: 9256.09 | D61: =VLOOKUP(A61,'202511'!$B$3:$B$175,1,0) -> #N/A | G61: =VLOOKUP(A61,'BD-202512'!$A$2:$E$156,5,0) -> Urgência
A62: 4225106091646 | B62: 406010650 | C62: 10382.33 | D62: =VLOOKUP(A62,'202511'!$B$3:$B$175,1,0) -> #N/A | G62: =VLOOKUP(A62,'BD-202512'!$A$2:$E$156,5,0) -> Urgência
A63: 4225106093440 | B63: 406030049 | C63: 6547.2 | D63: =VLOOKUP(A63,'202511'!$B$3:$B$175,1,0) -> #N/A | G63: =VLOOKUP(A63,'BD-202512'!$A$2:$E$156,5,0) -> Urgência
A64: 4225106097806 | B64: 406030049 | C64: 7677.9 | D64: =VLOOKUP(A64,'202511'!$B$3:$B$175,1,0) -> #N/A | G64: =VLOOKUP(A64,'BD-202512'!$A$2:$E$156,5,0) -> Urgência
A65: 4225106097840 | B65: 406030049 | C65: 8266.25 | D65: =VLOOKUP(A65,'202511'!$B$3:$B$175,1,0) -> #N/A | G65: =VLOOKUP(A65,'BD-202512'!$A$2:$E$156,5,0) -> Urgência
A66: 4225106097861 | B66: 406030049 | C66: 8266.25 | D66: =VLOOKUP(A66,'202511'!$B$3:$B$175,1,0) -> #N/A | G66: =VLOOKUP(A66,'BD-202512'!$A$2:$E$156,5,0) -> Urgência
... A69: 4225106104868 | B69: 406010650 | C69: 10975.98 | D69: =VLOOKUP(A69,'202511'!$B$3:$B$175,1,0) -> #N/A | G69: =VLOOKUP(A69,'BD-202512'!$A$2:$E$156,5,0) -> Urgência
A70: 4225106105968 | B70: 406030030 | C70: 7058.56 | D70: =VLOOKUP(A70,'202511'!$B$3:$B$175,1,0) -> #N/A | G70: =VLOOKUP(A70,'BD-202512'!$A$2:$E$156,5,0) -> Eletivo | H70: =IFERROR(VLOOKUP(B70,premios!$A$1:$B$100,2,0),"-") -> -
A71: 4225106106023 | B71: 406030049 | C71: 10021.8 | D71: =VLOOKUP(A71,'202511'!$B$3:$B$175,1,0) -> #N/A | G71: =VLOOKUP(A71,'BD-202512'!$A$2:$E$156,5,0) -> Urgência
A72: 4225106107046 | B72: 406050040 | C72: 6061.05 | D72: =VLOOKUP(A72,'202511'!$B$3:$B$175,1,0) -> #N/A | G72: =VLOOKUP(A72,'BD-202512'!$A$2:$E$156,5,0) -> Urgência
A73: 4225106107068 | B73: 406050040 | C73: 6069.05 | D73: =VLOOKUP(A73,'202511'!$B$3:$B$175,1,0) -> #N/A | G73: =VLOOKUP(A73,'BD-202512'!$A$2:$E$156,5,0) -> Eletivo | H73: =VLOOKUP(B73,premios!$A$1:$B$100,2,0) -> 1466.5225
A74: 4225106107080 | B74: 406050139 | C74: 9073.46 | D74: =VLOOKUP(A74,'202511'!$B$3:$B$175,1,0) -> #N/A | G74: =VLOOKUP(A74,'BD-202512'!$A$2:$E$156,5,0) -> Eletivo | H74: =VLOOKUP(B74,premios!$A$1:$B$100,2,0) -> 1685.9575
A75: 4225106107090 | B75: 406050066 | C75: 5978.08 | D75: =VLOOKUP(A75,'202511'!$B$3:$B$175,1,0) -> #N/A | G75: =VLOOKUP(A75,'BD-202512'!$A$2:$E$156,5,0) -> Eletivo | H75: =VLOOKUP(B75,premios!$A$1:$B$100,2,0) -> 1445.78
A76: 4225106107101 | B76: 406050015 | C76: 3706.82 | D76: =VLOOKUP(A76,'202511'!$B$3:$B$175,1,0) -> #N/A | G76: =VLOOKUP(A76,'BD-202512'!$A$2:$E$156,5,0) -> Eletivo | H76: =VLOOKUP(B76,premios!$A$1:$B$100,2,0) -> 875.965
A77: 4225106108454 | B77: 406030030 | C77: 8277.61 | D77: =VLOOKUP(A77,'202511'!$B$3:$B$175,1,0) -> #N/A | G77: =VLOOKUP(A77,'BD-202512'!$A$2:$E$156,5,0) -> Urgência
A78: 4225106108520 | B78: 406030049 | C78: 7052.5 | D78: =VLOOKUP(A78,'202511'!$B$3:$B$175,1,0) -> #N/A | G78: =VLOOKUP(A78,'BD-202512'!$A$2:$E$156,5,0) -> Urgência
A79: 4225106109015 | B79: 406030049 | C79: 8259.9 | D79: =VLOOKUP(A79,'202511'!$B$3:$B$175,1,0) -> #N/A | G79: =VLOOKUP(A79,'BD-202512'!$A$2:$E$156,5,0) -> Urgência
A80: 4225106112975 | B80: 406030030 | C80: 7664.91 | D80: =VLOOKUP(A80,'202511'!$B$3:$B$175,1,0) -> #N/A | G80: =VLOOKUP(A80,'BD-202512'!$A$2:$E$156,5,0) -> Urgência
A81: 4225106113140 | B81: 406010862 | C81: 939.43 | D81: =VLOOKUP(A81,'202511'!$B$3:$B$175,1,0) -> #N/A | G81: =VLOOKUP(A81,'BD-202512'!$A$2:$E$156,5,0) -> Urgência
A82: 4225106114526 | B82: 406030030 | C82: 6898.46 | D82: =VLOOKUP(A82,'202511'!$B$3:$B$175,1,0) -> #N/A | G82: =VLOOKUP(A82,'BD-202512'!$A$2:$E$156,5,0) -> Urgência
A83: 4225106114647 | B83: 406030030 | C83: 5054.01 | D83: =VLOOKUP(A83,'202511'!$B$3:$B$175,1,0) -> #N/A | G83: =VLOOKUP(A83,'BD-202512'!$A$2:$E$156,5,0) -> Urgência
A84: 4225106117331 | B84: 406030022 | C84: 11241.59 | D84: =VLOOKUP(A84,'202511'!$B$3:$B$175,1,0) -> #N/A | G84: =VLOOKUP(A84,'BD-202512'!$A$2:$E$156,5,0) -> Eletivo | H84: =IFERROR(VLOOKUP(B84,premios!$A$1:$B$100,2,0),"-") -> -
A85: 4225106117804 | B85: 406010650 | C85: 10517.22 | D85: =VLOOKUP(A85,'202511'!$B$3:$B$175,1,0) -> #N/A | G85: =VLOOKUP(A85,'BD-202512'!$A$2:$E$156,5,0) -> Urgência
A86: 4225106118486 | B86: 406030014 | C86: 5832.63 | D86: =VLOOKUP(A86,'202511'!$B$3:$B$175,1,0) -> #N/A | G86: =VLOOKUP(A86,'BD-202512'!$A$2:$E$156,5,0) -> Urgência
A87: 4225106119003 | B87: 415020034 | C87: 50447.56 | D87: =VLOOKUP(A87,'202511'!$B$3:$B$175,1,0) -> #N/A | E87: 406040168 | F87: 406040184 | G87: =VLOOKUP(A87,'BD-202512'!$A$2:$E$156,5,0) -> Eletivo | H87: =IFERROR(VLOOKUP(B87,premios!$A$1:$B$100,2,0),"-") -> -
A88: 4225106119025 | B88: 406040095 | C88: 7683.28 | D88: =VLOOKUP(A88,'202511'!$B$3:$B$175,1,0) -> #N/A | G88: =VLOOKUP(A88,'BD-202512'!$A$2:$E$156,5,0) -> Eletivo | H88: =IFERROR(VLOOKUP(B88,premios!$A$1:$B$100,2,0),"-") -> -
A89: 4225106119036 | B89: 406020370 | C89: 3076.72 | D89: =VLOOKUP(A89,'202511'!$B$3:$B$175,1,0) -> #N/A | G89: =VLOOKUP(A89,'BD-202512'!$A$2:$E$156,5,0) -> Eletivo | H89: =IFERROR(VLOOKUP(B89,premios!$A$1:$B$100,2,0),"-") -> -
A90: 4225106119058 | B90: 406040060 | C90: 4006.68 | D90: =VLOOKUP(A90,'202511'!$B$3:$B$175,1,0) -> #N/A | G90: =VLOOKUP(A90,'BD-202512'!$A$2:$E$156,5,0) -> Eletivo | H90: =IFERROR(VLOOKUP(B90,premios!$A$1:$B$100,2,0),"-") -> -
A91: 4225106119190 | B91: 406040060 | C91: 1358.29 | D91: =VLOOKUP(A91,'202511'!$B$3:$B$175,1,0) -> #N/A | G91: =VLOOKUP(A91,'BD-202512'!$A$2:$E$156,5,0) -> Eletivo | H91: =IFERROR(VLOOKUP(B91,premios!$A$1:$B$100,2,0),"-") -> -
A92: 4225106119201 | B92: 406040060 | C92: 4272.4 | D92: =VLOOKUP(A92,'202511'!$B$3:$B$175,1,0) -> #N/A | G92: =VLOOKUP(A92,'BD-202512'!$A$2:$E$156,5,0) -> Eletivo | H92: =IFERROR(VLOOKUP(B92,premios!$A$1:$B$100,2,0),"-") -> -
A93: 4225106119993 | B93: 406010676 | C93: 7834.52 | D93: =VLOOKUP(A93,'202511'!$B$3:$B$175,1,0) -> #N/A | G93: =VLOOKUP(A93,'BD-202512'!$A$2:$E$156,5,0) -> Urgência
A94: 4225106120642 | B94: 406030030 | C94: 7052.21 | D94: =VLOOKUP(A94,'202511'!$B$3:$B$175,1,0) -> #N/A | G94: =VLOOKUP(A94,'BD-202512'!$A$2:$E$156,5,0) -> Urgência
A95: 4225106120664 | B95: 406030022 | C95: 10628.89 | D95: =VLOOKUP(A95,'202511'!$B$3:$B$175,1,0) -> #N/A | G95: =VLOOKUP(A95,'BD-202512'!$A$2:$E$156,5,0) -> Urgência
A96: 4225106121808 | B96: 406040060 | C96: 6057.18 | D96: =VLOOKUP(A96,'202511'!$B$3:$B$175,1,0) -> #N/A | G96: =VLOOKUP(A96,'BD-202512'!$A$2:$E$156,5,0) -> Eletivo | H96: =IFERROR(VLOOKUP(B96,premios!$A$1:$B$100,2,0),"-") -> -
A97: 4225106126714 | B97: 406030030 | C97: 6911.16 | D97: =VLOOKUP(A97,'202511'!$B$3:$B$175,1,0) -> #N/A | G97: =VLOOKUP(A97,'BD-202512'!$A$2:$E$156,5,0) -> Urgência
A98: 4225106130025 | B98: 406030049 | C98: 10937.8 | D98: =VLOOKUP(A98,'202511'!$B$3:$B$175,1,0) -> #N/A | G98: =VLOOKUP(A98,'BD-202512'!$A$2:$E$156,5,0) -> Urgência
A99: 4225106132368 | B99: 406030022 | C99: 10028.89 | D99: =VLOOKUP(A99,'202511'!$B$3:$B$175,1,0) -> #N/A | G99: =VLOOKUP(A99,'BD-202512'!$A$2:$E$156,5,0) -> Urgência
A100: 4225106136504 | B100: 406030022 | C100: 8656.09 | D100: =VLOOKUP(A100,'202511'!$B$3:$B$175,1,0) -> #N/A | G100: =VLOOKUP(A100,'BD-202512'!$A$2:$E$156,5,0) -> Urgência
A102: 3039250 | B102: IMAS Joacaba | C102: =SUM(C103:C152) -> 312695.71 | H102: =SUM(H103:H152) -> 79885 | I102: =SUM(C102,H102) -> 392580.71
A103: 4225106421778 | B103: 407010386 | C103: 6189.08 | D103: =VLOOKUP(A103,'202511'!$B$3:$B$175,1,0) -> #N/A | G103: =VLOOKUP(A103,'BD-202512'!$A$2:$E$156,5,0) -> Eletivo | H103: =VLOOKUP(B103,premios!A1:B100,2,0) -> 3072.5
A104: 4225106421789 | B104: 407010386 | C104: 6186.06 | D104: =VLOOKUP(A104,'202511'!$B$3:$B$175,1,0) -> #N/A | G104: =VLOOKUP(A104,'BD-202512'!$A$2:$E$156,5,0) -> Eletivo | H104: =VLOOKUP(B104,premios!A2:B101,2,0) -> 3072.5
A105: 4225106421790 | B105: 407010386 | C105: 6194.06 | D105: =VLOOKUP(A105,'202511'!$B$3:$B$175,1,0) -> #N/A | G105: =VLOOKUP(A105,'BD-202512'!$A$2:$E$156,5,0) -> Eletivo | H105: =VLOOKUP(B105,premios!A3:B102,2,0) -> 3072.5
A106: 4225106421800 | B106: 407010386 | C106: 6197.08 | D106: =VLOOKUP(A106,'202511'!$B$3:$B$175,1,0) -> #N/A | G106: =VLOOKUP(A106,'BD-202512'!$A$2:$E$156,5,0) -> Eletivo | H106: =VLOOKUP(B106,premios!A4:B103,2,0) -> 3072.5
A107: 4225106421811 | B107: 407010386 | C107: 6194.06 | D107: =VLOOKUP(A107,'202511'!$B$3:$B$175,1,0) -> #N/A | G107: =VLOOKUP(A107,'BD-202512'!$A$2:$E$156,5,0) -> Eletivo | H107: =VLOOKUP(B107,premios!A5:B104,2,0) -> 3072.5
A108: 4225106421822 | B108: 407010386 | C108: 6187.71 | D108: =VLOOKUP(A108,'202511'!$B$3:$B$175,1,0) -> #N/A | G108: =VLOOKUP(A108,'BD-202512'!$A$2:$E$156,5,0) -> Eletivo | H108: =VLOOKUP(B108,premios!A6:B105,2,0) -> 3072.5
A109: 4225106421833 | B109: 407010386 | C109: 6200.1 | D109: =VLOOKUP(A109,'202511'!$B$3:$B$175,1,0) -> #N/A | G109: =VLOOKUP(A109,'BD-202512'!$A$2:$E$156,5,0) -> Eletivo | H109: =VLOOKUP(B109,premios!A7:B106,2,0) -> 3072.5
A110: 4225106421767 | B110: 407010386 | C110: 6172.02 | D110: =VLOOKUP(A110,'202511'!$B$3:$B$175,1,0) -> #N/A | G110: =VLOOKUP(A110,'BD-202512'!$A$2:$E$156,5,0) -> Eletivo | H110: =VLOOKUP(B110,premios!A8:B107,2,0) -> 3072.5
A111: 4225106421855 | B111: 407010386 | C111: 6161 | D111: =VLOOKUP(A111,'202511'!$B$3:$B$175,1,0) -> #N/A | G111: =VLOOKUP(A111,'BD-202512'!$A$2:$E$156,5,0) -> Eletivo | H111: =VLOOKUP(B111,premios!A9:B108,2,0) -> 3072.5
A112: 4225106421866 | B112: 407010386 | C112: 6194.06 | D112: =VLOOKUP(A112,'202511'!$B$3:$B$175,1,0) -> #N/A | G112: =VLOOKUP(A112,'BD-202512'!$A$2:$E$156,5,0) -> Eletivo | H112: =VLOOKUP(B112,premios!A10:B109,2,0) -> 3072.5
A113: 4225106421877 | B113: 407010386 | C113: 6189.08 | D113: =VLOOKUP(A113,'202511'!$B$3:$B$175,1,0) -> #N/A | G113: =VLOOKUP(A113,'BD-202512'!$A$2:$E$156,5,0) -> Eletivo | H113: =VLOOKUP(B113,premios!A11:B110,2,0) -> 3072.5
A114: 4225106421888 | B114: 407010386 | C114: 6194.06 | D114: =VLOOKUP(A114,'202511'!$B$3:$B$175,1,0) -> #N/A | G114: =VLOOKUP(A114,'BD-202512'!$A$2:$E$156,5,0) -> Eletivo | H114: =VLOOKUP(B114,premios!A12:B111,2,0) -> 3072.5
... A128: 4225106428774 | B128: 407010386 | C128: 6153 | D128: =VLOOKUP(A128,'202511'!$B$3:$B$175,1,0) -> #N/A | G128: =VLOOKUP(A128,'BD-202512'!$A$2:$E$156,5,0) -> Eletivo | H128: =VLOOKUP(B128,premios!A26:B125,2,0) -> 3072.5
A129: 4225106428785 | B129: 407010386 | C129: 6316.12 | D129: =VLOOKUP(A129,'202511'!$B$3:$B$175,1,0) -> #N/A | G129: =VLOOKUP(A129,'BD-202512'!$A$2:$E$156,5,0) -> Eletivo | H129: =IFERROR(VLOOKUP(B129,premios!A27:B126,2,0),"-") -> -
A130: 4225106428796 | B130: 407010386 | C130: 6194.06 | D130: =VLOOKUP(A130,'202511'!$B$3:$B$175,1,0) -> #N/A | G130: =VLOOKUP(A130,'BD-202512'!$A$2:$E$156,5,0) -> Eletivo | H130: =IFERROR(VLOOKUP(B130,premios!A28:B127,2,0),"-") -> -
A131: 4225106428807 | B131: 407010386 | C131: 6194.06 | D131: =VLOOKUP(A131,'202511'!$B$3:$B$175,1,0) -> #N/A | G131: =VLOOKUP(A131,'BD-202512'!$A$2:$E$156,5,0) -> Eletivo | H131: =IFERROR(VLOOKUP(B131,premios!A29:B128,2,0),"-") -> -
A132: 4225106428818 | B132: 407010386 | C132: 6178.06 | D132: =VLOOKUP(A132,'202511'!$B$3:$B$175,1,0) -> #N/A | G132: =VLOOKUP(A132,'BD-202512'!$A$2:$E$156,5,0) -> Eletivo | H132: =IFERROR(VLOOKUP(B132,premios!A30:B129,2,0),"-") -> -
A133: 4225106429137 | B133: 407010386 | C133: 6194.06 | D133: =VLOOKUP(A133,'202511'!$B$3:$B$175,1,0) -> #N/A | G133: =VLOOKUP(A133,'BD-202512'!$A$2:$E$156,5,0) -> Eletivo | H133: =IFERROR(VLOOKUP(B133,premios!A31:B130,2,0),"-") -> -
A134: 4225106429148 | B134: 407010386 | C134: 6205.08 | D134: =VLOOKUP(A134,'202511'!$B$3:$B$175,1,0) -> #N/A | G134: =VLOOKUP(A134,'BD-202512'!$A$2:$E$156,5,0) -> Eletivo | H134: =IFERROR(VLOOKUP(B134,premios!A32:B131,2,0),"-") -> -
A135: 4225106428763 | B135: 407010386 | C135: 6308.12 | D135: =VLOOKUP(A135,'202511'!$B$3:$B$175,1,0) -> #N/A | G135: =VLOOKUP(A135,'BD-202512'!$A$2:$E$156,5,0) -> Eletivo | H135: =IFERROR(VLOOKUP(B135,premios!A33:B132,2,0),"-") -> -
A136: 4225106429160 | B136: 407010386 | C136: 6205.08 | D136: =VLOOKUP(A136,'202511'!$B$3:$B$175,1,0) -> #N/A | G136: =VLOOKUP(A136,'BD-202512'!$A$2:$E$156,5,0) -> Eletivo | H136: =IFERROR(VLOOKUP(B136,premios!A34:B133,2,0),"-") -> -
A137: 4225106429170 | B137: 407010386 | C137: 6205.08 | D137: =VLOOKUP(A137,'202511'!$B$3:$B$175,1,0) -> #N/A | G137: =VLOOKUP(A137,'BD-202512'!$A$2:$E$156,5,0) -> Eletivo | H137: =IFERROR(VLOOKUP(B137,premios!A35:B134,2,0),"-") -> -
A138: 4225106429181 | B138: 407010386 | C138: 6205.08 | D138: =VLOOKUP(A138,'202511'!$B$3:$B$175,1,0) -> #N/A | G138: =VLOOKUP(A138,'BD-202512'!$A$2:$E$156,5,0) -> Eletivo | H138: =IFERROR(VLOOKUP(B138,premios!A36:B135,2,0),"-") -> -
A139: 4225106429192 | B139: 407010386 | C139: 6205.08 | D139: =VLOOKUP(A139,'202511'!$B$3:$B$175,1,0) -> #N/A | G139: =VLOOKUP(A139,'BD-202512'!$A$2:$E$156,5,0) -> Eletivo | H139: =IFERROR(VLOOKUP(B139,premios!A37:B136,2,0),"-") -> -
A140: 4225106429203 | B140: 407010386 | C140: 6205.08 | D140: =VLOOKUP(A140,'202511'!$B$3:$B$175,1,0) -> #N/A | G140: =VLOOKUP(A140,'BD-202512'!$A$2:$E$156,5,0) -> Eletivo | H140: =IFERROR(VLOOKUP(B140,premios!A38:B137,2,0),"-") -> -
... A152: 4225106439862 | B152: 407010386 | C152: 6324.12 | D152: =VLOOKUP(A152,'202511'!$B$3:$B$175,1,0) -> #N/A | G152: =VLOOKUP(A152,'BD-202512'!$A$2:$E$156,5,0) -> Eletivo | H152: =IFERROR(VLOOKUP(B152,premios!A50:B149,2,0),"-") -> -
A154: 6048692 | B154: Jeser Amarante | C154: =SUM(C155:C164) -> 78998.04
A155: 4225104617404 | B155: =VLOOKUP(A155,'BD-202512'!$A$2:$D$156,4,0) -> 406030057 | C155: =VLOOKUP(A155,'BD-202512'!$A$2:$D$156,3,0) -> 3353.31 | D155: =VLOOKUP(A155,'202511'!$B$3:$B$175,1,0) -> #N/A | G155: =VLOOKUP(A155,'BD-202512'!$A$2:$E$156,5,0) -> Urgência
...

Sheet BD-202512
A1: N_AIH,C,13 | B1: CNES,C,7 | C1: VAL_TOT,N,14,2 | D1: PROC_REA,C,10 | E1: Car_atend
A2: 4225100593384 | B2: 2411393 | C2: 58076.27 | D2: 406010609 | E2: Eletivo
A3: 4225100523567 | B3: 2537788 | C3: 25250.24 | D3: 406010820 | E3: Urgência
A4: 4225100525877 | B4: 2537788 | C4: 20786.66 | D4: 406010935 | E4: Urgência
A5: 4225100527791 | B5: 2537788 | C5: 2080.71 | D5: 406040052 | E5: Urgência
A6: 4225100530717 | B6: 2537788 | C6: 9197.55 | D6: 406030049 | E6: Urgência
A7: 4225100524359 | B7: 2537788 | C7: 8688.77 | D7: 406010650 | E7: Urgência
A8: 4225100542366 | B8: 2537788 | C8: 5166.45 | D8: 415010012 | E8: Urgência
A9: 4225100571252 | B9: 2537788 | C9: 2307.77 | D9: 406040052 | E9: Urgência
A10: 4225100572682 | B10: 2537788 | C10: 2260.17 | D10: 406040052 | E10: Urgência
A11: 4225100573760 | B11: 2537788 | C11: 4343.9 | D11: 415020034 | E11: Urgência
A12: 4225100580899 | B12: 2537788 | C12: 7789.79 | D12: 415020034 | E12: Eletivo
A13: 4225100548185 | B13: 2537788 | C13: 22695.84 | D13: 406010935 | E13: Urgência
... A156: 4225106624618 | B156: 9543856 | C156: 25626.5 | D156: 408040076 | E156: Urgência

Sheet 202512-Relatorio
A1: Hospital SC (CNES) - Dezembro | B1: Valor AIH | C1: Prêmio Tab Cat | D1: Total
A2: 2411393 HOSPITAL REGIONAL SAO PAULO ASSEC | B2: 58076.27 | D2: =SUM(B2:C2) -> 58076.27
A3: 2537788 HOSPITAL REGIONAL DO OESTE | B3: 548532.16 | D3: =SUM(B3:C3) -> 548532.16
A4: 2560771 HOSPITAL UNIVERSITARIO SANTA TEREZINHA | B4: 32543.94 | D4: =SUM(B4:C4) -> 32543.94
A5: 2672839 HOSPITAL DOM JOAQUIM IMAS | B5: 400871.86 | C5: 5474.225 | D5: =SUM(B5:C5) -> 406346.09
A6: 3039250 HOSPITAL SAO MIGUEL IMAS | B6: 312695.71 | C6: 79885 | D6: =SUM(B6:C6) -> 392580.71
A7: 6048692 HOSPITAL INFANTIL DR JESER AMARANTE FARIA | B7: 78998.04 | D7: =SUM(B7:C7) -> 78998.04
A8: 9543856 IMIGRANTES HOSPITAL E MATERNIDADE | B8: 55477.58 | D8: =SUM(B8:C8) -> 55477.58
A9: Total | B9: 1512543.1 | D9: =SUM(B9:C9) -> 1512543.1

Sheet BD-202601
A1: N_AIH,C,13 | B1: CNES,C,7 | C1: VAL_TOT,N,14,2 | D1: PROC_REA,C,10 | E1: CAR_INT,C,2
A2: 4225100533005 | B2: 2537788 | C2: 6531.65 | D2: 406030049 | E2: Urgencia
A3: 4225100535876 | B3: 2537788 | C3: 37271.74 | D3: 415020034 | E3: Urgencia
A4: 4225100547008 | B4: 2537788 | C4: 3778.59 | D4: 415010012 | E4: Urgencia
A5: 4225100548944 | B5: 2537788 | C5: 6721.93 | D5: 406030049 | E5: Urgencia
A6: 4225100548955 | B6: 2537788 | C6: 2246.57 | D6: 406040052 | E6: Urgencia
A7: 4225100539209 | B7: 2537788 | C7: 7752.69 | D7: 406030049 | E7: Urgencia
A8: 4225100552365 | B8: 2537788 | C8: 7200.1 | D8: 415020034 | E8: Urgencia
A9: 4225100555896 | B9: 2537788 | C9: 11006.77 | D9: 415020034 | E9: Eletivo
A10: 4225100558602 | B10: 2537788 | C10: 20492.38 | D10: 406010935 | E10: Urgencia
A11: 4225100559218 | B11: 2537788 | C11: 25813.48 | D11: 406010692 | E11: Urgencia
A12: 4225100552068 | B12: 2537788 | C12: 5923.37 | D12: 406030030 | E12: Eletivo
A13: 4225100560725 | B13: 2537788 | C13: 8696.57 | D13: 415020034 | E13: Urgencia
... A198: 4226103472261 | B198: 6048692 | C198: 6077.05 | D198: 406050040 | E198: Eletivo

Sheet 202601
A1: CNES / AIH | B1: PROCED | C1: VALOR AIH | D1: Busca 202512 | E1: Busca 202511 | G1: Carater atend | H1: Prêmio Tabela Catarinense
A2: 2537788 | B2: Chapeco HRO | C2: 750422.18 | H2: =SUM(H3:H61) -> 0 | I2: =SUM(C2,H2) -> 750422.18
A3: 4225100533005 | B3: 406030049 | C3: 6531.65 | D3: =VLOOKUP(A3,'202512'!$A$3:$A$171,1,0) -> #N/A | E3: =VLOOKUP(A3,'202511'!$B$3:$B$175,1,0) -> #N/A | G3: =VLOOKUP(A3,'BD-202601'!$A$2:$E$198,5,0) -> Urgencia
A4: 4225100535876 | B4: 415020034 | C4: 37271.74 | D4: =VLOOKUP(A4,'202512'!$A$3:$A$171,1,0) -> #N/A | E4: =VLOOKUP(A4,'202511'!$B$3:$B$175,1,0) -> #N/A | G4: =VLOOKUP(A4,'BD-202601'!$A$2:$E$198,5,0) -> Urgencia
A5: 4225100539209 | B5: 406030049 | C5: 7752.69 | D5: =VLOOKUP(A5,'202512'!$A$3:$A$171,1,0) -> #N/A | E5: =VLOOKUP(A5,'202511'!$B$3:$B$175,1,0) -> #N/A | G5: =VLOOKUP(A5,'BD-202601'!$A$2:$E$198,5,0) -> Urgencia
A6: 4225100547008 | B6: 415010012 | C6: 3778.59 | D6: =VLOOKUP(A6,'202512'!$A$3:$A$171,1,0) -> #N/A | E6: =VLOOKUP(A6,'202511'!$B$3:$B$175,1,0) -> #N/A | G6: =VLOOKUP(A6,'BD-202601'!$A$2:$E$198,5,0) -> Urgencia
A7: 4225100548944 | B7: 406030049 | C7: 6721.93 | D7: =VLOOKUP(A7,'202512'!$A$3:$A$171,1,0) -> #N/A | E7: =VLOOKUP(A7,'202511'!$B$3:$B$175,1,0) -> #N/A | G7: =VLOOKUP(A7,'BD-202601'!$A$2:$E$198,5,0) -> Urgencia
A8: 4225100548955 | B8: 406040052 | C8: 2246.57 | D8: =VLOOKUP(A8,'202512'!$A$3:$A$171,1,0) -> #N/A | E8: =VLOOKUP(A8,'202511'!$B$3:$B$175,1,0) -> #N/A | G8: =VLOOKUP(A8,'BD-202601'!$A$2:$E$198,5,0) -> Urgencia
A9: 4225100552068 | B9: 406030030 | C9: 5923.37 | D9: =VLOOKUP(A9,'202512'!$A$3:$A$171,1,0) -> #N/A | E9: =VLOOKUP(A9,'202511'!$B$3:$B$175,1,0) -> #N/A | G9: =VLOOKUP(A9,'BD-202601'!$A$2:$E$198,5,0) -> Eletivo
A10: 4225100552365 | B10: 415020034 | C10: 7200.1 | D10: =VLOOKUP(A10,'202512'!$A$3:$A$171,1,0) -> #N/A | E10: =VLOOKUP(A10,'202511'!$B$3:$B$175,1,0) -> #N/A | G10: =VLOOKUP(A10,'BD-202601'!$A$2:$E$198,5,0) -> Urgencia
A11: 4225100555896 | B11: 415020034 | C11: 11006.77 | D11: =VLOOKUP(A11,'202512'!$A$3:$A$171,1,0) -> #N/A | E11: =VLOOKUP(A11,'202511'!$B$3:$B$175,1,0) -> #N/A | G11: =VLOOKUP(A11,'BD-202601'!$A$2:$E$198,5,0) -> Eletivo
A12: 4225100558602 | B12: 406010935 | C12: 20492.38 | D12: =VLOOKUP(A12,'202512'!$A$3:$A$171,1,0) -> #N/A | E12: =VLOOKUP(A12,'202511'!$B$3:$B$175,1,0) -> #N/A | G12: =VLOOKUP(A12,'BD-202601'!$A$2:$E$198,5,0) -> Urgencia
A13: 4225100559218 | B13: 406010692 | C13: 25813.48 | D13: =VLOOKUP(A13,'202512'!$A$3:$A$171,1,0) -> #N/A | E13: =VLOOKUP(A13,'202511'!$B$3:$B$175,1,0) -> #N/A | G13: =VLOOKUP(A13,'BD-202601'!$A$2:$E$198,5,0) -> Urgencia
A14: 4225100559801 | B14: 406030049 | C14: 6528.15 | D14: =VLOOKUP(A14,'202512'!$A$3:$A$171,1,0) -> #N/A | E14: =VLOOKUP(A14,'202511'!$B$3:$B$175,1,0) -> #N/A | G14: =VLOOKUP(A14,'BD-202601'!$A$2:$E$198,5,0) -> Urgencia
... A43: 4225100615428 | B43: 406030022 | C43: 8154.41 | D43: =VLOOKUP(A43,'202512'!$A$3:$A$171,1,0) -> #N/A | E43: =VLOOKUP(A43,'202511'!$B$3:$B$175,1,0) -> #N/A | G43: =VLOOKUP(A43,'BD-202601'!$A$2:$E$198,5,0) -> Urgencia
A44: 4225100617595 | B44: =VLOOKUP(A44,'BD-202601'!$A$2:$E$198,4,0) -> 406040052 | C44: =VLOOKUP(A44,'BD-202601'!$A$2:$E$198,3,0) -> 3179.43 | D44: =VLOOKUP(A44,'202512'!$A$3:$A$171,1,0) -> #N/A | E44: =VLOOKUP(A44,'202511'!$B$3:$B$175,1,0) -> #N/A | G44: =VLOOKUP(A44,'BD-202601'!$A$2:$E$198,5,0) -> Urgencia
A45: 4225100617694 | B45: =VLOOKUP(A45,'BD-202601'!$A$2:$E$198,4,0) -> 406040052 | C45: =VLOOKUP(A45,'BD-202601'!$A$2:$E$198,3,0) -> 2397.91 | D45: =VLOOKUP(A45,'202512'!$A$3:$A$171,1,0) -> #N/A | E45: =VLOOKUP(A45,'202511'!$B$3:$B$175,1,0) -> #N/A | G45: =VLOOKUP(A45,'BD-202601'!$A$2:$E$198,5,0) -> Urgencia
A46: 4225100617870 | B46: =VLOOKUP(A46,'BD-202601'!$A$2:$E$198,4,0) -> 406010650 | C46: =VLOOKUP(A46,'BD-202601'!$A$2:$E$198,3,0) -> 8668.07 | D46: =VLOOKUP(A46,'202512'!$A$3:$A$171,1,0) -> #N/A | E46: =VLOOKUP(A46,'202511'!$B$3:$B$175,1,0) -> #N/A | G46: =VLOOKUP(A46,'BD-202601'!$A$2:$E$198,5,0) -> Urgencia
A47: 4225100619014 | B47: =VLOOKUP(A47,'BD-202601'!$A$2:$E$198,4,0) -> 406010650 | C47: =VLOOKUP(A47,'BD-202601'!$A$2:$E$198,3,0) -> 8668.07 | D47: =VLOOKUP(A47,'202512'!$A$3:$A$171,1,0) -> #N/A | E47: =VLOOKUP(A47,'202511'!$B$3:$B$175,1,0) -> #N/A | G47: =VLOOKUP(A47,'BD-202601'!$A$2:$E$198,5,0) -> Urgencia
A48: 4225100619070 | B48: =VLOOKUP(A48,'BD-202601'!$A$2:$E$198,4,0) -> 415020034 | C48: =VLOOKUP(A48,'BD-202601'!$A$2:$E$198,3,0) -> 8903.53 | D48: =VLOOKUP(A48,'202512'!$A$3:$A$171,1,0) -> #N/A | E48: =VLOOKUP(A48,'202511'!$B$3:$B$175,1,0) -> #N/A | G48: =VLOOKUP(A48,'BD-202601'!$A$2:$E$198,5,0) -> Urgencia
A49: 4225100622391 | B49: =VLOOKUP(A49,'BD-202601'!$A$2:$E$198,4,0) -> 406030030 | C49: =VLOOKUP(A49,'BD-202601'!$A$2:$E$198,3,0) -> 5062.01 | D49: =VLOOKUP(A49,'202512'!$A$3:$A$171,1,0) -> #N/A | E49: =VLOOKUP(A49,'202511'!$B$3:$B$175,1,0) -> #N/A | G49: =VLOOKUP(A49,'BD-202601'!$A$2:$E$198,5,0) -> Urgencia
A50: 4225100627077 | B50: =VLOOKUP(A50,'BD-202601'!$A$2:$E$198,4,0) -> 415020034 | C50: =VLOOKUP(A50,'BD-202601'!$A$2:$E$198,3,0) -> 2852.78 | D50: =VLOOKUP(A50,'202512'!$A$3:$A$171,1,0) -> #N/A | E50: =VLOOKUP(A50,'202511'!$B$3:$B$175,1,0) -> #N/A | G50: =VLOOKUP(A50,'BD-202601'!$A$2:$E$198,5,0) -> Urgencia
A51: 4225100629288 | B51: =VLOOKUP(A51,'BD-202601'!$A$2:$E$198,4,0) -> 406040060 | C51: =VLOOKUP(A51,'BD-202601'!$A$2:$E$198,3,0) -> 2278.94 | D51: =VLOOKUP(A51,'202512'!$A$3:$A$171,1,0) -> #N/A | E51: =VLOOKUP(A51,'202511'!$B$3:$B$175,1,0) -> #N/A | G51: =VLOOKUP(A51,'BD-202601'!$A$2:$E$198,5,0) -> Urgencia
A52: 4225100643995 | B52: =VLOOKUP(A52,'BD-202601'!$A$2:$E$198,4,0) -> 406030030 | C52: =VLOOKUP(A52,'BD-202601'!$A$2:$E$198,3,0) -> 5301.37 | D52: =VLOOKUP(A52,'202512'!$A$3:$A$171,1,0) -> #N/A | E52: =VLOOKUP(A52,'202511'!$B$3:$B$175,1,0) -> #N/A | G52: =VLOOKUP(A52,'BD-202601'!$A$2:$E$198,5,0) -> Urgencia
A53: 4225100645315 | B53: =VLOOKUP(A53,'BD-202601'!$A$2:$E$198,4,0) -> 406040117 | C53: =VLOOKUP(A53,'BD-202601'!$A$2:$E$198,3,0) -> 1419.22 | D53: =VLOOKUP(A53,'202512'!$A$3:$A$171,1,0) -> #N/A | E53: =VLOOKUP(A53,'202511'!$B$3:$B$175,1,0) -> #N/A | G53: =VLOOKUP(A53,'BD-202601'!$A$2:$E$198,5,0) -> Eletivo
A54: 4225100645766 | B54: =VLOOKUP(A54,'BD-202601'!$A$2:$E$198,4,0) -> 415020034 | C54: =VLOOKUP(A54,'BD-202601'!$A$2:$E$198,3,0) -> 3618.67 | D54: =VLOOKUP(A54,'202512'!$A$3:$A$171,1,0) -> #N/A | E54: =VLOOKUP(A54,'202511'!$B$3:$B$175,1,0) -> #N/A | G54: =VLOOKUP(A54,'BD-202601'!$A$2:$E$198,5,0) -> Urgencia
A55: 4225100646008 | B55: =VLOOKUP(A55,'BD-202601'!$A$2:$E$198,4,0) -> 406010820 | C55: =VLOOKUP(A55,'BD-202601'!$A$2:$E$198,3,0) -> 23340 | D55: =VLOOKUP(A55,'202512'!$A$3:$A$171,1,0) -> #N/A | E55: =VLOOKUP(A55,'202511'!$B$3:$B$175,1,0) -> #N/A | G55: =VLOOKUP(A55,'BD-202601'!$A$2:$E$198,5,0) -> Urgencia
... A61: 4226104631925 | B61: =VLOOKUP(A61,'BD-202601'!$A$2:$E$198,4,0) -> 406030022 | C61: =VLOOKUP(A61,'BD-202601'!$A$2:$E$198,3,0) -> 7601.21 | D61: =VLOOKUP(A61,'202512'!$A$3:$A$171,1,0) -> #N/A | E61: =VLOOKUP(A61,'202511'!$B$3:$B$175,1,0) -> #N/A | G61: =VLOOKUP(A61,'BD-202601'!$A$2:$E$198,5,0) -> Urgencia
A62: 4225100551661 | B62: 406040109 | C62: 4780.09 | G62: Urgencia
A63: 4225100590205 | B63: 415010012 | C63: 68156.04 | G63: eletiva
A64: 4225106557200 | B64: 406010650 | C64: 8668.07 | G64: urgencia
A66: 2672839 | B66: IMAS SOMBRIO | C66: 532755.08 | H66: =SUM(H67:H116) -> 7950.9225 | I66: =SUM(C66,H66) -> 540706
A67: 4225106028506 | B67: =VLOOKUP(A67,'BD-202601'!$A$2:$E$198,4,0) -> 406030022 | C67: =VLOOKUP(A67,'BD-202601'!$A$2:$E$198,3,0) -> 11531.16 | D67: =VLOOKUP(A67,'202512'!$A$3:$A$171,1,0) -> #N/A | E67: =VLOOKUP(A67,'202511'!$B$3:$B$175,1,0) -> #N/A | G67: =VLOOKUP(A67,'BD-202601'!$A$2:$E$198,5,0) -> Urgencia
A68: 4225106093384 | B68: =VLOOKUP(A68,'BD-202601'!$A$2:$E$198,4,0) -> 406030049 | C68: =VLOOKUP(A68,'BD-202601'!$A$2:$E$198,3,0) -> 7052.5 | D68: =VLOOKUP(A68,'202512'!$A$3:$A$171,1,0) -> #N/A | E68: =VLOOKUP(A68,'202511'!$B$3:$B$175,1,0) -> #N/A | G68: =VLOOKUP(A68,'BD-202601'!$A$2:$E$198,5,0) -> Urgencia
A69: 4225106108410 | B69: =VLOOKUP(A69,'BD-202601'!$A$2:$E$198,4,0) -> 406030030 | C69: =VLOOKUP(A69,'BD-202601'!$A$2:$E$198,3,0) -> 6439.51 | D69: =VLOOKUP(A69,'202512'!$A$3:$A$171,1,0) -> #N/A | E69: =VLOOKUP(A69,'202511'!$B$3:$B$175,1,0) -> #N/A | G69: =VLOOKUP(A69,'BD-202601'!$A$2:$E$198,5,0) -> Urgencia
A70: 4225106119014 | B70: =VLOOKUP(A70,'BD-202601'!$A$2:$E$198,4,0) -> 415020034 | C70: =VLOOKUP(A70,'BD-202601'!$A$2:$E$198,3,0) -> 52013.2 | D70: =VLOOKUP(A70,'202512'!$A$3:$A$171,1,0) -> #N/A | E70: =VLOOKUP(A70,'202511'!$B$3:$B$175,1,0) -> #N/A | G70: =VLOOKUP(A70,'BD-202601'!$A$2:$E$198,5,0) -> Urgencia
A71: 4225106125031 | B71: =VLOOKUP(A71,'BD-202601'!$A$2:$E$198,4,0) -> 406030049 | C71: =VLOOKUP(A71,'BD-202601'!$A$2:$E$198,3,0) -> 15706.86 | D71: =VLOOKUP(A71,'202512'!$A$3:$A$171,1,0) -> #N/A | E71: =VLOOKUP(A71,'202511'!$B$3:$B$175,1,0) -> #N/A | G71: =VLOOKUP(A71,'BD-202601'!$A$2:$E$198,5,0) -> Urgencia
A72: 4225106132390 | B72: =VLOOKUP(A72,'BD-202601'!$A$2:$E$198,4,0) -> 406030030 | C72: =VLOOKUP(A72,'BD-202601'!$A$2:$E$198,3,0) -> 7652.21 | D72: =VLOOKUP(A72,'202512'!$A$3:$A$171,1,0) -> #N/A | E72: =VLOOKUP(A72,'202511'!$B$3:$B$175,1,0) -> #N/A | G72: =VLOOKUP(A72,'BD-202601'!$A$2:$E$198,5,0) -> Urgencia
A73: 4225106135998 | B73: =VLOOKUP(A73,'BD-202601'!$A$2:$E$198,4,0) -> 406030030 | C73: =VLOOKUP(A73,'BD-202601'!$A$2:$E$198,3,0) -> 7671.26 | D73: =VLOOKUP(A73,'202512'!$A$3:$A$171,1,0) -> #N/A | E73: =VLOOKUP(A73,'202511'!$B$3:$B$175,1,0) -> #N/A | G73: =VLOOKUP(A73,'BD-202601'!$A$2:$E$198,5,0) -> Urgencia
A74: 4226104280497 | B74: =VLOOKUP(A74,'BD-202601'!$A$2:$E$198,4,0) -> 406030030 | C74: =VLOOKUP(A74,'BD-202601'!$A$2:$E$198,3,0) -> 7658.56 | D74: =VLOOKUP(A74,'202512'!$A$3:$A$171,1,0) -> #N/A | E74: =VLOOKUP(A74,'202511'!$B$3:$B$175,1,0) -> #N/A | G74: =VLOOKUP(A74,'BD-202601'!$A$2:$E$198,5,0) -> Urgencia
A75: 4226104280618 | B75: =VLOOKUP(A75,'BD-202601'!$A$2:$E$198,4,0) -> 406030022 | C75: =VLOOKUP(A75,'BD-202601'!$A$2:$E$198,3,0) -> 10135.24 | D75: =VLOOKUP(A75,'202512'!$A$3:$A$171,1,0) -> #N/A | E75: =VLOOKUP(A75,'202511'!$B$3:$B$175,1,0) -> #N/A | G75: =VLOOKUP(A75,'BD-202601'!$A$2:$E$198,5,0) -> Urgencia
A76: 4226104280629 | B76: =VLOOKUP(A76,'BD-202601'!$A$2:$E$198,4,0) -> 406030049 | C76: =VLOOKUP(A76,'BD-202601'!$A$2:$E$198,3,0) -> 7653.55 | D76: =VLOOKUP(A76,'202512'!$A$3:$A$171,1,0) -> #N/A | E76: =VLOOKUP(A76,'202511'!$B$3:$B$175,1,0) -> #N/A | G76: =VLOOKUP(A76,'BD-202601'!$A$2:$E$198,5,0) -> Urgencia
A77: 4226104283863 | B77: =VLOOKUP(A77,'BD-202601'!$A$2:$E$198,4,0) -> 406010951 | C77: =VLOOKUP(A77,'BD-202601'!$A$2:$E$198,3,0) -> 27523.62 | D77: =VLOOKUP(A77,'202512'!$A$3:$A$171,1,0) -> #N/A | E77: =VLOOKUP(A77,'202511'!$B$3:$B$175,1,0) -> #N/A | G77: =VLOOKUP(A77,'BD-202601'!$A$2:$E$198,5,0) -> Urgencia
A78: 4226104284897 | B78: =VLOOKUP(A78,'BD-202601'!$A$2:$E$198,4,0) -> 406030022 | C78: =VLOOKUP(A78,'BD-202601'!$A$2:$E$198,3,0) -> 11797.14 | D78: =VLOOKUP(A78,'202512'!$A$3:$A$171,1,0) -> #N/A | E78: =VLOOKUP(A78,'202511'!$B$3:$B$175,1,0) -> #N/A | G78: =VLOOKUP(A78,'BD-202601'!$A$2:$E$198,5,0) -> Urgencia
... A81: 4226104289957 | B81: =VLOOKUP(A81,'BD-202601'!$A$2:$E$198,4,0) -> 406030049 | C81: =VLOOKUP(A81,'BD-202601'!$A$2:$E$198,3,0) -> 9656.3 | D81: =VLOOKUP(A81,'202512'!$A$3:$A$171,1,0) -> #N/A | E81: =VLOOKUP(A81,'202511'!$B$3:$B$175,1,0) -> #N/A | G81: =VLOOKUP(A81,'BD-202601'!$A$2:$E$198,5,0) -> Urgencia
A82: 4226104290034 | B82: =VLOOKUP(A82,'BD-202601'!$A$2:$E$198,4,0) -> 406050112 | C82: =VLOOKUP(A82,'BD-202601'!$A$2:$E$198,3,0) -> 7739.52 | D82: =VLOOKUP(A82,'202512'!$A$3:$A$171,1,0) -> #N/A | E82: =VLOOKUP(A82,'202511'!$B$3:$B$175,1,0) -> #N/A | G82: =VLOOKUP(A82,'BD-202601'!$A$2:$E$198,5,0) -> Eletivo | H82: =VLOOKUP(B82,premios!$A$1:$B$100,2,0) -> 1886.14
A83: 4226104290045 | B83: =VLOOKUP(A83,'BD-202601'!$A$2:$E$198,4,0) -> 406050066 | C83: =VLOOKUP(A83,'BD-202601'!$A$2:$E$198,3,0) -> 5993.23 | D83: =VLOOKUP(A83,'202512'!$A$3:$A$171,1,0) -> #N/A | E83: =VLOOKUP(A83,'202511'!$B$3:$B$175,1,0) -> #N/A | G83: =VLOOKUP(A83,'BD-202601'!$A$2:$E$198,5,0) -> Eletivo | H83: =VLOOKUP(B83,premios!$A$1:$B$100,2,0) -> 1445.78
A84: 4226104290056 | B84: =VLOOKUP(A84,'BD-202601'!$A$2:$E$198,4,0) -> 406050040 | C84: =VLOOKUP(A84,'BD-202601'!$A$2:$E$198,3,0) -> 6061.05 | D84: =VLOOKUP(A84,'202512'!$A$3:$A$171,1,0) -> #N/A | E84: =VLOOKUP(A84,'202511'!$B$3:$B$175,1,0) -> #N/A | G84: =VLOOKUP(A84,'BD-202601'!$A$2:$E$198,5,0) -> Eletivo | H84: =VLOOKUP(B84,premios!$A$1:$B$100,2,0) -> 1466.5225
A85: 4226104290067 | B85: =VLOOKUP(A85,'BD-202601'!$A$2:$E$198,4,0) -> 406050040 | C85: =VLOOKUP(A85,'BD-202601'!$A$2:$E$198,3,0) -> 6061.05 | D85: =VLOOKUP(A85,'202512'!$A$3:$A$171,1,0) -> #N/A | E85: =VLOOKUP(A85,'202511'!$B$3:$B$175,1,0) -> #N/A | G85: =VLOOKUP(A85,'BD-202601'!$A$2:$E$198,5,0) -> Eletivo | H85: =VLOOKUP(B85,premios!$A$1:$B$100,2,0) -> 1466.5225
A86: 4226104290089 | B86: =VLOOKUP(A86,'BD-202601'!$A$2:$E$198,4,0) -> 406050139 | C86: =VLOOKUP(A86,'BD-202601'!$A$2:$E$198,3,0) -> 9088.61 | D86: =VLOOKUP(A86,'202512'!$A$3:$A$171,1,0) -> #N/A | E86: =VLOOKUP(A86,'202511'!$B$3:$B$175,1,0) -> #N/A | G86: =VLOOKUP(A86,'BD-202601'!$A$2:$E$198,5,0) -> Eletivo | H86: =VLOOKUP(B86,premios!$A$1:$B$100,2,0) -> 1685.9575
A87: 4226104290210 | B87: =VLOOKUP(A87,'BD-202601'!$A$2:$E$198,4,0) -> 406010650 | C87: =VLOOKUP(A87,'BD-202601'!$A$2:$E$198,3,0) -> 11077.47 | D87: =VLOOKUP(A87,'202512'!$A$3:$A$171,1,0) -> #N/A | E87: =VLOOKUP(A87,'202511'!$B$3:$B$175,1,0) -> #N/A | G87: =VLOOKUP(A87,'BD-202601'!$A$2:$E$198,5,0) -> Eletivo
A88: 4226104291079 | B88: =VLOOKUP(A88,'BD-202601'!$A$2:$E$198,4,0) -> 406030049 | C88: =VLOOKUP(A88,'BD-202601'!$A$2:$E$198,3,0) -> 6421.8 | D88: =VLOOKUP(A88,'202512'!$A$3:$A$171,1,0) -> #N/A | E88: =VLOOKUP(A88,'202511'!$B$3:$B$175,1,0) -> #N/A | G88: =VLOOKUP(A88,'BD-202601'!$A$2:$E$198,5,0) -> Urgencia
A89: 4226104293290 | B89: =VLOOKUP(A89,'BD-202601'!$A$2:$E$198,4,0) -> 406030030 | C89: =VLOOKUP(A89,'BD-202601'!$A$2:$E$198,3,0) -> 6285.76 | D89: =VLOOKUP(A89,'202512'!$A$3:$A$171,1,0) -> #N/A | E89: =VLOOKUP(A89,'202511'!$B$3:$B$175,1,0) -> #N/A | G89: =VLOOKUP(A89,'BD-202601'!$A$2:$E$198,5,0) -> Urgencia
A90: 4226104297954 | B90: =VLOOKUP(A90,'BD-202601'!$A$2:$E$198,4,0) -> 406010951 | C90: =VLOOKUP(A90,'BD-202601'!$A$2:$E$198,3,0) -> 23642.87 | D90: =VLOOKUP(A90,'202512'!$A$3:$A$171,1,0) -> #N/A | E90: =VLOOKUP(A90,'202511'!$B$3:$B$175,1,0) -> #N/A | G90: =VLOOKUP(A90,'BD-202601'!$A$2:$E$198,5,0) -> Eletivo
A91: 4226104302849 | B91: =VLOOKUP(A91,'BD-202601'!$A$2:$E$198,4,0) -> 406010692 | C91: =VLOOKUP(A91,'BD-202601'!$A$2:$E$198,3,0) -> 24644.03 | D91: =VLOOKUP(A91,'202512'!$A$3:$A$171,1,0) -> #N/A | E91: =VLOOKUP(A91,'202511'!$B$3:$B$175,1,0) -> #N/A | G91: =VLOOKUP(A91,'BD-202601'!$A$2:$E$198,5,0) -> Eletivo
A92: 4226104303003 | B92: =VLOOKUP(A92,'BD-202601'!$A$2:$E$198,4,0) -> 406010951 | C92: =VLOOKUP(A92,'BD-202601'!$A$2:$E$198,3,0) -> 20573.02 | D92: =VLOOKUP(A92,'202512'!$A$3:$A$171,1,0) -> #N/A | E92: =VLOOKUP(A92,'202511'!$B$3:$B$175,1,0) -> #N/A | G92: =VLOOKUP(A92,'BD-202601'!$A$2:$E$198,5,0) -> Eletivo
A93: 4226104303036 | B93: =VLOOKUP(A93,'BD-202601'!$A$2:$E$198,4,0) -> 406010692 | C93: =VLOOKUP(A93,'BD-202601'!$A$2:$E$198,3,0) -> 26569.73 | D93: =VLOOKUP(A93,'202512'!$A$3:$A$171,1,0) -> #N/A | E93: =VLOOKUP(A93,'202511'!$B$3:$B$175,1,0) -> #N/A | G93: =VLOOKUP(A93,'BD-202601'!$A$2:$E$198,5,0) -> Urgencia
A94: 4226104306336 | B94: =VLOOKUP(A94,'BD-202601'!$A$2:$E$198,4,0) -> 406010650 | C94: =VLOOKUP(A94,'BD-202601'!$A$2:$E$198,3,0) -> 8676.07 | D94: =VLOOKUP(A94,'202512'!$A$3:$A$171,1,0) -> #N/A | E94: =VLOOKUP(A94,'202511'!$B$3:$B$175,1,0) -> #N/A | G94: =VLOOKUP(A94,'BD-202601'!$A$2:$E$198,5,0) -> Urgencia
A95: 4226104308404 | B95: =VLOOKUP(A95,'BD-202601'!$A$2:$E$198,4,0) -> 406030022 | C95: =VLOOKUP(A95,'BD-202601'!$A$2:$E$198,3,0) -> 9287.84 | D95: =VLOOKUP(A95,'202512'!$A$3:$A$171,1,0) -> #N/A | E95: =VLOOKUP(A95,'202511'!$B$3:$B$175,1,0) -> #N/A | G95: =VLOOKUP(A95,'BD-202601'!$A$2:$E$198,5,0) -> Urgencia
A96: 4226104308503 | B96: =VLOOKUP(A96,'BD-202601'!$A$2:$E$198,4,0) -> 406030049 | C96: =VLOOKUP(A96,'BD-202601'!$A$2:$E$198,3,0) -> 8221.8 | D96: =VLOOKUP(A96,'202512'!$A$3:$A$171,1,0) -> #N/A | E96: =VLOOKUP(A96,'202511'!$B$3:$B$175,1,0) -> #N/A | G96: =VLOOKUP(A96,'BD-202601'!$A$2:$E$198,5,0) -> Urgencia
A97: 4226104309890 | B97: =VLOOKUP(A97,'BD-202601'!$A$2:$E$198,4,0) -> 406030030 | C97: =VLOOKUP(A97,'BD-202601'!$A$2:$E$198,3,0) -> 6231.36 | D97: =VLOOKUP(A97,'202512'!$A$3:$A$171,1,0) -> #N/A | E97: =VLOOKUP(A97,'202511'!$B$3:$B$175,1,0) -> #N/A | G97: =VLOOKUP(A97,'BD-202601'!$A$2:$E$198,5,0) -> Eletivo
A98: 4226104310010 | B98: =VLOOKUP(A98,'BD-202601'!$A$2:$E$198,4,0) -> 406030030 | C98: =VLOOKUP(A98,'BD-202601'!$A$2:$E$198,3,0) -> 7658.56 | D98: =VLOOKUP(A98,'202512'!$A$3:$A$171,1,0) -> #N/A | E98: =VLOOKUP(A98,'202511'!$B$3:$B$175,1,0) -> #N/A | G98: =VLOOKUP(A98,'BD-202601'!$A$2:$E$198,5,0) -> Urgencia
... A115: 4226104350248 | B115: =VLOOKUP(A115,'BD-202601'!$A$2:$E$198,4,0) -> 406011125 | C115: =VLOOKUP(A115,'BD-202601'!$A$2:$E$198,3,0) -> 6149.86 | D115: =VLOOKUP(A115,'202512'!$A$3:$A$171,1,0) -> #N/A | E115: =VLOOKUP(A115,'202511'!$B$3:$B$175,1,0) -> #N/A | G115: =VLOOKUP(A115,'BD-202601'!$A$2:$E$198,5,0) -> Urgencia
A116: 4225105606843 | B116: 406010650 | C116: 11912 | G116: urgencia
A118: 2758164 | B118: Criciuma | C118: 210987.33 | I118: =SUM(C118,H118) -> 210987.33
A119: 4226104304268 | B119: =VLOOKUP(A119,'BD-202601'!$A$2:$E$198,4,0) -> 406010609 | C119: =VLOOKUP(A119,'BD-202601'!$A$2:$E$198,3,0) -> 57940.56 | D119: =VLOOKUP(A119,'202512'!$A$3:$A$171,1,0) -> #N/A | E119: =VLOOKUP(A119,'202511'!$B$3:$B$175,1,0) -> #N/A | G119: =VLOOKUP(A119,'BD-202601'!$A$2:$E$198,5,0) -> Urgencia
A120: 4226104307381 | B120: =VLOOKUP(A120,'BD-202601'!$A$2:$E$198,4,0) -> 406010560 | C120: =VLOOKUP(A120,'BD-202601'!$A$2:$E$198,3,0) -> 45249.43 | D120: =VLOOKUP(A120,'202512'!$A$3:$A$171,1,0) -> #N/A | E120: =VLOOKUP(A120,'202511'!$B$3:$B$175,1,0) -> #N/A | G120: =VLOOKUP(A120,'BD-202601'!$A$2:$E$198,5,0) -> Eletivo
A121: 4226104307392 | B121: =VLOOKUP(A121,'BD-202601'!$A$2:$E$198,4,0) -> 406010560 | C121: =VLOOKUP(A121,'BD-202601'!$A$2:$E$198,3,0) -> 45253.43 | D121: =VLOOKUP(A121,'202512'!$A$3:$A$171,1,0) -> #N/A | E121: =VLOOKUP(A121,'202511'!$B$3:$B$175,1,0) -> #N/A | G121: =VLOOKUP(A121,'BD-202601'!$A$2:$E$198,5,0) -> Eletivo
A122: 4225106034941 | B122: 415010012 | C122: 62543.91 | G122: urgencia
A124: 3039250 | B124: Joacaba IMAS | C124: =SUM(C125:C192) -> 423650.17 | H124: =SUM(H125:H192) -> 208930 | I124: =SUM(C124,H124) -> 632580.17
A125: 4226102806706 | B125: =VLOOKUP(A125,'BD-202601'!$A$2:$E$198,4,0) -> 407010386 | C125: =VLOOKUP(A125,'BD-202601'!$A$2:$E$198,3,0) -> 6194.06 | G125: =VLOOKUP(A125,'BD-202601'!$A$2:$E$198,5,0) -> Eletivo | H125: =VLOOKUP(B125,premios!$A$1:$B$100,2,0) -> 3072.5
A126: 4226102806717 | B126: =VLOOKUP(A126,'BD-202601'!$A$2:$E$198,4,0) -> 407010386 | C126: =VLOOKUP(A126,'BD-202601'!$A$2:$E$198,3,0) -> 6194.06 | G126: =VLOOKUP(A126,'BD-202601'!$A$2:$E$198,5,0) -> Eletivo | H126: =VLOOKUP(B126,premios!$A$1:$B$100,2,0) -> 3072.5
A127: 4226102806739 | B127: =VLOOKUP(A127,'BD-202601'!$A$2:$E$198,4,0) -> 407010386 | C127: =VLOOKUP(A127,'BD-202601'!$A$2:$E$198,3,0) -> 6194.06 | G127: =VLOOKUP(A127,'BD-202601'!$A$2:$E$198,5,0) -> Eletivo | H127: =VLOOKUP(B127,premios!$A$1:$B$100,2,0) -> 3072.5
A128: 4226102806740 | B128: =VLOOKUP(A128,'BD-202601'!$A$2:$E$198,4,0) -> 407010386 | C128: =VLOOKUP(A128,'BD-202601'!$A$2:$E$198,3,0) -> 6186.06 | G128: =VLOOKUP(A128,'BD-202601'!$A$2:$E$198,5,0) -> Eletivo | H128: =VLOOKUP(B128,premios!$A$1:$B$100,2,0) -> 3072.5
A129: 4226102808158 | B129: =VLOOKUP(A129,'BD-202601'!$A$2:$E$198,4,0) -> 407010386 | C129: =VLOOKUP(A129,'BD-202601'!$A$2:$E$198,3,0) -> 6164.02 | G129: =VLOOKUP(A129,'BD-202601'!$A$2:$E$198,5,0) -> Eletivo | H129: =VLOOKUP(B129,premios!$A$1:$B$100,2,0) -> 3072.5
A130: 4226102808191 | B130: =VLOOKUP(A130,'BD-202601'!$A$2:$E$198,4,0) -> 407010386 | C130: =VLOOKUP(A130,'BD-202601'!$A$2:$E$198,3,0) -> 6164.02 | G130: =VLOOKUP(A130,'BD-202601'!$A$2:$E$198,5,0) -> Eletivo | H130: =VLOOKUP(B130,premios!$A$1:$B$100,2,0) -> 3072.5
A131: 4226102820874 | B131: =VLOOKUP(A131,'BD-202601'!$A$2:$E$198,4,0) -> 407010386 | C131: =VLOOKUP(A131,'BD-202601'!$A$2:$E$198,3,0) -> 6153 | G131: =VLOOKUP(A131,'BD-202601'!$A$2:$E$198,5,0) -> Eletivo | H131: =VLOOKUP(B131,premios!$A$1:$B$100,2,0) -> 3072.5
A132: 4226102820930 | B132: =VLOOKUP(A132,'BD-202601'!$A$2:$E$198,4,0) -> 407010386 | C132: =VLOOKUP(A132,'BD-202601'!$A$2:$E$198,3,0) -> 6194.06 | G132: =VLOOKUP(A132,'BD-202601'!$A$2:$E$198,5,0) -> Eletivo | H132: =VLOOKUP(B132,premios!$A$1:$B$100,2,0) -> 3072.5
A133: 4226102829883 | B133: =VLOOKUP(A133,'BD-202601'!$A$2:$E$198,4,0) -> 407010386 | C133: =VLOOKUP(A133,'BD-202601'!$A$2:$E$198,3,0) -> 6327.14 | G133: =VLOOKUP(A133,'BD-202601'!$A$2:$E$198,5,0) -> Eletivo | H133: =VLOOKUP(B133,premios!$A$1:$B$100,2,0) -> 3072.5
A134: 4226102806728 | B134: =VLOOKUP(A134,'BD-202601'!$A$2:$E$198,4,0) -> 407010386 | C134: =VLOOKUP(A134,'BD-202601'!$A$2:$E$198,3,0) -> 6194.06 | G134: =VLOOKUP(A134,'BD-202601'!$A$2:$E$198,5,0) -> Eletivo | H134: =VLOOKUP(B134,premios!$A$1:$B$100,2,0) -> 3072.5
A135: 4226102829927 | B135: =VLOOKUP(A135,'BD-202601'!$A$2:$E$198,4,0) -> 407010386 | C135: =VLOOKUP(A135,'BD-202601'!$A$2:$E$198,3,0) -> 6153 | G135: =VLOOKUP(A135,'BD-202601'!$A$2:$E$198,5,0) -> Eletivo | H135: =VLOOKUP(B135,premios!$A$1:$B$100,2,0) -> 3072.5
A136: 4226102829949 | B136: =VLOOKUP(A136,'BD-202601'!$A$2:$E$198,4,0) -> 407010386 | C136: =VLOOKUP(A136,'BD-202601'!$A$2:$E$198,3,0) -> 6327.14 | G136: =VLOOKUP(A136,'BD-202601'!$A$2:$E$198,5,0) -> Eletivo | H136: =VLOOKUP(B136,premios!$A$1:$B$100,2,0) -> 3072.5
... A192: 4226102838749 | B192: =VLOOKUP(A192,'BD-202601'!$A$2:$E$198,4,0) -> 407010386 | C192: =VLOOKUP(A192,'BD-202601'!$A$2:$E$198,3,0) -> 6164.02 | G192: =VLOOKUP(A192,'BD-202601'!$A$2:$E$198,5,0) -> Eletivo | H192: =VLOOKUP(B192,premios!$A$1:$B$100,2,0) -> 3072.5
A194: 6048692 | B194: Joinville - Jeser | C194: 84076.97 | H194: =SUM(H195:H203) -> 4399.5675 | I194: =SUM(C194,H194) -> 88476.538
A195: 4226103425830 | B195: =VLOOKUP(A195,'BD-202601'!$A$2:$E$198,4,0) -> 406030057 | C195: =VLOOKUP(A195,'BD-202601'!$A$2:$E$198,3,0) -> 6011.31 | G195: =VLOOKUP(A195,'BD-202601'!$A$2:$E$198,5,0) -> Eletivo
A196: 4226103435422 | B196: =VLOOKUP(A196,'BD-202601'!$A$2:$E$198,4,0) -> 406030090 | C196: =VLOOKUP(A196,'BD-202601'!$A$2:$E$198,3,0) -> 2065.06 | G196: =VLOOKUP(A196,'BD-202601'!$A$2:$E$198,5,0) -> Eletivo
A197: 4226103447137 | B197: =VLOOKUP(A197,'BD-202601'!$A$2:$E$198,4,0) -> 406030154 | C197: =VLOOKUP(A197,'BD-202601'!$A$2:$E$198,3,0) -> 17228.04 | G197: =VLOOKUP(A197,'BD-202601'!$A$2:$E$198,5,0) -> Eletivo
A198: 4226103447159 | B198: =VLOOKUP(A198,'BD-202601'!$A$2:$E$198,4,0) -> 406030154 | C198: =VLOOKUP(A198,'BD-202601'!$A$2:$E$198,3,0) -> 17228.04 | G198: =VLOOKUP(A198,'BD-202601'!$A$2:$E$198,5,0) -> Eletivo
A199: 4226103447181 | B199: =VLOOKUP(A199,'BD-202601'!$A$2:$E$198,4,0) -> 406030057 | C199: =VLOOKUP(A199,'BD-202601'!$A$2:$E$198,3,0) -> 3547.64 | G199: =VLOOKUP(A199,'BD-202601'!$A$2:$E$198,5,0) -> Eletivo
A200: 4226103447841 | B200: =VLOOKUP(A200,'BD-202601'!$A$2:$E$198,4,0) -> 406030057 | C200: =VLOOKUP(A200,'BD-202601'!$A$2:$E$198,3,0) -> 8606.74 | G200: =VLOOKUP(A200,'BD-202601'!$A$2:$E$198,5,0) -> Urgencia
A201: 4226103472250 | B201: =VLOOKUP(A201,'BD-202601'!$A$2:$E$198,4,0) -> 406050040 | C201: =VLOOKUP(A201,'BD-202601'!$A$2:$E$198,3,0) -> 6077.05 | G201: =VLOOKUP(A201,'BD-202601'!$A$2:$E$198,5,0) -> Eletivo | H201: =VLOOKUP(B201,premios!$A$1:$B$100,2,0) -> 1466.5225
A202: 4226103472261 | B202: =VLOOKUP(A202,'BD-202601'!$A$2:$E$198,4,0) -> 406050040 | C202: =VLOOKUP(A202,'BD-202601'!$A$2:$E$198,3,0) -> 6077.05 | G202: =VLOOKUP(A202,'BD-202601'!$A$2:$E$198,5,0) -> Eletivo | H202: =VLOOKUP(B202,premios!$A$1:$B$100,2,0) -> 1466.5225
A203: 4226103472272 | B203: =VLOOKUP(A203,'BD-202601'!$A$2:$E$198,4,0) -> 406050040 | C203: =VLOOKUP(A203,'BD-202601'!$A$2:$E$198,3,0) -> 6077.05 | G203: =VLOOKUP(A203,'BD-202601'!$A$2:$E$198,5,0) -> Eletivo | H203: =VLOOKUP(B203,premios!$A$1:$B$100,2,0) -> 1466.5225
A204: 4225104608032 | B204: 406050031 | C204: 6082.73 | G204: urgencia
A205: 4225104639415 | B205: 406030138 | C205: 5076.26 | G205: eletivo
A207: 9543856 | B207: Brusque IMAS | C207: 64699.75 | I207: =SUM(C207,H207) -> 64699.75
A208: 4225106632110 | B208: =VLOOKUP(A208,'BD-202601'!$A$2:$E$198,4,0) -> 415020034 | C208: =VLOOKUP(A208,'BD-202601'!$A$2:$E$198,3,0) -> 9803.36 | G208: =VLOOKUP(A208,'BD-202601'!$A$2:$E$198,5,0) -> Urgencia
A209: 4226104401992 | B209: =VLOOKUP(A209,'BD-202601'!$A$2:$E$198,4,0) -> 408040076 | C209: =VLOOKUP(A209,'BD-202601'!$A$2:$E$198,3,0) -> 10375.88 | G209: =VLOOKUP(A209,'BD-202601'!$A$2:$E$198,5,0) -> Urgencia
A210: 4226104405149 | B210: =VLOOKUP(A210,'BD-202601'!$A$2:$E$198,4,0) -> 406040060 | C210: =VLOOKUP(A210,'BD-202601'!$A$2:$E$198,3,0) -> 4323.09 | G210: =VLOOKUP(A210,'BD-202601'!$A$2:$E$198,5,0) -> Eletivo
A211: 4226104406007 | B211: =VLOOKUP(A211,'BD-202601'!$A$2:$E$198,4,0) -> 408030135 | C211: =VLOOKUP(A211,'BD-202601'!$A$2:$E$198,3,0) -> 6822.42 | G211: =VLOOKUP(A211,'BD-202601'!$A$2:$E$198,5,0) -> Urgencia
...

Sheet 202601-Relatorio
A1: Hospital SC (CNES) - Janeiro 2026 | B1: Freq | C1: Valor AIH | D1: Prêmio Tab Cat | E1: Total
A2: 2537788 HOSPITAL REGIONAL DO OESTE | B2: 62 | C2: 750422.18 | E2: 750422.18
A3: 2672839 HOSPITAL DOM JOAQUIM IMAS | B3: 49 | C3: 532755.06 | D3: 7950.9225 | E3: =SUM(C3:D3) -> 540705.98
A4: 2758164 HOSPITAL SAO JOSE | B4: 3 | C4: 210987.33 | E4: =SUM(C4:D4) -> 210987.33
A5: 3039250 HOSPITAL SAO MIGUEL IMAS | B5: 68 | C5: 423650.17 | D5: 208930 | E5: =SUM(C5:D5) -> 632580.17
A6: 6048692 HOSPITAL INFANTIL DR JESER AMARANTE FARIA | B6: 9 | C6: 84076.97 | D6: ='[1]202601'!H189 -> 4399.5675 | E6: =SUM(C6:D6) -> 88476.538
A7: 9543856 IMIGRANTES HOSPITAL E MATERNIDADE | B7: 4 | C7: 60778.43 | D7: 3921.32 | E7: =SUM(C7:D7) -> 64699.75
A8: Total | B8: =SUM(B2:B7) -> 195 | C8: =SUM(C2:C7) -> 2062670.1 | D8: =SUM(D2:D7) -> 225201.81 | E8: =SUM(C8:D8) -> 2287872

Sheet 202602
A1: CNES / AIH | B1: PROCED | C1: VALOR AIH | D1: Busca 202601 | E1: Busca 202512 | F1: Busca 202511 | G1: Carater atend | H1: Prêmio Tabela Catarinense | I1: Total
A2: 2537788 | B2: Chapeco HRO | C2: =SUM(C3:C38) -> 538295.31 | H2: =SUM(H3:H61) -> 0 | I2: =SUM(C2,H2) -> 538295.31
A3: 4225100570691 | B3: 415020034 | C3: 22276.71 | D3: =VLOOKUP(A3,'202601'!$A$3:$A$216,1,0) -> #N/A | E3: =VLOOKUP(A3,'202512'!$A$2:$A$172,1,0) -> #N/A | F3: =VLOOKUP(A3,'202511'!$B$4:$B$176,1,0) -> #N/A | G3: =VLOOKUP(A3,'BD-202602'!$A$2:$G$189,6,0) -> ELETIVO
A4: 4225100575058 | B4: 415020034 | C4: 26999.7 | D4: =VLOOKUP(A4,'202601'!$A$3:$A$216,1,0) -> #N/A | E4: =VLOOKUP(A4,'202512'!$A$2:$A$172,1,0) -> #N/A | F4: =VLOOKUP(A4,'202511'!$B$4:$B$176,1,0) -> #N/A | G4: =VLOOKUP(A4,'BD-202602'!$A$2:$G$189,6,0) -> URGENCIA
A5: 4225100587400 | B5: 406030049 | C5: 7759.45 | D5: =VLOOKUP(A5,'202601'!$A$3:$A$216,1,0) -> #N/A | E5: =VLOOKUP(A5,'202512'!$A$2:$A$172,1,0) -> #N/A | F5: =VLOOKUP(A5,'202511'!$B$4:$B$176,1,0) -> #N/A | G5: =VLOOKUP(A5,'BD-202602'!$A$2:$G$189,6,0) -> URGENCIA
A6: 4225100591723 | B6: 406030022 | C6: 8101.69 | D6: =VLOOKUP(A6,'202601'!$A$3:$A$216,1,0) -> #N/A | E6: =VLOOKUP(A6,'202512'!$A$2:$A$172,1,0) -> #N/A | F6: =VLOOKUP(A6,'202511'!$B$4:$B$176,1,0) -> #N/A | G6: =VLOOKUP(A6,'BD-202602'!$A$2:$G$189,6,0) -> URGENCIA
A7: 4225100593373 | B7: 415020034 | C7: 33857.35 | D7: =VLOOKUP(A7,'202601'!$A$3:$A$216,1,0) -> #N/A | E7: =VLOOKUP(A7,'202512'!$A$2:$A$172,1,0) -> #N/A | F7: =VLOOKUP(A7,'202511'!$B$4:$B$176,1,0) -> #N/A | G7: =VLOOKUP(A7,'BD-202602'!$A$2:$G$189,6,0) -> URGENCIA
A8: 4225100598774 | B8: 406030049 | C8: 6489.66 | D8: =VLOOKUP(A8,'202601'!$A$3:$A$216,1,0) -> #N/A | E8: =VLOOKUP(A8,'202512'!$A$2:$A$172,1,0) -> #N/A | F8: =VLOOKUP(A8,'202511'!$B$4:$B$176,1,0) -> #N/A | G8: =VLOOKUP(A8,'BD-202602'!$A$2:$G$189,6,0) -> URGENCIA
A9: 4225100600072 | B9: 406010650 | C9: 29242.1 | D9: =VLOOKUP(A9,'202601'!$A$3:$A$216,1,0) -> #N/A | E9: =VLOOKUP(A9,'202512'!$A$2:$A$172,1,0) -> #N/A | F9: =VLOOKUP(A9,'202511'!$B$4:$B$176,1,0) -> #N/A | G9: =VLOOKUP(A9,'BD-202602'!$A$2:$G$189,6,0) -> URGENCIA
A10: 4225100601953 | B10: 406010692 | C10: 22305.53 | D10: =VLOOKUP(A10,'202601'!$A$3:$A$216,1,0) -> #N/A | E10: =VLOOKUP(A10,'202512'!$A$2:$A$172,1,0) -> #N/A | F10: =VLOOKUP(A10,'202511'!$B$4:$B$176,1,0) -> #N/A | G10: =VLOOKUP(A10,'BD-202602'!$A$2:$G$189,6,0) -> URGENCIA
A11: 4225100606837 | B11: 406010935 | C11: 21603.38 | D11: =VLOOKUP(A11,'202601'!$A$3:$A$216,1,0) -> #N/A | E11: =VLOOKUP(A11,'202512'!$A$2:$A$172,1,0) -> #N/A | F11: =VLOOKUP(A11,'202511'!$B$4:$B$176,1,0) -> #N/A | G11: =VLOOKUP(A11,'BD-202602'!$A$2:$G$189,6,0) -> URGENCIA
A12: 4225100611908 | B12: 406010935 | C12: 26630.17 | D12: =VLOOKUP(A12,'202601'!$A$3:$A$216,1,0) -> #N/A | E12: =VLOOKUP(A12,'202512'!$A$2:$A$172,1,0) -> #N/A | F12: =VLOOKUP(A12,'202511'!$B$4:$B$176,1,0) -> #N/A | G12: =VLOOKUP(A12,'BD-202602'!$A$2:$G$189,6,0) -> URGENCIA
A13: 4225100614450 | B13: 415010012 | C13: 61192.1 | D13: =VLOOKUP(A13,'202601'!$A$3:$A$216,1,0) -> #N/A | E13: =VLOOKUP(A13,'202512'!$A$2:$A$172,1,0) -> #N/A | F13: =VLOOKUP(A13,'202511'!$B$4:$B$176,1,0) -> #N/A | G13: =VLOOKUP(A13,'BD-202602'!$A$2:$G$189,6,0) -> URGENCIA
A14: 4225100615065 | B14: 406010820 | C14: 24104.14 | D14: =VLOOKUP(A14,'202601'!$A$3:$A$216,1,0) -> #N/A | E14: =VLOOKUP(A14,'202512'!$A$2:$A$172,1,0) -> #N/A | F14: =VLOOKUP(A14,'202511'!$B$4:$B$176,1,0) -> #N/A | G14: =VLOOKUP(A14,'BD-202602'!$A$2:$G$189,6,0) -> URGENCIA
... A38: 4226104672911 | B38: 415020034 | C38: 37441.65 | D38: =VLOOKUP(A38,'202601'!$A$3:$A$216,1,0) -> #N/A | E38: =VLOOKUP(A38,'202512'!$A$2:$A$172,1,0) -> #N/A | F38: =VLOOKUP(A38,'202511'!$B$4:$B$176,1,0) -> #N/A | G38: =VLOOKUP(A38,'BD-202602'!$A$2:$G$189,6,0) -> ELETIVO
A40: CNES / AIH | B40: PROCED | C40: VALOR AIH | D40: Busca 202601 | E40: Busca 202512 | F40: Busca 202511 | G40: Carater atend | H40: Prêmio Tabela Catarinense | I40: Total
A41: 2560771 | B41: Joaçaba HUST | C41: =SUM(C42) -> 834.66 | H41: =SUM(H42:H100) -> 0 | I41: =SUM(C41,H41) -> 834.66
A42: 4225106401923 | B42: 408040173 | C42: 834.66 | D42: =VLOOKUP(A42,'202601'!$A$3:$A$216,1,0) -> #N/A | E42: =VLOOKUP(A42,'202512'!$A$2:$A$172,1,0) -> #N/A | F42: =VLOOKUP(A42,'202511'!$B$4:$B$176,1,0) -> #N/A | G42: =VLOOKUP(A42,'BD-202602'!$A$2:$G$189,6,0) -> URGENCIA
A44: CNES / AIH | B44: PROCED | C44: VALOR AIH | D44: Busca 202601 | E44: Busca 202512 | F44: Busca 202511 | G44: Carater atend | H44: Prêmio Tabela Catarinense | I44: Total
A45: 2672839 | B45: Sombrio IMAS | C45: =SUM(C46:C103) -> 681278.6 | H45: =SUM(H46:H104) -> 0 | I45: =SUM(C45,H45) -> 681278.6
A46: 4225106109257 | B46: 406030022 | C46: 28675.92 | D46: =VLOOKUP(A46,'202601'!$A$3:$A$216,1,0) -> #N/A | E46: =VLOOKUP(A46,'202512'!$A$2:$A$172,1,0) -> #N/A | F46: =VLOOKUP(A46,'202511'!$B$4:$B$176,1,0) -> #N/A | G46: =VLOOKUP(A46,'BD-202602'!$A$2:$G$189,6,0) -> URGENCIA
A47: 4226104303883 | B47: 415020034 | C47: 38383.26 | D47: =VLOOKUP(A47,'202601'!$A$3:$A$216,1,0) -> #N/A | E47: =VLOOKUP(A47,'202512'!$A$2:$A$172,1,0) -> #N/A | F47: =VLOOKUP(A47,'202511'!$B$4:$B$176,1,0) -> #N/A | G47: =VLOOKUP(A47,'BD-202602'!$A$2:$G$189,6,0) -> ELETIVO
A48: 4226104326686 | B48: 406030049 | C48: 7071.55 | D48: =VLOOKUP(A48,'202601'!$A$3:$A$216,1,0) -> #N/A | E48: =VLOOKUP(A48,'202512'!$A$2:$A$172,1,0) -> #N/A | F48: =VLOOKUP(A48,'202511'!$B$4:$B$176,1,0) -> #N/A | G48: =VLOOKUP(A48,'BD-202602'!$A$2:$G$189,6,0) -> URGENCIA
A49: 4226104326730 | B49: 406030030 | C49: 7079.26 | D49: =VLOOKUP(A49,'202601'!$A$3:$A$216,1,0) -> #N/A | E49: =VLOOKUP(A49,'202512'!$A$2:$A$172,1,0) -> #N/A | F49: =VLOOKUP(A49,'202511'!$B$4:$B$176,1,0) -> #N/A | G49: =VLOOKUP(A49,'BD-202602'!$A$2:$G$189,6,0) -> URGENCIA
A50: 4226104332582 | B50: 406010862 | C50: 916.28 | D50: =VLOOKUP(A50,'202601'!$A$3:$A$216,1,0) -> #N/A | E50: =VLOOKUP(A50,'202512'!$A$2:$A$172,1,0) -> #N/A | F50: =VLOOKUP(A50,'202511'!$B$4:$B$176,1,0) -> #N/A | G50: =VLOOKUP(A50,'BD-202602'!$A$2:$G$189,6,0) -> URGENCIA
A51: 4226104332615 | B51: 415020034 | C51: 65630.65 | D51: =VLOOKUP(A51,'202601'!$A$3:$A$216,1,0) -> #N/A | E51: =VLOOKUP(A51,'202512'!$A$2:$A$172,1,0) -> #N/A | F51: =VLOOKUP(A51,'202511'!$B$4:$B$176,1,0) -> #N/A | G51: =VLOOKUP(A51,'BD-202602'!$A$2:$G$189,6,0) -> ELETIVO
A52: 4226104334705 | B52: 406030022 | C52: 11886.04 | D52: =VLOOKUP(A52,'202601'!$A$3:$A$216,1,0) -> #N/A | E52: =VLOOKUP(A52,'202512'!$A$2:$A$172,1,0) -> #N/A | F52: =VLOOKUP(A52,'202511'!$B$4:$B$176,1,0) -> #N/A | G52: =VLOOKUP(A52,'BD-202602'!$A$2:$G$189,6,0) -> URGENCIA
A53: 4226104335156 | B53: 406010676 | C53: 7232.81 | D53: =VLOOKUP(A53,'202601'!$A$3:$A$216,1,0) -> #N/A | E53: =VLOOKUP(A53,'202512'!$A$2:$A$172,1,0) -> #N/A | F53: =VLOOKUP(A53,'202511'!$B$4:$B$176,1,0) -> #N/A | G53: =VLOOKUP(A53,'BD-202602'!$A$2:$G$189,6,0) -> URGENCIA
A54: 4226104339677 | B54: 406040060 | C54: 4860.95 | D54: =VLOOKUP(A54,'202601'!$A$3:$A$216,1,0) -> #N/A | E54: =VLOOKUP(A54,'202512'!$A$2:$A$172,1,0) -> #N/A | F54: =VLOOKUP(A54,'202511'!$B$4:$B$176,1,0) -> #N/A | G54: =VLOOKUP(A54,'BD-202602'!$A$2:$G$189,6,0) -> URGENCIA
A55: 4226104339952 | B55: 406010862 | C55: 916.28 | D55: =VLOOKUP(A55,'202601'!$A$3:$A$216,1,0) -> #N/A | E55: =VLOOKUP(A55,'202512'!$A$2:$A$172,1,0) -> #N/A | F55: =VLOOKUP(A55,'202511'!$B$4:$B$176,1,0) -> #N/A | G55: =VLOOKUP(A55,'BD-202602'!$A$2:$G$189,6,0) -> URGENCIA
A56: 4226104340040 | B56: 406030022 | C56: 12118.49 | D56: =VLOOKUP(A56,'202601'!$A$3:$A$216,1,0) -> #N/A | E56: =VLOOKUP(A56,'202512'!$A$2:$A$172,1,0) -> #N/A | F56: =VLOOKUP(A56,'202511'!$B$4:$B$176,1,0) -> #N/A | G56: =VLOOKUP(A56,'BD-202602'!$A$2:$G$189,6,0) -> URGENCIA
A57: 4226104341833 | B57: 406030022 | C57: 9433.56 | D57: =VLOOKUP(A57,'202601'!$A$3:$A$216,1,0) -> #N/A | E57: =VLOOKUP(A57,'202512'!$A$2:$A$172,1,0) -> #N/A | F57: =VLOOKUP(A57,'202511'!$B$4:$B$176,1,0) -> #N/A | G57: =VLOOKUP(A57,'BD-202602'!$A$2:$G$189,6,0) -> ELETIVO
A58: 4226104347685 | B58: 406030022 | C58: 8033.68 | D58: =VLOOKUP(A58,'202601'!$A$3:$A$216,1,0) -> #N/A | E58: =VLOOKUP(A58,'202512'!$A$2:$A$172,1,0) -> #N/A | F58: =VLOOKUP(A58,'202511'!$B$4:$B$176,1,0) -> #N/A | G58: =VLOOKUP(A58,'BD-202602'!$A$2:$G$189,6,0) -> URGENCIA | H58: VERIFICAR SE CABE O PAGAMENTO
A59: 4226104348829 | B59: 406010676 | C59: 8426.52 | D59: =VLOOKUP(A59,'202601'!$A$3:$A$216,1,0) -> #N/A | E59: =VLOOKUP(A59,'202512'!$A$2:$A$172,1,0) -> #N/A | F59: =VLOOKUP(A59,'202511'!$B$4:$B$176,1,0) -> #N/A | G59: =VLOOKUP(A59,'BD-202602'!$A$2:$G$189,6,0) -> URGENCIA
A60: 4226104348972 | B60: 406030030 | C60: 7077.61 | D60: =VLOOKUP(A60,'202601'!$A$3:$A$216,1,0) -> #N/A | E60: =VLOOKUP(A60,'202512'!$A$2:$A$172,1,0) -> #N/A | F60: =VLOOKUP(A60,'202511'!$B$4:$B$176,1,0) -> #N/A | G60: =VLOOKUP(A60,'BD-202602'!$A$2:$G$189,6,0) -> URGENCIA
A61: 4226104349588 | B61: 406050031 | C61: 6179.36 | D61: =VLOOKUP(A61,'202601'!$A$3:$A$216,1,0) -> #N/A | E61: =VLOOKUP(A61,'202512'!$A$2:$A$172,1,0) -> #N/A | F61: =VLOOKUP(A61,'202511'!$B$4:$B$176,1,0) -> #N/A | G61: =VLOOKUP(A61,'BD-202602'!$A$2:$G$189,6,0) -> ELETIVO
A62: 4226104349599 | B62: 406050066 | C62: 5993.23 | D62: =VLOOKUP(A62,'202601'!$A$3:$A$216,1,0) -> #N/A | E62: =VLOOKUP(A62,'202512'!$A$2:$A$172,1,0) -> #N/A | F62: =VLOOKUP(A62,'202511'!$B$4:$B$176,1,0) -> #N/A | G62: =VLOOKUP(A62,'BD-202602'!$A$2:$G$189,6,0) -> ELETIVO
A63: 4226104349600 | B63: 406050112 | C63: 7739.52 | D63: =VLOOKUP(A63,'202601'!$A$3:$A$216,1,0) -> #N/A | E63: =VLOOKUP(A63,'202512'!$A$2:$A$172,1,0) -> #N/A | F63: =VLOOKUP(A63,'202511'!$B$4:$B$176,1,0) -> #N/A | G63: =VLOOKUP(A63,'BD-202602'!$A$2:$G$189,6,0) -> ELETIVO
A64: 4226104349610 | B64: 406050066 | C64: 5993.23 | D64: =VLOOKUP(A64,'202601'!$A$3:$A$216,1,0) -> #N/A | E64: =VLOOKUP(A64,'202512'!$A$2:$A$172,1,0) -> #N/A | F64: =VLOOKUP(A64,'202511'!$B$4:$B$176,1,0) -> #N/A | G64: =VLOOKUP(A64,'BD-202602'!$A$2:$G$189,6,0) -> ELETIVO
A65: 4226104349654 | B65: 406050015 | C65: 3713.97 | D65: =VLOOKUP(A65,'202601'!$A$3:$A$216,1,0) -> #N/A | E65: =VLOOKUP(A65,'202512'!$A$2:$A$172,1,0) -> #N/A | F65: =VLOOKUP(A65,'202511'!$B$4:$B$176,1,0) -> #N/A | G65: =VLOOKUP(A65,'BD-202602'!$A$2:$G$189,6,0) -> ELETIVO
A66: 4226104350920 | B66: 406030022 | C66: 8334.61 | D66: =VLOOKUP(A66,'202601'!$A$3:$A$216,1,0) -> #N/A | E66: =VLOOKUP(A66,'202512'!$A$2:$A$172,1,0) -> #N/A | F66: =VLOOKUP(A66,'202511'!$B$4:$B$176,1,0) -> #N/A | G66: =VLOOKUP(A66,'BD-202602'!$A$2:$G$189,6,0) -> URGENCIA
A67: 4226104351370 | B67: 406010692 | C67: 34536.62 | D67: =VLOOKUP(A67,'202601'!$A$3:$A$216,1,0) -> #N/A | E67: =VLOOKUP(A67,'202512'!$A$2:$A$172,1,0) -> #N/A | F67: =VLOOKUP(A67,'202511'!$B$4:$B$176,1,0) -> #N/A | G67: =VLOOKUP(A67,'BD-202602'!$A$2:$G$189,6,0) -> URGENCIA
A68: 4226104354142 | B68: 406030049 | C68: 6547.2 | D68: =VLOOKUP(A68,'202601'!$A$3:$A$216,1,0) -> #N/A | E68: =VLOOKUP(A68,'202512'!$A$2:$A$172,1,0) -> #N/A | F68: =VLOOKUP(A68,'202511'!$B$4:$B$176,1,0) -> #N/A | G68: =VLOOKUP(A68,'BD-202602'!$A$2:$G$189,6,0) -> URGENCIA
A69: 4226104356265 | B69: 406030049 | C69: 7679.4 | D69: =VLOOKUP(A69,'202601'!$A$3:$A$216,1,0) -> #N/A | E69: =VLOOKUP(A69,'202512'!$A$2:$A$172,1,0) -> #N/A | F69: =VLOOKUP(A69,'202511'!$B$4:$B$176,1,0) -> #N/A | G69: =VLOOKUP(A69,'BD-202602'!$A$2:$G$189,6,0) -> URGENCIA
A70: 4226104356760 | B70: 406040060 | C70: 6297.56 | D70: =VLOOKUP(A70,'202601'!$A$3:$A$216,1,0) -> #N/A | E70: =VLOOKUP(A70,'202512'!$A$2:$A$172,1,0) -> #N/A | F70: =VLOOKUP(A70,'202511'!$B$4:$B$176,1,0) -> #N/A | G70: =VLOOKUP(A70,'BD-202602'!$A$2:$G$189,6,0) -> URGENCIA
... A103: 4226107063068 | B103: 406040028 | C103: 6973.85 | D103: =VLOOKUP(A103,'202601'!$A$3:$A$216,1,0) -> #N/A | E103: =VLOOKUP(A103,'202512'!$A$2:$A$172,1,0) -> #N/A | F103: =VLOOKUP(A103,'202511'!$B$4:$B$176,1,0) -> #N/A | G103: =VLOOKUP(A103,'BD-202602'!$A$2:$G$189,6,0) -> ELETIVO
A105: CNES / AIH | B105: PROCED | C105: VALOR AIH | D105: Busca 202601 | E105: Busca 202512 | F105: Busca 202511 | G105: Carater atend | H105: Prêmio Tabela Catarinense | I105: Total
A106: 2759164 | B106: Criciuma | C106: =SUM(C107:C108) -> 101512.92 | I106: =SUM(C106,H106) -> 101512.92
A107: 4226104287218 | B107: 406010560 | C107: 55080.89 | D107: =VLOOKUP(A107,'202601'!$A$3:$A$216,1,0) -> #N/A | E107: =VLOOKUP(A107,'202512'!$A$2:$A$172,1,0) -> #N/A | F107: =VLOOKUP(A107,'202511'!$B$4:$B$176,1,0) -> #N/A | G107: =VLOOKUP(A107,'BD-202602'!$A$2:$G$189,6,0) -> URGENCIA
A108: 4226104370334 | B108: 406010587 | C108: 46432.03 | D108: =VLOOKUP(A108,'202601'!$A$3:$A$216,1,0) -> #N/A | E108: =VLOOKUP(A108,'202512'!$A$2:$A$172,1,0) -> #N/A | F108: =VLOOKUP(A108,'202511'!$B$4:$B$176,1,0) -> #N/A | G108: =VLOOKUP(A108,'BD-202602'!$A$2:$G$189,6,0) -> URGENCIA
A110: CNES / AIH | B110: PROCED | C110: VALOR AIH | D110: Busca 202601 | E110: Busca 202512 | F110: Busca 202511 | G110: Carater atend | H110: Prêmio Tabela Catarinense | I110: Total
A111: 3039250 | B111: Joaçaba IMAS | C111: =SUM(C112:C184) -> 470739.89 | H111: =SUM(H112:H184) -> 218147.5 | I111: =SUM(C111,H111) -> 688887.39
A112: 4226102817190 | B112: 408040076 | C112: 11275.08 | D112: =VLOOKUP(A112,'202601'!$A$3:$A$216,1,0) -> #N/A | E112: =VLOOKUP(A112,'202512'!$A$2:$A$172,1,0) -> #N/A | F112: =VLOOKUP(A112,'202511'!$B$4:$B$176,1,0) -> #N/A | G112: =VLOOKUP(A112,'BD-202602'!$A$2:$G$189,6,0) -> URGENCIA
A113: 4226102829894 | B113: 407010386 | C113: 6327.14 | D113: =VLOOKUP(A113,'202601'!$A$3:$A$216,1,0) -> #N/A | E113: =VLOOKUP(A113,'202512'!$A$2:$A$172,1,0) -> #N/A | F113: =VLOOKUP(A113,'202511'!$B$4:$B$176,1,0) -> #N/A | G113: =VLOOKUP(A113,'BD-202602'!$A$2:$G$189,6,0) -> ELETIVO | H113: 3072.5
A114: 4226102831115 | B114: 407010386 | C114: 6205.08 | D114: =VLOOKUP(A114,'202601'!$A$3:$A$216,1,0) -> #N/A | E114: =VLOOKUP(A114,'202512'!$A$2:$A$172,1,0) -> #N/A | F114: =VLOOKUP(A114,'202511'!$B$4:$B$176,1,0) -> #N/A | G114: =VLOOKUP(A114,'BD-202602'!$A$2:$G$189,6,0) -> ELETIVO | H114: 3072.5
A115: 4226102831203 | B115: 407010386 | C115: 6984.64 | D115: =VLOOKUP(A115,'202601'!$A$3:$A$216,1,0) -> #N/A | E115: =VLOOKUP(A115,'202512'!$A$2:$A$172,1,0) -> #N/A | F115: =VLOOKUP(A115,'202511'!$B$4:$B$176,1,0) -> #N/A | G115: =VLOOKUP(A115,'BD-202602'!$A$2:$G$189,6,0) -> ELETIVO | H115: 3072.5
A116: 4226102831214 | B116: 407010386 | C116: 6183.04 | D116: =VLOOKUP(A116,'202601'!$A$3:$A$216,1,0) -> #N/A | E116: =VLOOKUP(A116,'202512'!$A$2:$A$172,1,0) -> #N/A | F116: =VLOOKUP(A116,'202511'!$B$4:$B$176,1,0) -> #N/A | G116: =VLOOKUP(A116,'BD-202602'!$A$2:$G$189,6,0) -> ELETIVO | H116: 3072.5
A117: 4226102834437 | B117: 408050055 | C117: 14035.69 | D117: =VLOOKUP(A117,'202601'!$A$3:$A$216,1,0) -> #N/A | E117: =VLOOKUP(A117,'202512'!$A$2:$A$172,1,0) -> #N/A | F117: =VLOOKUP(A117,'202511'!$B$4:$B$176,1,0) -> #N/A | G117: =VLOOKUP(A117,'BD-202602'!$A$2:$G$189,6,0) -> URGENCIA
A118: 4226102836472 | B118: 407010386 | C118: 6346.16 | D118: =VLOOKUP(A118,'202601'!$A$3:$A$216,1,0) -> #N/A | E118: =VLOOKUP(A118,'202512'!$A$2:$A$172,1,0) -> #N/A | F118: =VLOOKUP(A118,'202511'!$B$4:$B$176,1,0) -> #N/A | G118: =VLOOKUP(A118,'BD-202602'!$A$2:$G$189,6,0) -> ELETIVO | H118: 3072.5
A119: 4226102836483 | B119: 407010386 | C119: 6324.12 | D119: =VLOOKUP(A119,'202601'!$A$3:$A$216,1,0) -> #N/A | E119: =VLOOKUP(A119,'202512'!$A$2:$A$172,1,0) -> #N/A | F119: =VLOOKUP(A119,'202511'!$B$4:$B$176,1,0) -> #N/A | G119: =VLOOKUP(A119,'BD-202602'!$A$2:$G$189,6,0) -> ELETIVO | H119: 3072.5
A120: 4226102836494 | B120: 407010386 | C120: 6161 | D120: =VLOOKUP(A120,'202601'!$A$3:$A$216,1,0) -> #N/A | E120: =VLOOKUP(A120,'202512'!$A$2:$A$172,1,0) -> #N/A | F120: =VLOOKUP(A120,'202511'!$B$4:$B$176,1,0) -> #N/A | G120: =VLOOKUP(A120,'BD-202602'!$A$2:$G$189,6,0) -> ELETIVO | H120: 3072.5
A121: 4226102836505 | B121: 407010386 | C121: 6161 | D121: =VLOOKUP(A121,'202601'!$A$3:$A$216,1,0) -> #N/A | E121: =VLOOKUP(A121,'202512'!$A$2:$A$172,1,0) -> #N/A | F121: =VLOOKUP(A121,'202511'!$B$4:$B$176,1,0) -> #N/A | G121: =VLOOKUP(A121,'BD-202602'!$A$2:$G$189,6,0) -> ELETIVO | H121: 3072.5
A122: 4226102831160 | B122: 407010386 | C122: 6186.06 | D122: =VLOOKUP(A122,'202601'!$A$3:$A$216,1,0) -> #N/A | E122: =VLOOKUP(A122,'202512'!$A$2:$A$172,1,0) -> #N/A | F122: =VLOOKUP(A122,'202511'!$B$4:$B$176,1,0) -> #N/A | G122: =VLOOKUP(A122,'BD-202602'!$A$2:$G$189,6,0) -> ELETIVO | H122: 3072.5
A123: 4226102836527 | B123: 407010386 | C123: 6161 | D123: =VLOOKUP(A123,'202601'!$A$3:$A$216,1,0) -> #N/A | E123: =VLOOKUP(A123,'202512'!$A$2:$A$172,1,0) -> #N/A | F123: =VLOOKUP(A123,'202511'!$B$4:$B$176,1,0) -> #N/A | G123: =VLOOKUP(A123,'BD-202602'!$A$2:$G$189,6,0) -> ELETIVO | H123: 3072.5
A124: 4226102845680 | B124: 407010386 | C124: 6205.08 | D124: =VLOOKUP(A124,'202601'!$A$3:$A$216,1,0) -> #N/A | E124: =VLOOKUP(A124,'202512'!$A$2:$A$172,1,0) -> #N/A | F124: =VLOOKUP(A124,'202511'!$B$4:$B$176,1,0) -> #N/A | G124: =VLOOKUP(A124,'BD-202602'!$A$2:$G$189,6,0) -> ELETIVO | H124: 3072.5
A125: 4226102845690 | B125: 407010386 | C125: 6194.06 | D125: =VLOOKUP(A125,'202601'!$A$3:$A$216,1,0) -> #N/A | E125: =VLOOKUP(A125,'202512'!$A$2:$A$172,1,0) -> #N/A | F125: =VLOOKUP(A125,'202511'!$B$4:$B$176,1,0) -> #N/A | G125: =VLOOKUP(A125,'BD-202602'!$A$2:$G$189,6,0) -> ELETIVO | H125: 3072.5
A126: 4226102845701 | B126: 407010386 | C126: 6357.18 | D126: =VLOOKUP(A126,'202601'!$A$3:$A$216,1,0) -> #N/A | E126: =VLOOKUP(A126,'202512'!$A$2:$A$172,1,0) -> #N/A | F126: =VLOOKUP(A126,'202511'!$B$4:$B$176,1,0) -> #N/A | G126: =VLOOKUP(A126,'BD-202602'!$A$2:$G$189,6,0) -> ELETIVO | H126: 3072.5
A127: 4226102845712 | B127: 407010386 | C127: 6194.06 | D127: =VLOOKUP(A127,'202601'!$A$3:$A$216,1,0) -> #N/A | E127: =VLOOKUP(A127,'202512'!$A$2:$A$172,1,0) -> #N/A | F127: =VLOOKUP(A127,'202511'!$B$4:$B$176,1,0) -> #N/A | G127: =VLOOKUP(A127,'BD-202602'!$A$2:$G$189,6,0) -> ELETIVO | H127: 3072.5
A128: 4226102845899 | B128: 407010386 | C128: 6352.2 | D128: =VLOOKUP(A128,'202601'!$A$3:$A$216,1,0) -> #N/A | E128: =VLOOKUP(A128,'202512'!$A$2:$A$172,1,0) -> #N/A | F128: =VLOOKUP(A128,'202511'!$B$4:$B$176,1,0) -> #N/A | G128: =VLOOKUP(A128,'BD-202602'!$A$2:$G$189,6,0) -> ELETIVO | H128: 3072.5
A129: 4226102845900 | B129: 407010386 | C129: 6357.18 | D129: =VLOOKUP(A129,'202601'!$A$3:$A$216,1,0) -> #N/A | E129: =VLOOKUP(A129,'202512'!$A$2:$A$172,1,0) -> #N/A | F129: =VLOOKUP(A129,'202511'!$B$4:$B$176,1,0) -> #N/A | G129: =VLOOKUP(A129,'BD-202602'!$A$2:$G$189,6,0) -> ELETIVO | H129: 3072.5
... A184: 4226102863741 | B184: 407010386 | C184: 6164.02 | D184: =VLOOKUP(A184,'202601'!$A$3:$A$216,1,0) -> #N/A | E184: =VLOOKUP(A184,'202512'!$A$2:$A$172,1,0) -> #N/A | F184: =VLOOKUP(A184,'202511'!$B$4:$B$176,1,0) -> #N/A | G184: =VLOOKUP(A184,'BD-202602'!$A$2:$G$189,6,0) -> ELETIVO | H184: 3072.5
A186: CNES / AIH | B186: PROCED | C186: VALOR AIH | D186: Busca 202601 | E186: Busca 202512 | F186: Busca 202511 | G186: Carater atend | H186: Prêmio Tabela Catarinense | I186: Total
A187: 2691841 | B187: Florianopolis HGCR | C187: =C188 -> 1756.18 | H187: =SUM(H188:H259) -> 20528.06 | I187: =SUM(C187,H187) -> 22284.24
A188: 4226101924430 | B188: 406020442 | C188: 1756.18 | D188: =VLOOKUP(A188,'202601'!$A$3:$A$216,1,0) -> #N/A | E188: =VLOOKUP(A188,'202512'!$A$2:$A$172,1,0) -> #N/A | F188: =VLOOKUP(A188,'202511'!$B$4:$B$176,1,0) -> #N/A | G188: =VLOOKUP(A188,'BD-202602'!$A$2:$G$189,6,0) -> URGENCIA
A190: CNES / AIH | B190: PROCED | C190: VALOR AIH | D190: Busca 202601 | E190: Busca 202512 | F190: Busca 202511 | G190: Carater atend | H190: Prêmio Tabela Catarinense | I190: Total
A191: 6048692 | B191: Joinville - JESER | C191: =SUM(C192:C204) -> 142521.53 | I191: =SUM(C191,H191) -> 142521.53
A192: 4226103430440 | B192: =VLOOKUP(A192,'BD-202602'!$A$2:$G$189,2,0) -> 406030081 | C192: 6295.82 | D192: =VLOOKUP(A192,'202601'!$A$3:$A$216,1,0) -> #N/A | E192: =VLOOKUP(A192,'202512'!$A$2:$A$172,1,0) -> #N/A | F192: =VLOOKUP(A192,'202511'!$B$4:$B$176,1,0) -> #N/A | G192: =VLOOKUP(A192,'BD-202602'!$A$2:$G$189,6,0) -> URGENCIA
A193: 4226103432254 | B193: =VLOOKUP(A193,'BD-202602'!$A$2:$G$189,2,0) -> 415010012 | C193: 42060.6 | D193: =VLOOKUP(A193,'202601'!$A$3:$A$216,1,0) -> #N/A | E193: =VLOOKUP(A193,'202512'!$A$2:$A$172,1,0) -> #N/A | F193: =VLOOKUP(A193,'202511'!$B$4:$B$176,1,0) -> #N/A | G193: =VLOOKUP(A193,'BD-202602'!$A$2:$G$189,6,0) -> URGENCIA
A194: 4226103447126 | B194: =VLOOKUP(A194,'BD-202602'!$A$2:$G$189,2,0) -> 406030111 | C194: =VLOOKUP(A194,'BD-202602'!$A$2:$G$189,3,0) -> 5693.74 | D194: =VLOOKUP(A194,'202601'!$A$3:$A$216,1,0) -> #N/A | E194: =VLOOKUP(A194,'202512'!$A$2:$A$172,1,0) -> #N/A | F194: =VLOOKUP(A194,'202511'!$B$4:$B$176,1,0) -> #N/A | G194: =VLOOKUP(A194,'BD-202602'!$A$2:$G$189,6,0) -> ELETIVO
A195: 4226103451801 | B195: =VLOOKUP(A195,'BD-202602'!$A$2:$G$189,2,0) -> 406030081 | C195: =VLOOKUP(A195,'BD-202602'!$A$2:$G$189,3,0) -> 8719.91 | D195: =VLOOKUP(A195,'202601'!$A$3:$A$216,1,0) -> #N/A | E195: =VLOOKUP(A195,'202512'!$A$2:$A$172,1,0) -> #N/A | F195: =VLOOKUP(A195,'202511'!$B$4:$B$176,1,0) -> #N/A | G195: =VLOOKUP(A195,'BD-202602'!$A$2:$G$189,6,0) -> URGENCIA
A196: 4226103460678 | B196: =VLOOKUP(A196,'BD-202602'!$A$2:$G$189,2,0) -> 406030057 | C196: =VLOOKUP(A196,'BD-202602'!$A$2:$G$189,3,0) -> 11814.06 | D196: =VLOOKUP(A196,'202601'!$A$3:$A$216,1,0) -> #N/A | E196: =VLOOKUP(A196,'202512'!$A$2:$A$172,1,0) -> #N/A | F196: =VLOOKUP(A196,'202511'!$B$4:$B$176,1,0) -> #N/A | G196: =VLOOKUP(A196,'BD-202602'!$A$2:$G$189,6,0) -> URGENCIA
A197: 4226103464781 | B197: =VLOOKUP(A197,'BD-202602'!$A$2:$G$189,2,0) -> 415010012 | C197: =VLOOKUP(A197,'BD-202602'!$A$2:$G$189,3,0) -> 2417.99 | D197: =VLOOKUP(A197,'202601'!$A$3:$A$216,1,0) -> #N/A | E197: =VLOOKUP(A197,'202512'!$A$2:$A$172,1,0) -> #N/A | F197: =VLOOKUP(A197,'202511'!$B$4:$B$176,1,0) -> #N/A | G197: =VLOOKUP(A197,'BD-202602'!$A$2:$G$189,6,0) -> URGENCIA
A198: 4226103484570 | B198: =VLOOKUP(A198,'BD-202602'!$A$2:$G$189,2,0) -> 415010012 | C198: =VLOOKUP(A198,'BD-202602'!$A$2:$G$189,3,0) -> 19555.07 | D198: =VLOOKUP(A198,'202601'!$A$3:$A$216,1,0) -> #N/A | E198: =VLOOKUP(A198,'202512'!$A$2:$A$172,1,0) -> #N/A | F198: =VLOOKUP(A198,'202511'!$B$4:$B$176,1,0) -> #N/A | G198: =VLOOKUP(A198,'BD-202602'!$A$2:$G$189,6,0) -> URGENCIA
A199: 4226103484603 | B199: =VLOOKUP(A199,'BD-202602'!$A$2:$G$189,2,0) -> 406030081 | C199: =VLOOKUP(A199,'BD-202602'!$A$2:$G$189,3,0) -> 20852.2 | D199: =VLOOKUP(A199,'202601'!$A$3:$A$216,1,0) -> #N/A | E199: =VLOOKUP(A199,'202512'!$A$2:$A$172,1,0) -> #N/A | F199: =VLOOKUP(A199,'202511'!$B$4:$B$176,1,0) -> #N/A | G199: =VLOOKUP(A199,'BD-202602'!$A$2:$G$189,6,0) -> URGENCIA
A200: 4226103489432 | B200: =VLOOKUP(A200,'BD-202602'!$A$2:$G$189,2,0) -> 406030138 | C200: =VLOOKUP(A200,'BD-202602'!$A$2:$G$189,3,0) -> 1882.82 | D200: =VLOOKUP(A200,'202601'!$A$3:$A$216,1,0) -> #N/A | E200: =VLOOKUP(A200,'202512'!$A$2:$A$172,1,0) -> #N/A | F200: =VLOOKUP(A200,'202511'!$B$4:$B$176,1,0) -> #N/A | G200: =VLOOKUP(A200,'BD-202602'!$A$2:$G$189,6,0) -> URGENCIA
A201: 4226103497990 | B201: =VLOOKUP(A201,'BD-202602'!$A$2:$G$189,2,0) -> 406030057 | C201: =VLOOKUP(A201,'BD-202602'!$A$2:$G$189,3,0) -> 18298.39 | D201: =VLOOKUP(A201,'202601'!$A$3:$A$216,1,0) -> #N/A | E201: =VLOOKUP(A201,'202512'!$A$2:$A$172,1,0) -> #N/A | F201: =VLOOKUP(A201,'202511'!$B$4:$B$176,1,0) -> #N/A | G201: =VLOOKUP(A201,'BD-202602'!$A$2:$G$189,6,0) -> URGENCIA
A202: 4226103499398 | B202: =VLOOKUP(A202,'BD-202602'!$A$2:$G$189,2,0) -> 415010012 | C202: =VLOOKUP(A202,'BD-202602'!$A$2:$G$189,3,0) -> 1743.18 | D202: =VLOOKUP(A202,'202601'!$A$3:$A$216,1,0) -> #N/A | E202: =VLOOKUP(A202,'202512'!$A$2:$A$172,1,0) -> #N/A | F202: =VLOOKUP(A202,'202511'!$B$4:$B$176,1,0) -> #N/A | G202: =VLOOKUP(A202,'BD-202602'!$A$2:$G$189,6,0) -> ELETIVO
A203: 4226103516921 | B203: =VLOOKUP(A203,'BD-202602'!$A$2:$G$189,2,0) -> 406030090 | C203: =VLOOKUP(A203,'BD-202602'!$A$2:$G$189,3,0) -> 2373.99 | D203: =VLOOKUP(A203,'202601'!$A$3:$A$216,1,0) -> #N/A | E203: =VLOOKUP(A203,'202512'!$A$2:$A$172,1,0) -> #N/A | F203: =VLOOKUP(A203,'202511'!$B$4:$B$176,1,0) -> #N/A | G203: =VLOOKUP(A203,'BD-202602'!$A$2:$G$189,6,0) -> ELETIVO
A204: 4226103518220 | B204: =VLOOKUP(A204,'BD-202602'!$A$2:$G$189,2,0) -> 415010012 | C204: =VLOOKUP(A204,'BD-202602'!$A$2:$G$189,3,0) -> 813.76 | D204: =VLOOKUP(A204,'202601'!$A$3:$A$216,1,0) -> #N/A | E204: =VLOOKUP(A204,'202512'!$A$2:$A$172,1,0) -> #N/A | F204: =VLOOKUP(A204,'202511'!$B$4:$B$176,1,0) -> #N/A | G204: =VLOOKUP(A204,'BD-202602'!$A$2:$G$189,6,0) -> URGENCIA
A206: CNES / AIH | B206: PROCED | C206: VALOR AIH | D206: Busca 202601 | E206: Busca 202512 | F206: Busca 202511 | G206: Carater atend | H206: Prêmio Tabela Catarinense | I206: Total
A207: 9543856 | B207: Brusque - IMAS | C207: =SUM(C208:C211) -> 33767.45 | H207: =SUM(H208:H280) -> 10264.03 | I207: =SUM(C207,H207) -> 44031.48
A208: 4226104399869 | B208: =VLOOKUP(A208,'BD-202602'!$A$2:$G$189,2,0) -> 408050055 | C208: =VLOOKUP(A208,'BD-202602'!$A$2:$G$189,3,0) -> 9410.24 | D208: =VLOOKUP(A208,'202601'!$A$3:$A$216,1,0) -> #N/A | E208: =VLOOKUP(A208,'202512'!$A$2:$A$172,1,0) -> #N/A | F208: =VLOOKUP(A208,'202511'!$B$4:$B$176,1,0) -> #N/A | G208: =VLOOKUP(A208,'BD-202602'!$A$2:$G$189,6,0) -> ELETIVO | H208: 10264.03
A209: 4226104415588 | B209: =VLOOKUP(A209,'BD-202602'!$A$2:$G$189,2,0) -> 408050055 | C209: =VLOOKUP(A209,'BD-202602'!$A$2:$G$189,3,0) -> 8861.86 | D209: =VLOOKUP(A209,'202601'!$A$3:$A$216,1,0) -> #N/A | E209: =VLOOKUP(A209,'202512'!$A$2:$A$172,1,0) -> #N/A | F209: =VLOOKUP(A209,'202511'!$B$4:$B$176,1,0) -> #N/A | G209: =VLOOKUP(A209,'BD-202602'!$A$2:$G$189,6,0) -> URGENCIA
A210: 4226104415984 | B210: =VLOOKUP(A210,'BD-202602'!$A$2:$G$189,2,0) -> 408050055 | C210: =VLOOKUP(A210,'BD-202602'!$A$2:$G$189,3,0) -> 12878.24 | D210: =VLOOKUP(A210,'202601'!$A$3:$A$216,1,0) -> #N/A | E210: =VLOOKUP(A210,'202512'!$A$2:$A$172,1,0) -> #N/A | F210: =VLOOKUP(A210,'202511'!$B$4:$B$176,1,0) -> #N/A | G210: =VLOOKUP(A210,'BD-202602'!$A$2:$G$189,6,0) -> URGENCIA
A211: 4226104423453 | B211: =VLOOKUP(A211,'BD-202602'!$A$2:$G$189,2,0) -> 406040052 | C211: =VLOOKUP(A211,'BD-202602'!$A$2:$G$189,3,0) -> 2617.11 | D211: =VLOOKUP(A211,'202601'!$A$3:$A$216,1,0) -> #N/A | E211: =VLOOKUP(A211,'202512'!$A$2:$A$172,1,0) -> #N/A | F211: =VLOOKUP(A211,'202511'!$B$4:$B$176,1,0) -> #N/A | G211: =VLOOKUP(A211,'BD-202602'!$A$2:$G$189,6,0) -> ELETIVO

Sheet BD-202602
A1: N_AIH,C,13 | B1: PROC_REA,C,10 | C1: VAL_TOT,N,14,2 | D1: DT_INTER,C,8 | E1: DT_SAIDA,C,8 | F1: CAR_INT,C,URGENCIA | G1: CNES,C,7
A2: 4226104287218 | B2: 406010560 | C2: 55080.89 | D2: 20260104 | E2: 20260207 | F2: URGENCIA | G2: 2758164
A3: 4225100575058 | B3: 406011206 | C3: 26999.7 | D3: 20251124 | E3: 20251126 | F3: URGENCIA | G3: 2537788
A4: 4225100587400 | B4: 406030049 | C4: 7759.45 | D4: 20251201 | E4: 20251203 | F4: URGENCIA | G4: 2537788
A5: 4225100591723 | B5: 406030022 | C5: 8101.69 | D5: 20251202 | E5: 20251204 | F5: URGENCIA | G5: 2537788
A6: 4225100570691 | B6: 415020034 | C6: 22276.71 | D6: 20251115 | E6: 20251116 | F6: ELETIVO | G6: 2537788
A7: 4225100598774 | B7: 406030049 | C7: 6489.66 | D7: 20251206 | E7: 20251208 | F7: URGENCIA | G7: 2537788
A8: 4225100600072 | B8: 406010650 | C8: 29242.1 | D8: 20251201 | E8: 20251231 | F8: URGENCIA | G8: 2537788
A9: 4225100601953 | B9: 406010692 | C9: 22305.53 | D9: 20251208 | E9: 20251222 | F9: URGENCIA | G9: 2537788
A10: 4225100593373 | B10: 415020034 | C10: 33857.35 | D10: 20251203 | E10: 20251211 | F10: URGENCIA | G10: 2537788
A11: 4225100611908 | B11: 406010935 | C11: 26630.17 | D11: 20251202 | E11: 20251214 | F11: URGENCIA | G11: 2537788
A12: 4225100614450 | B12: 415010012 | C12: 61192.1 | D12: 20251215 | E12: 20251226 | F12: URGENCIA | G12: 2537788
A13: 4225100615065 | B13: 406010820 | C13: 24104.14 | D13: 20251215 | E13: 20251225 | F13: URGENCIA | G13: 2537788
... A189: 4226104423453 | B189: 406040052 | C189: 2617.11 | D189: 20260206 | E189: 20260207 | F189: ELETIVO | G189: 9543856

Sheet BD-202603
A1: N_AIH,C,13 | B1: PROC_REA,C,10 | C1: VAL_TOT,N,14,2 | D1: DT_INTER,C,8 | E1: DT_SAIDA,C,8 | F1: CAR_INT,C,2 | G1: CNES,C,7 | H1: nome | I1: valor
A2: 4226104600993 | B2: 415020034 | C2: 8663.65 | D2: 20260101 | E2: 20260103 | F2: URGENCIA | G2: 2537788 | H2: Chapeco HRO | I2: =VLOOKUP(B2,premios!$A$1:$B$100,2,0) -> #N/A
A3: 4226104601829 | B3: 415020034 | C3: 8377.36 | D3: 20260101 | E3: 20260104 | F3: URGENCIA | G3: 2537788 | H3: Chapeco HRO | I3: =VLOOKUP(B3,premios!$A$1:$B$100,2,0) -> #N/A
A4: 4226104603369 | B4: 406030049 | C4: 5802.45 | D4: 20260103 | E4: 20260110 | F4: URGENCIA | G4: 2537788 | H4: Chapeco HRO | I4: =VLOOKUP(B4,premios!$A$1:$B$100,2,0) -> #N/A
A5: 4226104606768 | B5: 406030049 | C5: 8429.96 | D5: 20260105 | E5: 20260109 | F5: URGENCIA | G5: 2537788 | H5: Chapeco HRO | I5: =VLOOKUP(B5,premios!$A$1:$B$100,2,0) -> #N/A
A6: 4226104608044 | B6: 406030049 | C6: 6434.8 | D6: 20260106 | E6: 20260107 | F6: URGENCIA | G6: 2537788 | H6: Chapeco HRO | I6: =VLOOKUP(B6,premios!$A$1:$B$100,2,0) -> #N/A
A7: 4226104602995 | B7: 406030022 | C7: 7926.71 | D7: 20260102 | E7: 20260107 | F7: URGENCIA | G7: 2537788 | H7: Chapeco HRO | I7: =VLOOKUP(B7,premios!$A$1:$B$100,2,0) -> #N/A
A8: 4226104610552 | B8: 406030049 | C8: 5114.45 | D8: 20260107 | E8: 20260109 | F8: URGENCIA | G8: 2537788 | H8: Chapeco HRO | I8: =VLOOKUP(B8,premios!$A$1:$B$100,2,0) -> #N/A
A9: 4226104612378 | B9: 406040052 | C9: 2881.54 | D9: 20260108 | E9: 20260116 | F9: URGENCIA | G9: 2537788 | H9: Chapeco HRO | I9: =VLOOKUP(B9,premios!$A$1:$B$100,2,0) -> #N/A
A10: 4226104615030 | B10: 406030022 | C10: 8930.4 | D10: 20260109 | E10: 20260114 | F10: URGENCIA | G10: 2537788 | H10: Chapeco HRO | I10: =VLOOKUP(B10,premios!$A$1:$B$100,2,0) -> #N/A
A11: 4226104616789 | B11: 406010935 | C11: 30147.42 | D11: 20260110 | E11: 20260129 | F11: URGENCIA | G11: 2537788 | H11: Chapeco HRO | I11: =VLOOKUP(B11,premios!$A$1:$B$100,2,0) -> #N/A
A12: 4226104617075 | B12: 406010935 | C12: 22305.66 | D12: 20260111 | E12: 20260124 | F12: URGENCIA | G12: 2537788 | H12: Chapeco HRO | I12: =VLOOKUP(B12,premios!$A$1:$B$100,2,0) -> #N/A
A13: 4226104617801 | B13: 406010692 | C13: 22373.69 | D13: 20260106 | E13: 20260113 | F13: ELETIVO | G13: 2537788 | H13: Chapeco HRO | I13: =VLOOKUP(B13,premios!$A$1:$B$100,2,0) -> #N/A
... A203: 4226103532244 | B203: 415010012 | C203: 4205.78 | D203: 20260225 | E203: 20260302 | F203: URGENCIA | G203: 6048692 | H203: Joinville - JESER | I203: =VLOOKUP(B203,premios!$A$1:$B$100,2,0) -> #N/A
A204: 4226103537040 | B204: 406050031 | C204: 6194.65 | D204: 20260316 | E204: 20260321 | F204: URGENCIA | G204: 6048692 | H204: Joinville - JESER
A205: 4226103538129 | B205: 406030057 | C205: 2692.65 | D205: 20260317 | E205: 20260320 | F205: URGENCIA | G205: 6048692 | H205: Joinville - JESER | I205: =VLOOKUP(B205,premios!$A$1:$B$100,2,0) -> #N/A
A206: 4226103540890 | B206: 406030111 | C206: 6627.09 | D206: 20260318 | E206: 20260325 | F206: URGENCIA | G206: 6048692 | H206: Joinville - JESER | I206: =VLOOKUP(B206,premios!$A$1:$B$100,2,0) -> #N/A
A207: 4226103549657 | B207: 406030057 | C207: 2783 | D207: 20260324 | E207: 20260326 | F207: URGENCIA | G207: 6048692 | H207: Joinville - JESER | I207: =VLOOKUP(B207,premios!$A$1:$B$100,2,0) -> #N/A
A208: 4226103552748 | B208: 406030090 | C208: 2389.94 | D208: 20260318 | E208: 20260325 | F208: ELETIVO | G208: 6048692 | H208: Joinville - JESER | I208: =VLOOKUP(B208,premios!$A$1:$B$100,2,0) -> #N/A
A209: 4226103525787 | B209: 0406030057 | C209: 3173.2 | D209: 20260206 | E209: 20260208 | F209: URGENCIA | G209: 6048692 | H209: Joinville - JESER | I209: =VLOOKUP(B209,premios!$A$1:$B$100,2,0) -> #N/A
A210: 4226103560668 | B210: 0406030057 | C210: 10395.15 | D210: 20260311 | E210: 20260327 | F210: URGENCIA | G210: 6048692 | H210: Joinville - JESER | I210: =VLOOKUP(B210,premios!$A$1:$B$100,2,0) -> #N/A
A211: 4226103560822 | B211: 0406030111 | C211: 8437.05 | D211: 20260326 | E211: 20260331 | F211: URGENCIA | G211: 6048692 | H211: Joinville - JESER | I211: =VLOOKUP(B211,premios!$A$1:$B$100,2,0) -> #N/A
A212: 4226103563759 | B212: 0406030057 | C212: 22035.83 | D212: 20260227 | E212: 20260330 | F212: URGENCIA | G212: 6048692 | H212: Joinville - JESER | I212: =VLOOKUP(B212,premios!$A$1:$B$100,2,0) -> #N/A
A213: 4226104394292 | B213: 0408030631 | C213: 2279.25 | D213: 20251202 | E213: 20251204 | F213: URGENCIA | G213: 9543856 | H213: Brusque - IMAS | I213: =VLOOKUP(B213,premios!$A$1:$B$100,2,0) -> #N/A
A214: 4226104417821 | B214: 0408040076 | C214: 16359.4 | D214: 20260222 | E214: 20260304 | F214: URGENCIA | G214: 9543856 | H214: Brusque - IMAS | I214: =VLOOKUP(B214,premios!$A$1:$B$100,2,0) -> #N/A

Sheet Planilha1
A1: 202603 | B1: 202602 | C1: 202601 | D1: 202512 | E1: 202511
A2: 4226104323628 | B2: =VLOOKUP(A2,'202602'!$A$1:$A$211,1,0) -> #N/A | C2: =VLOOKUP(A2,'202601'!$A$3:$A$216,1,0) -> #N/A
A3: 4226104334683 | B3: =VLOOKUP(A3,'202602'!$A$1:$A$211,1,0) -> #N/A | C3: =VLOOKUP(A3,'202601'!$A$3:$A$216,1,0) -> #N/A
A4: 4226104343879 | B4: =VLOOKUP(A4,'202602'!$A$1:$A$211,1,0) -> #N/A | C4: =VLOOKUP(A4,'202601'!$A$3:$A$216,1,0) -> #N/A
A5: 4226104344154 | B5: =VLOOKUP(A5,'202602'!$A$1:$A$211,1,0) -> #N/A | C5: =VLOOKUP(A5,'202601'!$A$3:$A$216,1,0) -> #N/A
A6: 4226104350457 | B6: =VLOOKUP(A6,'202602'!$A$1:$A$211,1,0) -> #N/A | C6: =VLOOKUP(A6,'202601'!$A$3:$A$216,1,0) -> #N/A
A7: 4226104386966 | B7: =VLOOKUP(A7,'202602'!$A$1:$A$211,1,0) -> #N/A | C7: =VLOOKUP(A7,'202601'!$A$3:$A$216,1,0) -> #N/A
A8: 4226105249432 | B8: =VLOOKUP(A8,'202602'!$A$1:$A$211,1,0) -> #N/A | C8: =VLOOKUP(A8,'202601'!$A$3:$A$216,1,0) -> #N/A
A9: 4226105253216 | B9: =VLOOKUP(A9,'202602'!$A$1:$A$211,1,0) -> #N/A | C9: =VLOOKUP(A9,'202601'!$A$3:$A$216,1,0) -> #N/A
A10: 4226105253788 | B10: =VLOOKUP(A10,'202602'!$A$1:$A$211,1,0) -> #N/A | C10: =VLOOKUP(A10,'202601'!$A$3:$A$216,1,0) -> #N/A
A11: 4226105256208 | B11: =VLOOKUP(A11,'202602'!$A$1:$A$211,1,0) -> #N/A | C11: =VLOOKUP(A11,'202601'!$A$3:$A$216,1,0) -> #N/A
A12: 4226105256230 | B12: =VLOOKUP(A12,'202602'!$A$1:$A$211,1,0) -> #N/A | C12: =VLOOKUP(A12,'202601'!$A$3:$A$216,1,0) -> #N/A
A13: 4226105259013 | B13: =VLOOKUP(A13,'202602'!$A$1:$A$211,1,0) -> #N/A | C13: =VLOOKUP(A13,'202601'!$A$3:$A$216,1,0) -> #N/A
... A214: 4226107057018 | B214: =VLOOKUP(A214,'202602'!$A$1:$A$211,1,0) -> #N/A | C214: =VLOOKUP(A214,'202601'!$A$3:$A$216,1,0) -> #N/A

Sheet 202604
A1: 4225100608080 | B1: =VLOOKUP(A1,'BD-202603'!$A$2:$A$214,1,0) -> #N/A | C1: =VLOOKUP(A1,'BD-202602'!$A$2:$A$189,1,0) -> #N/A | D1: =VLOOKUP(A1,'BD-202601'!$A$1:$A$198,1,0) -> #N/A
A2: 4225100629850 | B2: =VLOOKUP(A2,'BD-202603'!$A$2:$A$214,1,0) -> #N/A | C2: =VLOOKUP(A2,'BD-202602'!$A$2:$A$189,1,0) -> #N/A | D2: =VLOOKUP(A2,'BD-202601'!$A$1:$A$198,1,0) -> #N/A
A3: 4225100646019 | B3: =VLOOKUP(A3,'BD-202603'!$A$2:$A$214,1,0) -> #N/A | C3: =VLOOKUP(A3,'BD-202602'!$A$2:$A$189,1,0) -> #N/A | D3: =VLOOKUP(A3,'BD-202601'!$A$1:$A$198,1,0) -> #N/A
A4: 4226104613214 | B4: =VLOOKUP(A4,'BD-202603'!$A$2:$A$214,1,0) -> #N/A | C4: =VLOOKUP(A4,'BD-202602'!$A$2:$A$189,1,0) -> #N/A | D4: =VLOOKUP(A4,'BD-202601'!$A$1:$A$198,1,0) -> #N/A
A5: 4226104645081 | B5: =VLOOKUP(A5,'BD-202603'!$A$2:$A$214,1,0) -> #N/A | C5: =VLOOKUP(A5,'BD-202602'!$A$2:$A$189,1,0) -> #N/A | D5: =VLOOKUP(A5,'BD-202601'!$A$1:$A$198,1,0) -> #N/A
A6: 4226104648854 | B6: =VLOOKUP(A6,'BD-202603'!$A$2:$A$214,1,0) -> #N/A | C6: =VLOOKUP(A6,'BD-202602'!$A$2:$A$189,1,0) -> #N/A | D6: =VLOOKUP(A6,'BD-202601'!$A$1:$A$198,1,0) -> #N/A
A7: 4226104655124 | B7: =VLOOKUP(A7,'BD-202603'!$A$2:$A$214,1,0) -> #N/A | C7: =VLOOKUP(A7,'BD-202602'!$A$2:$A$189,1,0) -> #N/A | D7: =VLOOKUP(A7,'BD-202601'!$A$1:$A$198,1,0) -> #N/A
A8: 4226104655179 | B8: =VLOOKUP(A8,'BD-202603'!$A$2:$A$214,1,0) -> #N/A | C8: =VLOOKUP(A8,'BD-202602'!$A$2:$A$189,1,0) -> #N/A | D8: =VLOOKUP(A8,'BD-202601'!$A$1:$A$198,1,0) -> #N/A
A9: 4226104655245 | B9: =VLOOKUP(A9,'BD-202603'!$A$2:$A$214,1,0) -> #N/A | C9: =VLOOKUP(A9,'BD-202602'!$A$2:$A$189,1,0) -> #N/A | D9: =VLOOKUP(A9,'BD-202601'!$A$1:$A$198,1,0) -> #N/A
A10: 4226104658314 | B10: =VLOOKUP(A10,'BD-202603'!$A$2:$A$214,1,0) -> #N/A | C10: =VLOOKUP(A10,'BD-202602'!$A$2:$A$189,1,0) -> #N/A | D10: =VLOOKUP(A10,'BD-202601'!$A$1:$A$198,1,0) -> #N/A
A11: 4226104659216 | B11: =VLOOKUP(A11,'BD-202603'!$A$2:$A$214,1,0) -> #N/A | C11: =VLOOKUP(A11,'BD-202602'!$A$2:$A$189,1,0) -> #N/A | D11: =VLOOKUP(A11,'BD-202601'!$A$1:$A$198,1,0) -> #N/A
A12: 4226104660833 | B12: =VLOOKUP(A12,'BD-202603'!$A$2:$A$214,1,0) -> #N/A | C12: =VLOOKUP(A12,'BD-202602'!$A$2:$A$189,1,0) -> #N/A | D12: =VLOOKUP(A12,'BD-202601'!$A$1:$A$198,1,0) -> #N/A
... A239: 4226107064520 | B239: =VLOOKUP(A239,'BD-202603'!$A$2:$A$214,1,0) -> #N/A | C239: =VLOOKUP(A239,'BD-202602'!$A$2:$A$189,1,0) -> #N/A | D239: =VLOOKUP(A239,'BD-202601'!$A$1:$A$198,1,0) -> #N/A

Sheet BD-202604
A1: N_AIH,C,13 | B1: VAL_TOT,N,14,2 | C1: PROC_REA,C,10 | D1: CAR_INT,C,2 | E1: CNES,C,7 | I1: Hospital SC (CNES) | J1: Freq | K1: Valor AIH | L1: Prêmio Eletivas | M1: Total
A2: 4225100629850 | B2: 10856.61 | C2: 415020034 | D2: Urgencia | E2: 2537788 | I2: 2537788 HOSPITAL REGIONAL DO OESTE | J2: 69 | K2: 739479.18 | L2: 8369.0375 | M2: =SUM(K2:L2) -> 747848.22
A3: 4225100646019 | B3: 10710.61 | C3: 415020034 | D3: Eletivo | E3: 2537788 | I3: 2672839 HOSPITAL DOM JOAQUIM IMAS | J3: 73 | K3: 853180.91 | L3: 22113.798 | M3: =SUM(K3:L3) -> 875294.71
A4: 4226104613214 | B4: 3876.47 | C4: 415020034 | D4: Urgencia | E4: 2537788 | I4: 2758164 HOSPITAL SAO JOSE | J4: 3 | K4: 116859.7 | M4: =SUM(K4:L4) -> 116859.7
A5: 4225100608080 | B5: 6703.55 | C5: 415020034 | D5: Urgencia | E5: 2537788 | I5: 3039250 HOSPITAL SAO MIGUEL IMAS | J5: 80 | K5: 501974.68 | L5: 245800 | M5: =SUM(K5:L5) -> 747774.68
A6: 4226104645081 | B6: 2571.52 | C6: 415020034 | D6: Urgencia | E6: 2537788 | I6: 6048692 HOSPITAL INFANTIL DR JESER AMARANTE FARIA | J6: 9 | K6: 104707.48 | M6: =SUM(K6:L6) -> 104707.48
A7: 4226104648854 | B7: 4758.56 | C7: 406030049 | D7: Urgencia | E7: 2537788 | I7: 9543856 IMIGRANTES HOSPITAL E MATERNIDADE | J7: 4 | K7: 26384.17 | M7: =SUM(K7:L7) -> 26384.17
A8: 4226104655124 | B8: 6528.16 | C8: 406030049 | D8: Urgencia | E8: 2537788 | I8: Total | J8: =SUM(J2:J7) -> 238 | K8: =SUM(K2:K7) -> 2342586.1 | L8: =SUM(L2:L7) -> 276282.84 | M8: =SUM(M2:M7) -> 2618869
A9: 4226104655179 | B9: 6538.85 | C9: 406030049 | D9: Urgencia | E9: 2537788
A10: 4226104655245 | B10: 2644.8 | C10: 406040052 | D10: Urgencia | E10: 2537788
A11: 4226104658314 | B11: 28402.1 | C11: 415020034 | D11: Urgencia | E11: 2537788
A12: 4226104659216 | B12: 5842.81 | C12: 406030030 | D12: Urgencia | E12: 2537788
A13: 4226104660833 | B13: 45843.7 | C13: 415020034 | D13: Urgencia | E13: 2537788
A14: 4226104666840 | B14: 23650.8 | C14: 415010012 | D14: Urgencia | E14: 2537788
A15: 4226104666993 | B15: 10692.3 | C15: 406010650 | D15: Urgencia | E15: 2537788
A16: 4226104670953 | B16: 7702.71 | C16: 415020034 | D16: Urgencia | E16: 2537788
A17: 4226104672196 | B17: 3685.2 | C17: 406050015 | D17: Urgencia | E17: 2537788
A18: 4226104672460 | B18: 21476.84 | C18: 415020034 | D18: Urgencia | E18: 2537788
A19: 4226104673296 | B19: 7698.25 | C19: 406030022 | D19: Urgencia | E19: 2537788
A20: 4226104664122 | B20: 8668.07 | C20: 406010650 | D20: Urgencia | E20: 2537788
... A24: 4226104673736 | B24: 27001.89 | C24: 415020034 | D24: Eletivo | E24: 2537788
A25: 4226104683966 | B25: 3706.82 | C25: 406050015 | D25: Eletivo | E25: 2537788 | F25: =VLOOKUP(C25,premios!$A$1:$B$100,2,0) -> 875.965
A26: 4226104685253 | B26: 7796.05 | C26: 406030049 | D26: Urgencia | E26: 2537788
A27: 4226104687717 | B27: 6101.11 | C27: 406050023 | D27: Eletivo | E27: 2537788 | F27: =VLOOKUP(C27,premios!$A$1:$B$100,2,0) -> 1474.5375
A28: 4226104688608 | B28: 6614.62 | C28: 406030049 | D28: Urgencia | E28: 2537788
A29: 4226104683955 | B29: 6069.05 | C29: 406050040 | D29: Eletivo | E29: 2537788 | F29: =VLOOKUP(C29,premios!$A$1:$B$100,2,0) -> 1466.5225
A30: 4226104692612 | B30: 9424.83 | C30: 406010650 | D30: Urgencia | E30: 2537788
A31: 4226104693481 | B31: 5070.01 | C31: 406030030 | D31: Urgencia | E31: 2537788
A32: 4226104693900 | B32: 22857.66 | C32: 406010935 | D32: Urgencia | E32: 2537788
A33: 4226104698200 | B33: 6133.77 | C33: 406030030 | D33: Urgencia | E33: 2537788
A34: 4226104701676 | B34: 49697.69 | C34: 406010587 | D34: Urgencia | E34: 2537788
A35: 4226104692117 | B35: 8794.73 | C35: 406010650 | D35: Urgencia | E35: 2537788
A36: 4226104704338 | B36: 23587.63 | C36: 406010935 | D36: Urgencia | E36: 2537788
A37: 4226104704371 | B37: 22668.45 | C37: 406030049 | D37: Urgencia | E37: 2537788
A38: 4226104706384 | B38: 7118.35 | C38: 406030049 | D38: Urgencia | E38: 2537788
A39: 4226104706461 | B39: 8652.07 | C39: 406010650 | D39: Urgencia | E39: 2537788
A40: 4226104707044 | B40: 9121.18 | C40: 415020034 | D40: Urgencia | E40: 2537788
A41: 4226104708804 | B41: 2207.41 | C41: 406040052 | D41: Urgencia | E41: 2537788
... A54: 4226104747689 | B54: 9570.14 | C54: 406010650 | D54: Urgencia | E54: 2537788
A55: 4226104749120 | B55: 6069.05 | C55: 406050040 | D55: Eletivo | E55: 2537788 | F55: =VLOOKUP(C55,premios!$A$1:$B$100,2,0) -> 1466.5225
A56: 4226104750329 | B56: 6141.86 | C56: 406011125 | D56: Eletivo | E56: 2537788
A57: 4226104750351 | B57: 1508.8 | C57: 406040052 | D57: Urgencia | E57: 2537788
A58: 4226104751176 | B58: 8376.65 | C58: 406030049 | D58: Urgencia | E58: 2537788
A59: 4226104754058 | B59: 7615.25 | C59: 406030049 | D59: Urgencia | E59: 2537788
A60: 4226104754267 | B60: 11463.35 | C60: 415020034 | D60: Urgencia | E60: 2537788
A61: 4226104745269 | B61: 7177.45 | C61: 406030049 | D61: Urgencia | E61: 2537788
A62: 4226104757644 | B62: 7174.45 | C62: 406030049 | D62: Urgencia | E62: 2537788
A63: 4226104758590 | B63: 8387.55 | C63: 406030049 | D63: Urgencia | E63: 2537788
A64: 4226104762033 | B64: 7823.35 | C64: 406030049 | D64: Urgencia | E64: 2537788
A65: 4226104754333 | B65: 8664.75 | C65: 406030049 | D65: Urgencia | E65: 2537788
A66: 4226104768270 | B66: 3622.5 | C66: 406030049 | D66: Urgencia | E66: 2537788
A67: 4226104772043 | B67: 8813.5 | C67: 406050104 | D67: Eletivo | E67: 2537788 | F67: =VLOOKUP(C67,premios!$A$1:$B$100,2,0) -> 1618.9675
A68: 4226104772065 | B68: 6069.05 | C68: 406050040 | D68: Eletivo | E68: 2537788 | F68: =VLOOKUP(C68,premios!$A$1:$B$100,2,0) -> 1466.5225
A69: 4226104774023 | B69: 4337.11 | C69: 406030030 | D69: Urgencia | E69: 2537788
A70: 4226104783824 | B70: 5142.57 | C70: 406030030 | D70: Urgencia | E70: 2537788
A71: 4226104300210 | B71: 27038.04 | C71: 406010692 | D71: Eletivo | E71: 2672839
A72: 4226105273577 | B72: 7758.17 | C72: 406030030 | D72: Urgencia | E72: 2672839
A73: 4226105291122 | B73: 9088.05 | C73: 406030049 | D73: Urgencia | E73: 2672839
A74: 4226105294103 | B74: 5826.81 | C74: 406030030 | D74: Urgencia | E74: 2672839
A75: 4226105300318 | B75: 7085.61 | C75: 406030030 | D75: Urgencia | E75: 2672839
A76: 4226105301165 | B76: 6254.01 | C76: 406030030 | D76: Urgencia | E76: 2672839
A77: 4226105312583 | B77: 10028.89 | C77: 406030022 | D77: Urgencia | E77: 2672839
A78: 4226105313551 | B78: 12966.8 | C78: 406030022 | D78: Urgencia | E78: 2672839
A79: 4226105314266 | B79: 8727.09 | C79: 406030022 | D79: Urgencia | E79: 2672839
A80: 4226105314750 | B80: 22459.35 | C80: 406010943 | D80: Urgencia | E80: 2672839
... A92: 4226105317302 | B92: 9054.29 | C92: 406030022 | D92: Urgencia | E92: 2672839
A93: 4226105331998 | B93: 7739.52 | C93: 406050112 | D93: Eletivo | E93: 2672839 | F93: =VLOOKUP(C93,premios!$A$1:$B$100,2,0) -> 1886.14
A94: 4226105332009 | B94: 6953.94 | C94: 406050139 | D94: Eletivo | E94: 2672839 | F94: =VLOOKUP(C94,premios!$A$1:$B$100,2,0) -> 1685.9575
A95: 4226105336387 | B95: 10636.19 | C95: 406030022 | D95: Urgencia | E95: 2672839
A96: 4226105336398 | B96: 5685.76 | C96: 406030030 | D96: Urgencia | E96: 2672839
A97: 4226105336442 | B97: 33379.4 | C97: 406030022 | D97: Urgencia | E97: 2672839
A98: 4226105336596 | B98: 3713.97 | C98: 406050015 | D98: Eletivo | E98: 2672839 | F98: =VLOOKUP(C98,premios!$A$1:$B$100,2,0) -> 875.965
A99: 4226105336618 | B99: 8778.2 | C99: 406050082 | D99: Eletivo | E99: 2672839 | F99: =VLOOKUP(C99,premios!$A$1:$B$100,2,0) -> 2142.0225
A100: 4226105329567 | B100: 15748.29 | C100: 406030049 | D100: Urgencia | E100: 2672839
A101: 4226105339820 | B101: 6069.05 | C101: 406050040 | D101: Eletivo | E101: 2672839 | F101: =VLOOKUP(C101,premios!$A$1:$B$100,2,0) -> 1466.5225
A102: 4226105339830 | B102: 6061.05 | C102: 406050040 | D102: Eletivo | E102: 2672839 | F102: =VLOOKUP(C102,premios!$A$1:$B$100,2,0) -> 1466.5225
A103: 4226105339841 | B103: 6061.05 | C103: 406050040 | D103: Eletivo | E103: 2672839 | F103: =VLOOKUP(C103,premios!$A$1:$B$100,2,0) -> 1466.5225
A104: 4226105339852 | B104: 7739.52 | C104: 406050112 | D104: Eletivo | E104: 2672839 | F104: =VLOOKUP(C104,premios!$A$1:$B$100,2,0) -> 1886.14
A105: 4226105339863 | B105: 17897.57 | C105: 406040176 | D105: Eletivo | E105: 2672839
A106: 4226105340325 | B106: 10239.16 | C106: 406030022 | D106: Urgencia | E106: 2672839
A107: 4226105345946 | B107: 9593.06 | C107: 406030022 | D107: Urgencia | E107: 2672839
A108: 4226105339819 | B108: 9096.61 | C108: 406050139 | D108: Eletivo | E108: 2672839 | F108: =VLOOKUP(C108,premios!$A$1:$B$100,2,0) -> 1685.9575
A109: 4226105346056 | B109: 7662.9 | C109: 406030049 | D109: Urgencia | E109: 2672839
A110: 4226105346111 | B110: 7058.56 | C110: 406030030 | D110: Urgencia | E110: 2672839
A111: 4226105350357 | B111: 10741.11 | C111: 406030030 | D111: Urgencia | E111: 2672839
A112: 4226105350379 | B112: 13107.69 | C112: 406030022 | D112: Urgencia | E112: 2672839
A113: 4226105352876 | B113: 9743.71 | C113: 406030022 | D113: Urgencia | E113: 2672839
A114: 4226105358541 | B114: 7058.56 | C114: 406030030 | D114: Urgencia | E114: 2672839
A115: 4226105359355 | B115: 5685.76 | C115: 406030030 | D115: Urgencia | E115: 2672839
A116: 4226105362589 | B116: 8668.07 | C116: 406010650 | D116: Urgencia | E116: 2672839
A117: 4226105364943 | B117: 6426.81 | C117: 406030030 | D117: Urgencia | E117: 2672839
A118: 4226105370168 | B118: 7683.1 | C118: 406030049 | D118: Urgencia | E118: 2672839
A119: 4226105370179 | B119: 7728.26 | C119: 406030022 | D119: Urgencia | E119: 2672839
A120: 4226105370960 | B120: 10043.24 | C120: 406030022 | D120: Urgencia | E120: 2672839
... A128: 4226105381883 | B128: 32643.43 | C128: 415020034 | D128: Eletivo | E128: 2672839
A129: 4226105390056 | B129: 6069.05 | C129: 406050040 | D129: Eletivo | E129: 2672839 | F129: =VLOOKUP(C129,premios!$A$1:$B$100,2,0) -> 1466.5225
A130: 4226105390067 | B130: 6069.05 | C130: 406050040 | D130: Eletivo | E130: 2672839 | F130: =VLOOKUP(C130,premios!$A$1:$B$100,2,0) -> 1466.5225
A131: 4226105390078 | B131: 9088.61 | C131: 406050139 | D131: Eletivo | E131: 2672839 | F131: =VLOOKUP(C131,premios!$A$1:$B$100,2,0) -> 1685.9575
A132: 4226105390089 | B132: 6061.05 | C132: 406050040 | D132: Eletivo | E132: 2672839 | F132: =VLOOKUP(C132,premios!$A$1:$B$100,2,0) -> 1466.5225
A133: 4226105390090 | B133: 6069.05 | C133: 406050040 | D133: Eletivo | E133: 2672839 | F133: =VLOOKUP(C133,premios!$A$1:$B$100,2,0) -> 1466.5225
...

Sheet 202605
A1: 4226104784583 | B1: 2411393 | C1: =VLOOKUP(A1,'BD-202604'!$A$1:$A$239,1,0) -> #N/A | D1: =VLOOKUP(A1,'BD-202603'!$A$2:$A$214,1,0) -> #N/A | E1: =VLOOKUP(A1,'BD-202602'!$A$2:$A$189,1,0) -> #N/A | F1: =VLOOKUP(A1,'BD-202601'!$A$1:$A$198,1,0) -> #N/A
A2: 4226104705801 | B2: 2537788 | C2: =VLOOKUP(A2,'BD-202604'!$A$1:$A$239,1,0) -> #N/A | D2: =VLOOKUP(A2,'BD-202603'!$A$2:$A$214,1,0) -> #N/A | E2: =VLOOKUP(A2,'BD-202602'!$A$2:$A$189,1,0) -> #N/A | F2: =VLOOKUP(A2,'BD-202601'!$A$1:$A$198,1,0) -> #N/A
A3: 4226104709739 | C3: =VLOOKUP(A3,'BD-202604'!$A$1:$A$239,1,0) -> #N/A | D3: =VLOOKUP(A3,'BD-202603'!$A$2:$A$214,1,0) -> #N/A | E3: =VLOOKUP(A3,'BD-202602'!$A$2:$A$189,1,0) -> #N/A | F3: =VLOOKUP(A3,'BD-202601'!$A$1:$A$198,1,0) -> #N/A
A4: 4226104714524 | C4: =VLOOKUP(A4,'BD-202604'!$A$1:$A$239,1,0) -> #N/A | D4: =VLOOKUP(A4,'BD-202603'!$A$2:$A$214,1,0) -> #N/A | E4: =VLOOKUP(A4,'BD-202602'!$A$2:$A$189,1,0) -> #N/A | F4: =VLOOKUP(A4,'BD-202601'!$A$1:$A$198,1,0) -> #N/A
A5: 4226104716757 | C5: =VLOOKUP(A5,'BD-202604'!$A$1:$A$239,1,0) -> #N/A | D5: =VLOOKUP(A5,'BD-202603'!$A$2:$A$214,1,0) -> #N/A | E5: =VLOOKUP(A5,'BD-202602'!$A$2:$A$189,1,0) -> #N/A | F5: =VLOOKUP(A5,'BD-202601'!$A$1:$A$198,1,0) -> #N/A
A6: 4226104723027 | C6: =VLOOKUP(A6,'BD-202604'!$A$1:$A$239,1,0) -> #N/A | D6: =VLOOKUP(A6,'BD-202603'!$A$2:$A$214,1,0) -> #N/A | E6: =VLOOKUP(A6,'BD-202602'!$A$2:$A$189,1,0) -> #N/A | F6: =VLOOKUP(A6,'BD-202601'!$A$1:$A$198,1,0) -> #N/A
A7: 4226104724017 | C7: =VLOOKUP(A7,'BD-202604'!$A$1:$A$239,1,0) -> #N/A | D7: =VLOOKUP(A7,'BD-202603'!$A$2:$A$214,1,0) -> #N/A | E7: =VLOOKUP(A7,'BD-202602'!$A$2:$A$189,1,0) -> #N/A | F7: =VLOOKUP(A7,'BD-202601'!$A$1:$A$198,1,0) -> #N/A
A8: 4226104726723 | C8: =VLOOKUP(A8,'BD-202604'!$A$1:$A$239,1,0) -> #N/A | D8: =VLOOKUP(A8,'BD-202603'!$A$2:$A$214,1,0) -> #N/A | E8: =VLOOKUP(A8,'BD-202602'!$A$2:$A$189,1,0) -> #N/A | F8: =VLOOKUP(A8,'BD-202601'!$A$1:$A$198,1,0) -> #N/A
A9: 4226104727010 | C9: =VLOOKUP(A9,'BD-202604'!$A$1:$A$239,1,0) -> #N/A | D9: =VLOOKUP(A9,'BD-202603'!$A$2:$A$214,1,0) -> #N/A | E9: =VLOOKUP(A9,'BD-202602'!$A$2:$A$189,1,0) -> #N/A | F9: =VLOOKUP(A9,'BD-202601'!$A$1:$A$198,1,0) -> #N/A
A10: 4226104739549 | C10: =VLOOKUP(A10,'BD-202604'!$A$1:$A$239,1,0) -> #N/A | D10: =VLOOKUP(A10,'BD-202603'!$A$2:$A$214,1,0) -> #N/A | E10: =VLOOKUP(A10,'BD-202602'!$A$2:$A$189,1,0) -> #N/A | F10: =VLOOKUP(A10,'BD-202601'!$A$1:$A$198,1,0) -> #N/A
A11: 4226104741155 | C11: =VLOOKUP(A11,'BD-202604'!$A$1:$A$239,1,0) -> #N/A | D11: =VLOOKUP(A11,'BD-202603'!$A$2:$A$214,1,0) -> #N/A | E11: =VLOOKUP(A11,'BD-202602'!$A$2:$A$189,1,0) -> #N/A | F11: =VLOOKUP(A11,'BD-202601'!$A$1:$A$198,1,0) -> #N/A
A12: 4226104744500 | C12: =VLOOKUP(A12,'BD-202604'!$A$1:$A$239,1,0) -> #N/A | D12: =VLOOKUP(A12,'BD-202603'!$A$2:$A$214,1,0) -> #N/A | E12: =VLOOKUP(A12,'BD-202602'!$A$2:$A$189,1,0) -> #N/A | F12: =VLOOKUP(A12,'BD-202601'!$A$1:$A$198,1,0) -> #N/A
A13: 4226104749163 | C13: =VLOOKUP(A13,'BD-202604'!$A$1:$A$239,1,0) -> #N/A | D13: =VLOOKUP(A13,'BD-202603'!$A$2:$A$214,1,0) -> #N/A | E13: =VLOOKUP(A13,'BD-202602'!$A$2:$A$189,1,0) -> #N/A | F13: =VLOOKUP(A13,'BD-202601'!$A$1:$A$198,1,0) -> #N/A
A14: 4226104749328 | C14: =VLOOKUP(A14,'BD-202604'!$A$1:$A$239,1,0) -> #N/A | D14: =VLOOKUP(A14,'BD-202603'!$A$2:$A$214,1,0) -> #N/A | E14: =VLOOKUP(A14,'BD-202602'!$A$2:$A$189,1,0) -> #N/A | F14: =VLOOKUP(A14,'BD-202601'!$A$1:$A$198,1,0) -> #N/A
... A44: 4226104855291 | C44: =VLOOKUP(A44,'BD-202604'!$A$1:$A$239,1,0) -> #N/A | D44: =VLOOKUP(A44,'BD-202603'!$A$2:$A$214,1,0) -> #N/A | E44: =VLOOKUP(A44,'BD-202602'!$A$2:$A$189,1,0) -> #N/A | F44: =VLOOKUP(A44,'BD-202601'!$A$1:$A$198,1,0) -> #N/A
A45: 4226104369400 | B45: 2672839 | C45: =VLOOKUP(A45,'BD-202604'!$A$1:$A$239,1,0) -> #N/A | D45: =VLOOKUP(A45,'BD-202603'!$A$2:$A$214,1,0) -> #N/A | E45: =VLOOKUP(A45,'BD-202602'!$A$2:$A$189,1,0) -> #N/A | F45: =VLOOKUP(A45,'BD-202601'!$A$1:$A$198,1,0) -> #N/A
A46: 4226105299834 | C46: =VLOOKUP(A46,'BD-202604'!$A$1:$A$239,1,0) -> #N/A | D46: =VLOOKUP(A46,'BD-202603'!$A$2:$A$214,1,0) -> #N/A | E46: =VLOOKUP(A46,'BD-202602'!$A$2:$A$189,1,0) -> #N/A | F46: =VLOOKUP(A46,'BD-202601'!$A$1:$A$198,1,0) -> #N/A
A47: 4226105303112 | C47: =VLOOKUP(A47,'BD-202604'!$A$1:$A$239,1,0) -> #N/A | D47: =VLOOKUP(A47,'BD-202603'!$A$2:$A$214,1,0) -> #N/A | E47: =VLOOKUP(A47,'BD-202602'!$A$2:$A$189,1,0) -> #N/A | F47: =VLOOKUP(A47,'BD-202601'!$A$1:$A$198,1,0) -> #N/A
A48: 4226105387120 | C48: =VLOOKUP(A48,'BD-202604'!$A$1:$A$239,1,0) -> #N/A | D48: =VLOOKUP(A48,'BD-202603'!$A$2:$A$214,1,0) -> #N/A | E48: =VLOOKUP(A48,'BD-202602'!$A$2:$A$189,1,0) -> #N/A | F48: =VLOOKUP(A48,'BD-202601'!$A$1:$A$198,1,0) -> #N/A
A49: 4226105389880 | C49: =VLOOKUP(A49,'BD-202604'!$A$1:$A$239,1,0) -> #N/A | D49: =VLOOKUP(A49,'BD-202603'!$A$2:$A$214,1,0) -> #N/A | E49: =VLOOKUP(A49,'BD-202602'!$A$2:$A$189,1,0) -> #N/A | F49: =VLOOKUP(A49,'BD-202601'!$A$1:$A$198,1,0) -> #N/A
A50: 4226105389913 | C50: =VLOOKUP(A50,'BD-202604'!$A$1:$A$239,1,0) -> #N/A | D50: =VLOOKUP(A50,'BD-202603'!$A$2:$A$214,1,0) -> #N/A | E50: =VLOOKUP(A50,'BD-202602'!$A$2:$A$189,1,0) -> #N/A | F50: =VLOOKUP(A50,'BD-202601'!$A$1:$A$198,1,0) -> #N/A
A51: 4226105390111 | C51: =VLOOKUP(A51,'BD-202604'!$A$1:$A$239,1,0) -> #N/A | D51: =VLOOKUP(A51,'BD-202603'!$A$2:$A$214,1,0) -> #N/A | E51: =VLOOKUP(A51,'BD-202602'!$A$2:$A$189,1,0) -> #N/A | F51: =VLOOKUP(A51,'BD-202601'!$A$1:$A$198,1,0) -> #N/A
A52: 4226105390628 | C52: =VLOOKUP(A52,'BD-202604'!$A$1:$A$239,1,0) -> #N/A | D52: =VLOOKUP(A52,'BD-202603'!$A$2:$A$214,1,0) -> #N/A | E52: =VLOOKUP(A52,'BD-202602'!$A$2:$A$189,1,0) -> #N/A | F52: =VLOOKUP(A52,'BD-202601'!$A$1:$A$198,1,0) -> #N/A
A53: 4226105391530 | C53: =VLOOKUP(A53,'BD-202604'!$A$1:$A$239,1,0) -> #N/A | D53: =VLOOKUP(A53,'BD-202603'!$A$2:$A$214,1,0) -> #N/A | E53: =VLOOKUP(A53,'BD-202602'!$A$2:$A$189,1,0) -> #N/A | F53: =VLOOKUP(A53,'BD-202601'!$A$1:$A$198,1,0) -> #N/A
A54: 4226105393280 | C54: =VLOOKUP(A54,'BD-202604'!$A$1:$A$239,1,0) -> #N/A | D54: =VLOOKUP(A54,'BD-202603'!$A$2:$A$214,1,0) -> #N/A | E54: =VLOOKUP(A54,'BD-202602'!$A$2:$A$189,1,0) -> #N/A | F54: =VLOOKUP(A54,'BD-202601'!$A$1:$A$198,1,0) -> #N/A
A55: 4226105412452 | C55: =VLOOKUP(A55,'BD-202604'!$A$1:$A$239,1,0) -> #N/A | D55: =VLOOKUP(A55,'BD-202603'!$A$2:$A$214,1,0) -> #N/A | E55: =VLOOKUP(A55,'BD-202602'!$A$2:$A$189,1,0) -> #N/A | F55: =VLOOKUP(A55,'BD-202601'!$A$1:$A$198,1,0) -> #N/A
A56: 4226105412463 | C56: =VLOOKUP(A56,'BD-202604'!$A$1:$A$239,1,0) -> #N/A | D56: =VLOOKUP(A56,'BD-202603'!$A$2:$A$214,1,0) -> #N/A | E56: =VLOOKUP(A56,'BD-202602'!$A$2:$A$189,1,0) -> #N/A | F56: =VLOOKUP(A56,'BD-202601'!$A$1:$A$198,1,0) -> #N/A
A57: 4226105412980 | C57: =VLOOKUP(A57,'BD-202604'!$A$1:$A$239,1,0) -> #N/A | D57: =VLOOKUP(A57,'BD-202603'!$A$2:$A$214,1,0) -> #N/A | E57: =VLOOKUP(A57,'BD-202602'!$A$2:$A$189,1,0) -> #N/A | F57: =VLOOKUP(A57,'BD-202601'!$A$1:$A$198,1,0) -> #N/A
... A109: 4226105476395 | C109: =VLOOKUP(A109,'BD-202604'!$A$1:$A$239,1,0) -> #N/A | D109: =VLOOKUP(A109,'BD-202603'!$A$2:$A$214,1,0) -> #N/A | E109: =VLOOKUP(A109,'BD-202602'!$A$2:$A$189,1,0) -> #N/A | F109: =VLOOKUP(A109,'BD-202601'!$A$1:$A$198,1,0) -> #N/A
A110: 4226102924373 | B110: 3039250 | C110: =VLOOKUP(A110,'BD-202604'!$A$1:$A$239,1,0) -> #N/A | D110: =VLOOKUP(A110,'BD-202603'!$A$2:$A$214,1,0) -> #N/A | E110: =VLOOKUP(A110,'BD-202602'!$A$2:$A$189,1,0) -> #N/A | F110: =VLOOKUP(A110,'BD-202601'!$A$1:$A$198,1,0) -> #N/A
A111: 4226102947814 | C111: =VLOOKUP(A111,'BD-202604'!$A$1:$A$239,1,0) -> #N/A | D111: =VLOOKUP(A111,'BD-202603'!$A$2:$A$214,1,0) -> #N/A | E111: =VLOOKUP(A111,'BD-202602'!$A$2:$A$189,1,0) -> #N/A | F111: =VLOOKUP(A111,'BD-202601'!$A$1:$A$198,1,0) -> #N/A
A112: 4226102947870 | C112: =VLOOKUP(A112,'BD-202604'!$A$1:$A$239,1,0) -> #N/A | D112: =VLOOKUP(A112,'BD-202603'!$A$2:$A$214,1,0) -> #N/A | E112: =VLOOKUP(A112,'BD-202602'!$A$2:$A$189,1,0) -> #N/A | F112: =VLOOKUP(A112,'BD-202601'!$A$1:$A$198,1,0) -> #N/A
A113: 4226102947880 | C113: =VLOOKUP(A113,'BD-202604'!$A$1:$A$239,1,0) -> #N/A | D113: =VLOOKUP(A113,'BD-202603'!$A$2:$A$214,1,0) -> #N/A | E113: =VLOOKUP(A113,'BD-202602'!$A$2:$A$189,1,0) -> #N/A | F113: =VLOOKUP(A113,'BD-202601'!$A$1:$A$198,1,0) -> #N/A
A114: 4226102947891 | C114: =VLOOKUP(A114,'BD-202604'!$A$1:$A$239,1,0) -> #N/A | D114: =VLOOKUP(A114,'BD-202603'!$A$2:$A$214,1,0) -> #N/A | E114: =VLOOKUP(A114,'BD-202602'!$A$2:$A$189,1,0) -> #N/A | F114: =VLOOKUP(A114,'BD-202601'!$A$1:$A$198,1,0) -> #N/A
A115: 4226102947902 | C115: =VLOOKUP(A115,'BD-202604'!$A$1:$A$239,1,0) -> #N/A | D115: =VLOOKUP(A115,'BD-202603'!$A$2:$A$214,1,0) -> #N/A | E115: =VLOOKUP(A115,'BD-202602'!$A$2:$A$189,1,0) -> #N/A | F115: =VLOOKUP(A115,'BD-202601'!$A$1:$A$198,1,0) -> #N/A
A116: 4226102947913 | C116: =VLOOKUP(A116,'BD-202604'!$A$1:$A$239,1,0) -> #N/A | D116: =VLOOKUP(A116,'BD-202603'!$A$2:$A$214,1,0) -> #N/A | E116: =VLOOKUP(A116,'BD-202602'!$A$2:$A$189,1,0) -> #N/A | F116: =VLOOKUP(A116,'BD-202601'!$A$1:$A$198,1,0) -> #N/A
A117: 4226102947946 | C117: =VLOOKUP(A117,'BD-202604'!$A$1:$A$239,1,0) -> #N/A | D117: =VLOOKUP(A117,'BD-202603'!$A$2:$A$214,1,0) -> #N/A | E117: =VLOOKUP(A117,'BD-202602'!$A$2:$A$189,1,0) -> #N/A | F117: =VLOOKUP(A117,'BD-202601'!$A$1:$A$198,1,0) -> #N/A
A118: 4226102947748 | C118: =VLOOKUP(A118,'BD-202604'!$A$1:$A$239,1,0) -> #N/A | D118: =VLOOKUP(A118,'BD-202603'!$A$2:$A$214,1,0) -> #N/A | E118: =VLOOKUP(A118,'BD-202602'!$A$2:$A$189,1,0) -> #N/A | F118: =VLOOKUP(A118,'BD-202601'!$A$1:$A$198,1,0) -> #N/A
A119: 4226102947979 | C119: =VLOOKUP(A119,'BD-202604'!$A$1:$A$239,1,0) -> #N/A | D119: =VLOOKUP(A119,'BD-202603'!$A$2:$A$214,1,0) -> #N/A | E119: =VLOOKUP(A119,'BD-202602'!$A$2:$A$189,1,0) -> #N/A | F119: =VLOOKUP(A119,'BD-202601'!$A$1:$A$198,1,0) -> #N/A
A120: 4226102947990 | C120: =VLOOKUP(A120,'BD-202604'!$A$1:$A$239,1,0) -> #N/A | D120: =VLOOKUP(A120,'BD-202603'!$A$2:$A$214,1,0) -> #N/A | E120: =VLOOKUP(A120,'BD-202602'!$A$2:$A$189,1,0) -> #N/A | F120: =VLOOKUP(A120,'BD-202601'!$A$1:$A$198,1,0) -> #N/A
A121: 4226102948001 | C121: =VLOOKUP(A121,'BD-202604'!$A$1:$A$239,1,0) -> #N/A | D121: =VLOOKUP(A121,'BD-202603'!$A$2:$A$214,1,0) -> #N/A | E121: =VLOOKUP(A121,'BD-202602'!$A$2:$A$189,1,0) -> #N/A | F121: =VLOOKUP(A121,'BD-202601'!$A$1:$A$198,1,0) -> #N/A
A122: 4226102948287 | C122: =VLOOKUP(A122,'BD-202604'!$A$1:$A$239,1,0) -> #N/A | D122: =VLOOKUP(A122,'BD-202603'!$A$2:$A$214,1,0) -> #N/A | E122: =VLOOKUP(A122,'BD-202602'!$A$2:$A$189,1,0) -> #N/A | F122: =VLOOKUP(A122,'BD-202601'!$A$1:$A$198,1,0) -> #N/A
... A175: 4226102979395 | C175: =VLOOKUP(A175,'BD-202604'!$A$1:$A$239,1,0) -> #N/A | D175: =VLOOKUP(A175,'BD-202603'!$A$2:$A$214,1,0) -> #N/A | E175: =VLOOKUP(A175,'BD-202602'!$A$2:$A$189,1,0) -> #N/A | F175: =VLOOKUP(A175,'BD-202601'!$A$1:$A$198,1,0) -> #N/A
A176: 4226101889460 | B176: 2691841 | C176: =VLOOKUP(A176,'BD-202604'!$A$1:$A$239,1,0) -> #N/A | D176: =VLOOKUP(A176,'BD-202603'!$A$2:$A$214,1,0) -> 4226101889460 | E176: =VLOOKUP(A176,'BD-202602'!$A$2:$A$189,1,0) -> #N/A | F176: =VLOOKUP(A176,'BD-202601'!$A$1:$A$198,1,0) -> #N/A
A177: 4226101924430 | C177: =VLOOKUP(A177,'BD-202604'!$A$1:$A$239,1,0) -> #N/A | D177: =VLOOKUP(A177,'BD-202603'!$A$2:$A$214,1,0) -> #N/A | E177: =VLOOKUP(A177,'BD-202602'!$A$2:$A$189,1,0) -> 4226101924430 | F177: =VLOOKUP(A177,'BD-202601'!$A$1:$A$198,1,0) -> #N/A
A178: 4226102085150 | C178: =VLOOKUP(A178,'BD-202604'!$A$1:$A$239,1,0) -> #N/A | D178: =VLOOKUP(A178,'BD-202603'!$A$2:$A$214,1,0) -> #N/A | E178: =VLOOKUP(A178,'BD-202602'!$A$2:$A$189,1,0) -> #N/A | F178: =VLOOKUP(A178,'BD-202601'!$A$1:$A$198,1,0) -> #N/A
A179: 4226103493140 | B179: 6048692 | C179: =VLOOKUP(A179,'BD-202604'!$A$1:$A$239,1,0) -> #N/A | D179: =VLOOKUP(A179,'BD-202603'!$A$2:$A$214,1,0) -> #N/A | E179: =VLOOKUP(A179,'BD-202602'!$A$2:$A$189,1,0) -> #N/A | F179: =VLOOKUP(A179,'BD-202601'!$A$1:$A$198,1,0) -> #N/A
A180: 4226103592348 | C180: =VLOOKUP(A180,'BD-202604'!$A$1:$A$239,1,0) -> #N/A | D180: =VLOOKUP(A180,'BD-202603'!$A$2:$A$214,1,0) -> #N/A | E180: =VLOOKUP(A180,'BD-202602'!$A$2:$A$189,1,0) -> #N/A | F180: =VLOOKUP(A180,'BD-202601'!$A$1:$A$198,1,0) -> #N/A
A181: 4226103618286 | C181: =VLOOKUP(A181,'BD-202604'!$A$1:$A$239,1,0) -> #N/A | D181: =VLOOKUP(A181,'BD-202603'!$A$2:$A$214,1,0) -> #N/A | E181: =VLOOKUP(A181,'BD-202602'!$A$2:$A$189,1,0) -> #N/A | F181: =VLOOKUP(A181,'BD-202601'!$A$1:$A$198,1,0) -> #N/A
A182: 4226103621300 | C182: =VLOOKUP(A182,'BD-202604'!$A$1:$A$239,1,0) -> #N/A | D182: =VLOOKUP(A182,'BD-202603'!$A$2:$A$214,1,0) -> #N/A | E182: =VLOOKUP(A182,'BD-202602'!$A$2:$A$189,1,0) -> #N/A | F182: =VLOOKUP(A182,'BD-202601'!$A$1:$A$198,1,0) -> #N/A
A183: 4226103623566 | C183: =VLOOKUP(A183,'BD-202604'!$A$1:$A$239,1,0) -> #N/A | D183: =VLOOKUP(A183,'BD-202603'!$A$2:$A$214,1,0) -> #N/A | E183: =VLOOKUP(A183,'BD-202602'!$A$2:$A$189,1,0) -> #N/A | F183: =VLOOKUP(A183,'BD-202601'!$A$1:$A$198,1,0) -> #N/A
A184: 4226103623577 | C184: =VLOOKUP(A184,'BD-202604'!$A$1:$A$239,1,0) -> #N/A | D184: =VLOOKUP(A184,'BD-202603'!$A$2:$A$214,1,0) -> #N/A | E184: =VLOOKUP(A184,'BD-202602'!$A$2:$A$189,1,0) -> #N/A | F184: =VLOOKUP(A184,'BD-202601'!$A$1:$A$198,1,0) -> #N/A
A185: 4226103624776 | C185: =VLOOKUP(A185,'BD-202604'!$A$1:$A$239,1,0) -> #N/A | D185: =VLOOKUP(A185,'BD-202603'!$A$2:$A$214,1,0) -> #N/A | E185: =VLOOKUP(A185,'BD-202602'!$A$2:$A$189,1,0) -> #N/A | F185: =VLOOKUP(A185,'BD-202601'!$A$1:$A$198,1,0) -> #N/A
A186: 4226103628648 | C186: =VLOOKUP(A186,'BD-202604'!$A$1:$A$239,1,0) -> #N/A | D186: =VLOOKUP(A186,'BD-202603'!$A$2:$A$214,1,0) -> #N/A | E186: =VLOOKUP(A186,'BD-202602'!$A$2:$A$189,1,0) -> #N/A | F186: =VLOOKUP(A186,'BD-202601'!$A$1:$A$198,1,0) -> #N/A
A187: 4226103632685 | C187: =VLOOKUP(A187,'BD-202604'!$A$1:$A$239,1,0) -> #N/A | D187: =VLOOKUP(A187,'BD-202603'!$A$2:$A$214,1,0) -> #N/A | E187: =VLOOKUP(A187,'BD-202602'!$A$2:$A$189,1,0) -> #N/A | F187: =VLOOKUP(A187,'BD-202601'!$A$1:$A$198,1,0) -> #N/A
A188: 4226103633720 | C188: =VLOOKUP(A188,'BD-202604'!$A$1:$A$239,1,0) -> #N/A | D188: =VLOOKUP(A188,'BD-202603'!$A$2:$A$214,1,0) -> #N/A | E188: =VLOOKUP(A188,'BD-202602'!$A$2:$A$189,1,0) -> #N/A | F188: =VLOOKUP(A188,'BD-202601'!$A$1:$A$198,1,0) -> #N/A
A189: 4226103652694 | C189: =VLOOKUP(A189,'BD-202604'!$A$1:$A$239,1,0) -> #N/A | D189: =VLOOKUP(A189,'BD-202603'!$A$2:$A$214,1,0) -> #N/A | E189: =VLOOKUP(A189,'BD-202602'!$A$2:$A$189,1,0) -> #N/A | F189: =VLOOKUP(A189,'BD-202601'!$A$1:$A$198,1,0) -> #N/A
A190: 4226103660922 | C190: =VLOOKUP(A190,'BD-202604'!$A$1:$A$239,1,0) -> #N/A | D190: =VLOOKUP(A190,'BD-202603'!$A$2:$A$214,1,0) -> #N/A | E190: =VLOOKUP(A190,'BD-202602'!$A$2:$A$189,1,0) -> #N/A | F190: =VLOOKUP(A190,'BD-202601'!$A$1:$A$198,1,0) -> #N/A
A191: 4226103664816 | C191: =VLOOKUP(A191,'BD-202604'!$A$1:$A$239,1,0) -> #N/A | D191: =VLOOKUP(A191,'BD-202603'!$A$2:$A$214,1,0) -> #N/A | E191: =VLOOKUP(A191,'BD-202602'!$A$2:$A$189,1,0) -> #N/A | F191: =VLOOKUP(A191,'BD-202601'!$A$1:$A$198,1,0) -> #N/A
A192: 4226107064531 | B192: 9543856 | C192: =VLOOKUP(A192,'BD-202604'!$A$1:$A$239,1,0) -> #N/A | D192: =VLOOKUP(A192,'BD-202603'!$A$2:$A$214,1,0) -> #N/A | E192: =VLOOKUP(A192,'BD-202602'!$A$2:$A$189,1,0) -> #N/A | F192: =VLOOKUP(A192,'BD-202601'!$A$1:$A$198,1,0) -> #N/A

Sheet BD-202605
A1: N_AIH,C,13 | B1: VAL_TOT,N,14,2 | C1: PROC_REA,C,10 | D1: CAR_INT,C,2 | E1: CNES,C,7 | L1: Hospital SC (CNES) | M1: Freq | N1: Valor AIH | O1: Prêmio Eletivas | P1: Total
A2: 4226104784583 | B2: 58465.94 | C2: 406030162 | D2: URGENCIA | E2: 2411393 | L2: 2411393 HOSPITAL REGIONAL SAO PAULO ASSEC | M2: 1 | N2: 58465.94 | P2: =SUM(N2:O2) -> 58465.94
A3: 4226104705801 | B3: 3427.73 | C3: 415020034 | D3: URGENCIA | E3: 2537788 | L3: 2537788 HOSPITAL REGIONAL DO OESTE | M3: 43 | N3: 509374.47 | O3: =SUM(F3:F45) -> 6323.425 | P3: =SUM(N3:O3) -> 515697.9
A4: 4226104709739 | B4: 7344.89 | C4: 406030022 | D4: URGENCIA | E4: 2537788 | L4: 2672839 HOSPITAL DOM JOAQUIM IMAS | M4: 65 | N4: 733237.69 | O4: =SUM(F71:F76,F86:F88) -> 14084.458 | P4: =SUM(N4:O4) -> 747322.15
A5: 4226104714524 | B5: 8684.07 | C5: 406010650 | D5: URGENCIA | E5: 2537788 | L5: 2691841 HOSPITAL GOVERNADOR CELSO RAMOS | M5: 1 | N5: 1688.52 | P5: =SUM(N5:O5) -> 1688.52
A6: 4226104716757 | B6: 64084.05 | C6: 415010012 | D6: URGENCIA | E6: 2537788 | L6: 3039250 HOSPITAL SAO MIGUEL IMAS | M6: 66 | N6: 413737.59 | O6: =SUM(F112:F177) -> 202785 | P6: =SUM(N6:O6) -> 616522.59
A7: 4226104723027 | B7: 5145.87 | C7: 406030030 | D7: URGENCIA | E7: 2537788 | L7: 6048692 HOSPITAL INFANTIL DR JESER AMARANTE FARIA | M7: 13 | N7: 142748.15 | O7: =SUM(F181:F182) -> 2891.56 | P7: =SUM(N7:O7) -> 145639.71
A8: 4226104724017 | B8: 13004.4 | C8: 415020034 | D8: URGENCIA | E8: 2537788 | L8: 9543856 IMIGRANTES HOSPITAL E MATERNIDADE | M8: 1 | N8: 1162.84 | P8: =SUM(N8:O8) -> 1162.84
A9: 4226104726723 | B9: 17485.81 | C9: 415020034 | D9: URGENCIA | E9: 2537788 | L9: Total | M9: 190 | N9: 1860415.2 | O9: =SUM(O2:O8) -> 226084.44 | P9: =SUM(N9:O9) -> 2086499.6
A10: 4226104727010 | B10: 48936.72 | C10: 415020034 | D10: URGENCIA | E10: 2537788
A11: 4226104741155 | B11: 6674.16 | C11: 406030049 | D11: URGENCIA | E11: 2537788
A12: 4226104744500 | B12: 2220.56 | C12: 406040052 | D12: URGENCIA | E12: 2537788
A13: 4226104739549 | B13: 11363.37 | C13: 415020034 | D13: URGENCIA | E13: 2537788
A14: 4226104749328 | B14: 8805.5 | C14: 406050104 | D14: ELETIVO | E14: 2537788 | F14: =VLOOKUP(C14,premios!$A$1:$B$100,2,0) -> 1618.9675
A15: 4226104749559 | B15: 3521.56 | C15: 415020034 | D15: ELETIVO | E15: 2537788
A16: 4226104753376 | B16: 5860.99 | C16: 415020034 | D16: URGENCIA | E16: 2537788
A17: 4226104749163 | B17: 8813.5 | C17: 406050104 | D17: ELETIVO | E17: 2537788 | F17: =VLOOKUP(C17,premios!$A$1:$B$100,2,0) -> 1618.9675
A18: 4226104767676 | B18: 7775.75 | C18: 406030049 | D18: URGENCIA | E18: 2537788
A19: 4226104770657 | B19: 5484.74 | C19: 415010012 | D19: URGENCIA | E19: 2537788
A20: 4226104772098 | B20: 8805.5 | C20: 406050104 | D20: ELETIVO | E20: 2537788 | F20: =VLOOKUP(C20,premios!$A$1:$B$100,2,0) -> 1618.9675
A21: 4226104774133 | B21: 5062.01 | C21: 406030030 | D21: ELETIVO | E21: 2537788
A22: 4226104774276 | B22: 24367.14 | C22: 415020034 | D22: ELETIVO | E22: 2537788
A23: 4226104765982 | B23: 12786.46 | C23: 415020034 | D23: URGENCIA | E23: 2537788
A24: 4226104777818 | B24: 1619.37 | C24: 406040125 | D24: URGENCIA | E24: 2537788
A25: 4226104778753 | B25: 11898.03 | C25: 406010650 | D25: URGENCIA | E25: 2537788
A26: 4226104783813 | B26: 8045.04 | C26: 406030022 | D26: URGENCIA | E26: 2537788
A27: 4226104785364 | B27: 10531.57 | C27: 406010650 | D27: URGENCIA | E27: 2537788
A28: 4226104786805 | B28: 6533.16 | C28: 406030049 | D28: URGENCIA | E28: 2537788
A29: 4226104787070 | B29: 8727.93 | C29: 406010650 | D29: URGENCIA | E29: 2537788
A30: 4226104791557 | B30: 22887.4 | C30: 406010935 | D30: URGENCIA | E30: 2537788
A31: 4226104794769 | B31: 5678 | C31: 406030049 | D31: URGENCIA | E31: 2537788
A32: 4226104800181 | B32: 6531.5 | C32: 406030049 | D32: URGENCIA | E32: 2537788
... A34: 4226104802117 | B34: 3094.86 | C34: 406020370 | D34: ELETIVO | E34: 2537788
A35: 4226104802414 | B35: 6086.45 | C35: 406050040 | D35: ELETIVO | E35: 2537788 | F35: =VLOOKUP(C35,premios!$A$1:$B$100,2,0) -> 1466.5225
A36: 4226104809993 | B36: 2302.54 | C36: 406040052 | D36: URGENCIA | E36: 2537788
A37: 4226104811490 | B37: 6575.72 | C37: 406010676 | D37: ELETIVO | E37: 2537788
A38: 4226104811500 | B38: 26053.11 | C38: 406010820 | D38: ELETIVO | E38: 2537788
A39: 4226104800225 | B39: 10427.55 | C39: 406030049 | D39: URGENCIA | E39: 2537788
A40: 4226104812810 | B40: 26512.09 | C40: 415020034 | D40: ELETIVO | E40: 2537788
A41: 4226104815670 | B41: 22383.78 | C41: 406010692 | D41: ELETIVO | E41: 2537788
A42: 4226104811533 | B42: 6141.86 | C42: 406011125 | D42: ELETIVO | E42: 2537788
A43: 4226104850671 | B43: 23403.68 | C43: 406010820 | D43: ELETIVO | E43: 2537788
A44: 4226104851640 | B44: 931.43 | C44: 406010862 | D44: URGENCIA | E44: 2537788
A45: 4226104855291 | B45: 4794.46 | C45: 415020034 | D45: URGENCIA | E45: 2537788
A46: 4226104369400 | B46: 13217.53 | C46: 406030022 | D46: URGENCIA | E46: 2672839
A47: 4226105299834 | B47: 9169.46 | C47: 406030022 | D47: URGENCIA | E47: 2672839
A48: 4226105387120 | B48: 25820.8 | C48: 406011206 | D48: ELETIVO | E48: 2672839 | F48: =VLOOKUP(C48,premios!$A$1:$B$100,2,0) -> #N/A
A49: 4226105389880 | B49: 6298.46 | C49: 406030073 | D49: ELETIVO | E49: 2672839 | F49: =VLOOKUP(C49,premios!$A$1:$B$100,2,0) -> #N/A
A50: 4226105389913 | B50: 22388.28 | C50: 406010692 | D50: ELETIVO | E50: 2672839 | F50: =VLOOKUP(C50,premios!$A$1:$B$100,2,0) -> #N/A
A51: 4226105303112 | B51: 9397.14 | C51: 406030022 | D51: URGENCIA | E51: 2672839
A52: 4226105390628 | B52: 13838.46 | C52: 406030022 | D52: URGENCIA | E52: 2672839
A53: 4226105391530 | B53: 31277.93 | C53: 415020034 | D53: ELETIVO | E53: 2672839 | F53: =VLOOKUP(C53,premios!$A$1:$B$100,2,0) -> #N/A
A54: 4226105393280 | B54: 8259.9 | C54: 406030049 | D54: URGENCIA | E54: 2672839
A55: 4226105390111 | B55: 25304.29 | C55: 406010943 | D55: ELETIVO | E55: 2672839 | F55: =VLOOKUP(C55,premios!$A$1:$B$100,2,0) -> #N/A
A56: 4226105412463 | B56: 7674.6 | C56: 406030049 | D56: URGENCIA | E56: 2672839
A57: 4226105412980 | B57: 4711.25 | C57: 406040141 | D57: ELETIVO | E57: 2672839 | F57: =VLOOKUP(C57,premios!$A$1:$B$100,2,0) -> #N/A
A58: 4226105412991 | B58: 2049.87 | C58: 406011036 | D58: ELETIVO | E58: 2672839 | F58: =VLOOKUP(C58,premios!$A$1:$B$100,2,0) -> #N/A
A59: 4226105413893 | B59: 28346.94 | C59: 406010951 | D59: ELETIVO | E59: 2672839 | F59: =VLOOKUP(C59,premios!$A$1:$B$100,2,0) -> #N/A
A60: 4226105414410 | B60: 9420.26 | C60: 406030022 | D60: URGENCIA | E60: 2672839
A61: 4226105414608 | B61: 9439.31 | C61: 406030022 | D61: ELETIVO | E61: 2672839 | F61: =VLOOKUP(C61,premios!$A$1:$B$100,2,0) -> #N/A
A62: 4226105415532 | B62: 19756.39 | C62: 406030030 | D62: URGENCIA | E62: 2672839
A63: 4226105412452 | B63: 10946.63 | C63: 406030022 | D63: URGENCIA | E63: 2672839
A64: 4226105417325 | B64: 9324.93 | C64: 406030022 | D64: URGENCIA | E64: 2672839
A65: 4226105419866 | B65: 9775.98 | C65: 406010650 | D65: URGENCIA | E65: 2672839
A66: 4226105420438 | B66: 7671.26 | C66: 406030030 | D66: URGENCIA | E66: 2672839
A67: 4226105420493 | B67: 3217.03 | C67: 406030014 | D67: URGENCIA | E67: 2672839
A68: 4226105420890 | B68: 9628.41 | C68: 406030022 | D68: ELETIVO | E68: 2672839 | F68: =VLOOKUP(C68,premios!$A$1:$B$100,2,0) -> #N/A
A69: 4226105424178 | B69: 7172.91 | C69: 406030030 | D69: URGENCIA | E69: 2672839
A70: 4226105417292 | B70: 8290.31 | C70: 406030030 | D70: URGENCIA | E70: 2672839
A71: 4226105430107 | B71: 6069.05 | C71: 406050040 | D71: ELETIVO | E71: 2672839 | F71: =VLOOKUP(C71,premios!$A$1:$B$100,2,0) -> 1466.5225
A72: 4226105430118 | B72: 6061.05 | C72: 406050040 | D72: ELETIVO | E72: 2672839 | F72: =VLOOKUP(C72,premios!$A$1:$B$100,2,0) -> 1466.5225
A73: 4226105431317 | B73: 6101.11 | C73: 406050023 | D73: ELETIVO | E73: 2672839 | F73: =VLOOKUP(C73,premios!$A$1:$B$100,2,0) -> 1474.5375
A74: 4226105432330 | B74: 8278.33 | C74: 406050139 | D74: ELETIVO | E74: 2672839 | F74: =VLOOKUP(C74,premios!$A$1:$B$100,2,0) -> 1685.9575
A75: 4226105432362 | B75: 8278.33 | C75: 406050139 | D75: ELETIVO | E75: 2672839 | F75: =VLOOKUP(C75,premios!$A$1:$B$100,2,0) -> 1685.9575
A76: 4226105432373 | B76: 6061.05 | C76: 406050040 | D76: ELETIVO | E76: 2672839 | F76: =VLOOKUP(C76,premios!$A$1:$B$100,2,0) -> 1466.5225
A77: 4226105432978 | B77: 7647.2 | C77: 406030049 | D77: URGENCIA | E77: 2672839
A78: 4226105441228 | B78: 6439.8 | C78: 406030049 | D78: URGENCIA | E78: 2672839
A79: 4226105441305 | B79: 54548.72 | C79: 415010012 | D79: ELETIVO | E79: 2672839 | F79: =VLOOKUP(C79,premios!$A$1:$B$100,2,0) -> #N/A
A80: 4226105441316 | B80: 19854.85 | C80: 406040176 | D80: ELETIVO | E80: 2672839 | F80: =VLOOKUP(C80,premios!$A$1:$B$100,2,0) -> #N/A
A81: 4226105442559 | B81: 6285.76 | C81: 406030030 | D81: URGENCIA | E81: 2672839
A82: 4226105445892 | B82: 4109.31 | C82: 407030123 | D82: URGENCIA | E82: 2672839
A83: 4226105446442 | B83: 6461.15 | C83: 406030049 | D83: URGENCIA | E83: 2672839
A84: 4226105437477 | B84: 7659.9 | C84: 406030049 | D84: URGENCIA | E84: 2672839
A85: 4226105447620 | B85: 12057.04 | C85: 406030022 | D85: URGENCIA | E85: 2672839
A86: 4226105448961 | B86: 9088.61 | C86: 406050139 | D86: ELETIVO | E86: 2672839 | F86: =VLOOKUP(C86,premios!$A$1:$B$100,2,0) -> 1685.9575
A87: 4226105448972 | B87: 6069.05 | C87: 406050040 | D87: ELETIVO | E87: 2672839 | F87: =VLOOKUP(C87,premios!$A$1:$B$100,2,0) -> 1466.5225
A88: 4226105449093 | B88: 8983.98 | C88: 406050139 | D88: ELETIVO | E88: 2672839 | F88: =VLOOKUP(C88,premios!$A$1:$B$100,2,0) -> 1685.9575
A89: 4226105446520 | B89: 12842.58 | C89: 415020034 | D89: URGENCIA | E89: 2672839
A90: 4226105451810 | B90: 5666.71 | C90: 406030030 | D90: URGENCIA | E90: 2672839
A91: 4226105452052 | B91: 23202.97 | C91: 406010951 | D91: URGENCIA | E91: 2672839
A92: 4226105452195 | B92: 8259.9 | C92: 406030049 | D92: URGENCIA | E92: 2672839
A93: 4226105455396 | B93: 21828.32 | C93: 406010943 | D93: URGENCIA | E93: 2672839
A94: 4226105457222 | B94: 21483.97 | C94: 406010951 | D94: URGENCIA | E94: 2672839
A95: 4226105458509 | B95: 7492.11 | C95: 406030030 | D95: URGENCIA | E95: 2672839
A96: 4226105458950 | B96: 24383.92 | C96: 406010951 | D96: URGENCIA | E96: 2672839
A97: 4226105460930 | B97: 8307.56 | C97: 406030022 | D97: ELETIVO | E97: 2672839 | F97: =VLOOKUP(C97,premios!$A$1:$B$100,2,0) -> #N/A
A98: 4226105462315 | B98: 25964.92 | C98: 406010692 | D98: ELETIVO | E98: 2672839 | F98: =VLOOKUP(C98,premios!$A$1:$B$100,2,0) -> #N/A
A99: 4226105453724 | B99: 7088.51 | C99: 406030030 | D99: ELETIVO | E99: 2672839 | F99: =VLOOKUP(C99,premios!$A$1:$B$100,2,0) -> #N/A
A100: 4226105466638 | B100: 9706.05 | C100: 406030049 | D100: URGENCIA | E100: 2672839
A101: 4226105466814 | B101: 6879.41 | C101: 406030030 | D101: URGENCIA | E101: 2672839
...

Sheet 202606
A1: AIH | B1: CNES | C1: maio | D1: abril | E1: março | F1: fevereiro | G1: janeiro
A2: 4226104443066 | B2: 3039250 | C2: =VLOOKUP(A2,'BD-202605'!$A$1:$A$239,1,0) -> #N/A | D2: =VLOOKUP(A2,'BD-202604'!$A$1:$A$239,1,0) -> 4226104443066 | E2: =VLOOKUP(A2,'BD-202603'!$A$2:$A$214,1,0) -> #N/A | F2: =VLOOKUP(A2,'BD-202602'!$A$2:$A$189,1,0) -> #N/A | G2: =VLOOKUP(A2,'BD-202601'!$A$1:$A$198,1,0) -> #N/A | H2: SES 168973/2026
B3: 2672839 | C3: =VLOOKUP(A3,'BD-202605'!$A$1:$A$239,1,0) -> #N/A | D3: =VLOOKUP(A3,'BD-202604'!$A$1:$A$239,1,0) -> #N/A | E3: =VLOOKUP(A3,'BD-202603'!$A$2:$A$214,1,0) -> #N/A | F3: =VLOOKUP(A3,'BD-202602'!$A$2:$A$189,1,0) -> #N/A | G3: =VLOOKUP(A3,'BD-202601'!$A$1:$A$198,1,0) -> #N/A
A4: 4226105355868 | C4: =VLOOKUP(A4,'BD-202605'!$A$1:$A$239,1,0) -> #N/A | D4: =VLOOKUP(A4,'BD-202604'!$A$1:$A$239,1,0) -> #N/A | E4: =VLOOKUP(A4,'BD-202603'!$A$2:$A$214,1,0) -> #N/A | F4: =VLOOKUP(A4,'BD-202602'!$A$2:$A$189,1,0) -> #N/A | G4: =VLOOKUP(A4,'BD-202601'!$A$1:$A$198,1,0) -> #N/A
A5: 4226105364932 | C5: =VLOOKUP(A5,'BD-202605'!$A$1:$A$239,1,0) -> #N/A | D5: =VLOOKUP(A5,'BD-202604'!$A$1:$A$239,1,0) -> #N/A | E5: =VLOOKUP(A5,'BD-202603'!$A$2:$A$214,1,0) -> #N/A | F5: =VLOOKUP(A5,'BD-202602'!$A$2:$A$189,1,0) -> #N/A | G5: =VLOOKUP(A5,'BD-202601'!$A$1:$A$198,1,0) -> #N/A
A6: 4226105379540 | C6: =VLOOKUP(A6,'BD-202605'!$A$1:$A$239,1,0) -> #N/A | D6: =VLOOKUP(A6,'BD-202604'!$A$1:$A$239,1,0) -> #N/A | E6: =VLOOKUP(A6,'BD-202603'!$A$2:$A$214,1,0) -> #N/A | F6: =VLOOKUP(A6,'BD-202602'!$A$2:$A$189,1,0) -> #N/A | G6: =VLOOKUP(A6,'BD-202601'!$A$1:$A$198,1,0) -> #N/A
A7: 4226105414696 | C7: =VLOOKUP(A7,'BD-202605'!$A$1:$A$239,1,0) -> #N/A | D7: =VLOOKUP(A7,'BD-202604'!$A$1:$A$239,1,0) -> #N/A | E7: =VLOOKUP(A7,'BD-202603'!$A$2:$A$214,1,0) -> #N/A | F7: =VLOOKUP(A7,'BD-202602'!$A$2:$A$189,1,0) -> #N/A | G7: =VLOOKUP(A7,'BD-202601'!$A$1:$A$198,1,0) -> #N/A
A8: 4226105415499 | C8: =VLOOKUP(A8,'BD-202605'!$A$1:$A$239,1,0) -> #N/A | D8: =VLOOKUP(A8,'BD-202604'!$A$1:$A$239,1,0) -> #N/A | E8: =VLOOKUP(A8,'BD-202603'!$A$2:$A$214,1,0) -> #N/A | F8: =VLOOKUP(A8,'BD-202602'!$A$2:$A$189,1,0) -> #N/A | G8: =VLOOKUP(A8,'BD-202601'!$A$1:$A$198,1,0) -> #N/A
A9: 4226105415785 | C9: =VLOOKUP(A9,'BD-202605'!$A$1:$A$239,1,0) -> #N/A | D9: =VLOOKUP(A9,'BD-202604'!$A$1:$A$239,1,0) -> #N/A | E9: =VLOOKUP(A9,'BD-202603'!$A$2:$A$214,1,0) -> #N/A | F9: =VLOOKUP(A9,'BD-202602'!$A$2:$A$189,1,0) -> #N/A | G9: =VLOOKUP(A9,'BD-202601'!$A$1:$A$198,1,0) -> #N/A
A10: 4226105419283 | C10: =VLOOKUP(A10,'BD-202605'!$A$1:$A$239,1,0) -> #N/A | D10: =VLOOKUP(A10,'BD-202604'!$A$1:$A$239,1,0) -> #N/A | E10: =VLOOKUP(A10,'BD-202603'!$A$2:$A$214,1,0) -> #N/A | F10: =VLOOKUP(A10,'BD-202602'!$A$2:$A$189,1,0) -> #N/A | G10: =VLOOKUP(A10,'BD-202601'!$A$1:$A$198,1,0) -> #N/A
A11: 4226105426389 | C11: =VLOOKUP(A11,'BD-202605'!$A$1:$A$239,1,0) -> #N/A | D11: =VLOOKUP(A11,'BD-202604'!$A$1:$A$239,1,0) -> #N/A | E11: =VLOOKUP(A11,'BD-202603'!$A$2:$A$214,1,0) -> #N/A | F11: =VLOOKUP(A11,'BD-202602'!$A$2:$A$189,1,0) -> #N/A | G11: =VLOOKUP(A11,'BD-202601'!$A$1:$A$198,1,0) -> #N/A
A12: 4226105441240 | C12: =VLOOKUP(A12,'BD-202605'!$A$1:$A$239,1,0) -> #N/A | D12: =VLOOKUP(A12,'BD-202604'!$A$1:$A$239,1,0) -> #N/A | E12: =VLOOKUP(A12,'BD-202603'!$A$2:$A$214,1,0) -> #N/A | F12: =VLOOKUP(A12,'BD-202602'!$A$2:$A$189,1,0) -> #N/A | G12: =VLOOKUP(A12,'BD-202601'!$A$1:$A$198,1,0) -> #N/A
A13: 4226105444660 | C13: =VLOOKUP(A13,'BD-202605'!$A$1:$A$239,1,0) -> #N/A | D13: =VLOOKUP(A13,'BD-202604'!$A$1:$A$239,1,0) -> #N/A | E13: =VLOOKUP(A13,'BD-202603'!$A$2:$A$214,1,0) -> #N/A | F13: =VLOOKUP(A13,'BD-202602'!$A$2:$A$189,1,0) -> #N/A | G13: =VLOOKUP(A13,'BD-202601'!$A$1:$A$198,1,0) -> #N/A
A14: 4226105453779 | C14: =VLOOKUP(A14,'BD-202605'!$A$1:$A$239,1,0) -> #N/A | D14: =VLOOKUP(A14,'BD-202604'!$A$1:$A$239,1,0) -> #N/A | E14: =VLOOKUP(A14,'BD-202603'!$A$2:$A$214,1,0) -> #N/A | F14: =VLOOKUP(A14,'BD-202602'!$A$2:$A$189,1,0) -> #N/A | G14: =VLOOKUP(A14,'BD-202601'!$A$1:$A$198,1,0) -> #N/A
A15: 4226105462304 | C15: =VLOOKUP(A15,'BD-202605'!$A$1:$A$239,1,0) -> #N/A | D15: =VLOOKUP(A15,'BD-202604'!$A$1:$A$239,1,0) -> #N/A | E15: =VLOOKUP(A15,'BD-202603'!$A$2:$A$214,1,0) -> #N/A | F15: =VLOOKUP(A15,'BD-202602'!$A$2:$A$189,1,0) -> #N/A | G15: =VLOOKUP(A15,'BD-202601'!$A$1:$A$198,1,0) -> #N/A
... A84: 4226105556960 | C84: =VLOOKUP(A84,'BD-202605'!$A$1:$A$239,1,0) -> #N/A | D84: =VLOOKUP(A84,'BD-202604'!$A$1:$A$239,1,0) -> #N/A | E84: =VLOOKUP(A84,'BD-202603'!$A$2:$A$214,1,0) -> #N/A | F84: =VLOOKUP(A84,'BD-202602'!$A$2:$A$189,1,0) -> #N/A | G84: =VLOOKUP(A84,'BD-202601'!$A$1:$A$198,1,0) -> #N/A
C85: =VLOOKUP(A85,'BD-202605'!$A$1:$A$239,1,0) -> #N/A | D85: =VLOOKUP(A85,'BD-202604'!$A$1:$A$239,1,0) -> #N/A | E85: =VLOOKUP(A85,'BD-202603'!$A$2:$A$214,1,0) -> #N/A | F85: =VLOOKUP(A85,'BD-202602'!$A$2:$A$189,1,0) -> #N/A | G85: =VLOOKUP(A85,'BD-202601'!$A$1:$A$198,1,0) -> #N/A
A86: 4226107063618 | C86: =VLOOKUP(A86,'BD-202605'!$A$1:$A$239,1,0) -> #N/A | D86: =VLOOKUP(A86,'BD-202604'!$A$1:$A$239,1,0) -> #N/A | E86: =VLOOKUP(A86,'BD-202603'!$A$2:$A$214,1,0) -> #N/A | F86: =VLOOKUP(A86,'BD-202602'!$A$2:$A$189,1,0) -> #N/A | G86: =VLOOKUP(A86,'BD-202601'!$A$1:$A$198,1,0) -> #N/A
A87: 4226107063629 | C87: =VLOOKUP(A87,'BD-202605'!$A$1:$A$239,1,0) -> #N/A | D87: =VLOOKUP(A87,'BD-202604'!$A$1:$A$239,1,0) -> #N/A | E87: =VLOOKUP(A87,'BD-202603'!$A$2:$A$214,1,0) -> #N/A | F87: =VLOOKUP(A87,'BD-202602'!$A$2:$A$189,1,0) -> #N/A | G87: =VLOOKUP(A87,'BD-202601'!$A$1:$A$198,1,0) -> #N/A
A88: 4226107063630 | C88: =VLOOKUP(A88,'BD-202605'!$A$1:$A$239,1,0) -> #N/A | D88: =VLOOKUP(A88,'BD-202604'!$A$1:$A$239,1,0) -> #N/A | E88: =VLOOKUP(A88,'BD-202603'!$A$2:$A$214,1,0) -> #N/A | F88: =VLOOKUP(A88,'BD-202602'!$A$2:$A$189,1,0) -> #N/A | G88: =VLOOKUP(A88,'BD-202601'!$A$1:$A$198,1,0) -> #N/A
A89: 4226105540030 | C89: =VLOOKUP(A89,'BD-202605'!$A$1:$A$239,1,0) -> #N/A | D89: =VLOOKUP(A89,'BD-202604'!$A$1:$A$239,1,0) -> #N/A | E89: =VLOOKUP(A89,'BD-202603'!$A$2:$A$214,1,0) -> #N/A | F89: =VLOOKUP(A89,'BD-202602'!$A$2:$A$189,1,0) -> #N/A | G89: =VLOOKUP(A89,'BD-202601'!$A$1:$A$198,1,0) -> #N/A
A90: 4226107063662 | C90: =VLOOKUP(A90,'BD-202605'!$A$1:$A$239,1,0) -> #N/A | D90: =VLOOKUP(A90,'BD-202604'!$A$1:$A$239,1,0) -> #N/A | E90: =VLOOKUP(A90,'BD-202603'!$A$2:$A$214,1,0) -> #N/A | F90: =VLOOKUP(A90,'BD-202602'!$A$2:$A$189,1,0) -> #N/A | G90: =VLOOKUP(A90,'BD-202601'!$A$1:$A$198,1,0) -> #N/A
A91: 4226107063684 | C91: =VLOOKUP(A91,'BD-202605'!$A$1:$A$239,1,0) -> #N/A | D91: =VLOOKUP(A91,'BD-202604'!$A$1:$A$239,1,0) -> #N/A | E91: =VLOOKUP(A91,'BD-202603'!$A$2:$A$214,1,0) -> #N/A | F91: =VLOOKUP(A91,'BD-202602'!$A$2:$A$189,1,0) -> #N/A | G91: =VLOOKUP(A91,'BD-202601'!$A$1:$A$198,1,0) -> #N/A
A92: 4226107063695 | C92: =VLOOKUP(A92,'BD-202605'!$A$1:$A$239,1,0) -> #N/A | D92: =VLOOKUP(A92,'BD-202604'!$A$1:$A$239,1,0) -> #N/A | E92: =VLOOKUP(A92,'BD-202603'!$A$2:$A$214,1,0) -> #N/A | F92: =VLOOKUP(A92,'BD-202602'!$A$2:$A$189,1,0) -> #N/A | G92: =VLOOKUP(A92,'BD-202601'!$A$1:$A$198,1,0) -> #N/A
A93: 4226107063706 | C93: =VLOOKUP(A93,'BD-202605'!$A$1:$A$239,1,0) -> #N/A | D93: =VLOOKUP(A93,'BD-202604'!$A$1:$A$239,1,0) -> #N/A | E93: =VLOOKUP(A93,'BD-202603'!$A$2:$A$214,1,0) -> #N/A | F93: =VLOOKUP(A93,'BD-202602'!$A$2:$A$189,1,0) -> #N/A | G93: =VLOOKUP(A93,'BD-202601'!$A$1:$A$198,1,0) -> #N/A
A94: 4226107063717 | C94: =VLOOKUP(A94,'BD-202605'!$A$1:$A$239,1,0) -> #N/A | D94: =VLOOKUP(A94,'BD-202604'!$A$1:$A$239,1,0) -> #N/A | E94: =VLOOKUP(A94,'BD-202603'!$A$2:$A$214,1,0) -> #N/A | F94: =VLOOKUP(A94,'BD-202602'!$A$2:$A$189,1,0) -> #N/A | G94: =VLOOKUP(A94,'BD-202601'!$A$1:$A$198,1,0) -> #N/A
A95: 4226107063794 | C95: =VLOOKUP(A95,'BD-202605'!$A$1:$A$239,1,0) -> #N/A | D95: =VLOOKUP(A95,'BD-202604'!$A$1:$A$239,1,0) -> #N/A | E95: =VLOOKUP(A95,'BD-202603'!$A$2:$A$214,1,0) -> #N/A | F95: =VLOOKUP(A95,'BD-202602'!$A$2:$A$189,1,0) -> #N/A | G95: =VLOOKUP(A95,'BD-202601'!$A$1:$A$198,1,0) -> #N/A
A96: 4226107063805 | C96: =VLOOKUP(A96,'BD-202605'!$A$1:$A$239,1,0) -> #N/A | D96: =VLOOKUP(A96,'BD-202604'!$A$1:$A$239,1,0) -> #N/A | E96: =VLOOKUP(A96,'BD-202603'!$A$2:$A$214,1,0) -> #N/A | F96: =VLOOKUP(A96,'BD-202602'!$A$2:$A$189,1,0) -> #N/A | G96: =VLOOKUP(A96,'BD-202601'!$A$1:$A$198,1,0) -> #N/A
A97: 4226107063640 | C97: =VLOOKUP(A97,'BD-202605'!$A$1:$A$239,1,0) -> #N/A | D97: =VLOOKUP(A97,'BD-202604'!$A$1:$A$239,1,0) -> #N/A | E97: =VLOOKUP(A97,'BD-202603'!$A$2:$A$214,1,0) -> #N/A | F97: =VLOOKUP(A97,'BD-202602'!$A$2:$A$189,1,0) -> #N/A | G97: =VLOOKUP(A97,'BD-202601'!$A$1:$A$198,1,0) -> #N/A
... A105: 4226107063816 | C105: =VLOOKUP(A105,'BD-202605'!$A$1:$A$239,1,0) -> #N/A | D105: =VLOOKUP(A105,'BD-202604'!$A$1:$A$239,1,0) -> #N/A | E105: =VLOOKUP(A105,'BD-202603'!$A$2:$A$214,1,0) -> #N/A | F105: =VLOOKUP(A105,'BD-202602'!$A$2:$A$189,1,0) -> #N/A | G105: =VLOOKUP(A105,'BD-202601'!$A$1:$A$198,1,0) -> #N/A
A106: 4226105501464 | B106: 2758164 | C106: =VLOOKUP(A106,'BD-202605'!$A$1:$A$239,1,0) -> #N/A | D106: =VLOOKUP(A106,'BD-202604'!$A$1:$A$239,1,0) -> #N/A | E106: =VLOOKUP(A106,'BD-202603'!$A$2:$A$214,1,0) -> #N/A | F106: =VLOOKUP(A106,'BD-202602'!$A$2:$A$189,1,0) -> #N/A | G106: =VLOOKUP(A106,'BD-202601'!$A$1:$A$198,1,0) -> #N/A
A107: 4226105513509 | C107: =VLOOKUP(A107,'BD-202605'!$A$1:$A$239,1,0) -> #N/A | D107: =VLOOKUP(A107,'BD-202604'!$A$1:$A$239,1,0) -> #N/A | E107: =VLOOKUP(A107,'BD-202603'!$A$2:$A$214,1,0) -> #N/A | F107: =VLOOKUP(A107,'BD-202602'!$A$2:$A$189,1,0) -> #N/A | G107: =VLOOKUP(A107,'BD-202601'!$A$1:$A$198,1,0) -> #N/A
A108: 4226102982024 | B108: 3039250 | C108: =VLOOKUP(A108,'BD-202605'!$A$1:$A$239,1,0) -> #N/A | D108: =VLOOKUP(A108,'BD-202604'!$A$1:$A$239,1,0) -> #N/A | E108: =VLOOKUP(A108,'BD-202603'!$A$2:$A$214,1,0) -> #N/A | F108: =VLOOKUP(A108,'BD-202602'!$A$2:$A$189,1,0) -> #N/A | G108: =VLOOKUP(A108,'BD-202601'!$A$1:$A$198,1,0) -> #N/A
A109: 4226102983950 | C109: =VLOOKUP(A109,'BD-202605'!$A$1:$A$239,1,0) -> #N/A | D109: =VLOOKUP(A109,'BD-202604'!$A$1:$A$239,1,0) -> #N/A | E109: =VLOOKUP(A109,'BD-202603'!$A$2:$A$214,1,0) -> #N/A | F109: =VLOOKUP(A109,'BD-202602'!$A$2:$A$189,1,0) -> #N/A | G109: =VLOOKUP(A109,'BD-202601'!$A$1:$A$198,1,0) -> #N/A
A110: 4226102983960 | C110: =VLOOKUP(A110,'BD-202605'!$A$1:$A$239,1,0) -> #N/A | D110: =VLOOKUP(A110,'BD-202604'!$A$1:$A$239,1,0) -> #N/A | E110: =VLOOKUP(A110,'BD-202603'!$A$2:$A$214,1,0) -> #N/A | F110: =VLOOKUP(A110,'BD-202602'!$A$2:$A$189,1,0) -> #N/A | G110: =VLOOKUP(A110,'BD-202601'!$A$1:$A$198,1,0) -> #N/A
A111: 4226102983982 | C111: =VLOOKUP(A111,'BD-202605'!$A$1:$A$239,1,0) -> #N/A | D111: =VLOOKUP(A111,'BD-202604'!$A$1:$A$239,1,0) -> #N/A | E111: =VLOOKUP(A111,'BD-202603'!$A$2:$A$214,1,0) -> #N/A | F111: =VLOOKUP(A111,'BD-202602'!$A$2:$A$189,1,0) -> #N/A | G111: =VLOOKUP(A111,'BD-202601'!$A$1:$A$198,1,0) -> #N/A
A112: 4226102994498 | C112: =VLOOKUP(A112,'BD-202605'!$A$1:$A$239,1,0) -> #N/A | D112: =VLOOKUP(A112,'BD-202604'!$A$1:$A$239,1,0) -> #N/A | E112: =VLOOKUP(A112,'BD-202603'!$A$2:$A$214,1,0) -> #N/A | F112: =VLOOKUP(A112,'BD-202602'!$A$2:$A$189,1,0) -> #N/A | G112: =VLOOKUP(A112,'BD-202601'!$A$1:$A$198,1,0) -> #N/A
A113: 4226102994510 | C113: =VLOOKUP(A113,'BD-202605'!$A$1:$A$239,1,0) -> #N/A | D113: =VLOOKUP(A113,'BD-202604'!$A$1:$A$239,1,0) -> #N/A | E113: =VLOOKUP(A113,'BD-202603'!$A$2:$A$214,1,0) -> #N/A | F113: =VLOOKUP(A113,'BD-202602'!$A$2:$A$189,1,0) -> #N/A | G113: =VLOOKUP(A113,'BD-202601'!$A$1:$A$198,1,0) -> #N/A
A114: 4226102994520 | C114: =VLOOKUP(A114,'BD-202605'!$A$1:$A$239,1,0) -> #N/A | D114: =VLOOKUP(A114,'BD-202604'!$A$1:$A$239,1,0) -> #N/A | E114: =VLOOKUP(A114,'BD-202603'!$A$2:$A$214,1,0) -> #N/A | F114: =VLOOKUP(A114,'BD-202602'!$A$2:$A$189,1,0) -> #N/A | G114: =VLOOKUP(A114,'BD-202601'!$A$1:$A$198,1,0) -> #N/A
A115: 4226102994531 | C115: =VLOOKUP(A115,'BD-202605'!$A$1:$A$239,1,0) -> #N/A | D115: =VLOOKUP(A115,'BD-202604'!$A$1:$A$239,1,0) -> #N/A | E115: =VLOOKUP(A115,'BD-202603'!$A$2:$A$214,1,0) -> #N/A | F115: =VLOOKUP(A115,'BD-202602'!$A$2:$A$189,1,0) -> #N/A | G115: =VLOOKUP(A115,'BD-202601'!$A$1:$A$198,1,0) -> #N/A
A116: 4226102983938 | C116: =VLOOKUP(A116,'BD-202605'!$A$1:$A$239,1,0) -> #N/A | D116: =VLOOKUP(A116,'BD-202604'!$A$1:$A$239,1,0) -> #N/A | E116: =VLOOKUP(A116,'BD-202603'!$A$2:$A$214,1,0) -> #N/A | F116: =VLOOKUP(A116,'BD-202602'!$A$2:$A$189,1,0) -> #N/A | G116: =VLOOKUP(A116,'BD-202601'!$A$1:$A$198,1,0) -> #N/A
A117: 4226102994575 | C117: =VLOOKUP(A117,'BD-202605'!$A$1:$A$239,1,0) -> #N/A | D117: =VLOOKUP(A117,'BD-202604'!$A$1:$A$239,1,0) -> #N/A | E117: =VLOOKUP(A117,'BD-202603'!$A$2:$A$214,1,0) -> #N/A | F117: =VLOOKUP(A117,'BD-202602'!$A$2:$A$189,1,0) -> #N/A | G117: =VLOOKUP(A117,'BD-202601'!$A$1:$A$198,1,0) -> #N/A
A118: 4226102994586 | C118: =VLOOKUP(A118,'BD-202605'!$A$1:$A$239,1,0) -> #N/A | D118: =VLOOKUP(A118,'BD-202604'!$A$1:$A$239,1,0) -> #N/A | E118: =VLOOKUP(A118,'BD-202603'!$A$2:$A$214,1,0) -> #N/A | F118: =VLOOKUP(A118,'BD-202602'!$A$2:$A$189,1,0) -> #N/A | G118: =VLOOKUP(A118,'BD-202601'!$A$1:$A$198,1,0) -> #N/A
A119: 4226102994597 | C119: =VLOOKUP(A119,'BD-202605'!$A$1:$A$239,1,0) -> #N/A | D119: =VLOOKUP(A119,'BD-202604'!$A$1:$A$239,1,0) -> #N/A | E119: =VLOOKUP(A119,'BD-202603'!$A$2:$A$214,1,0) -> #N/A | F119: =VLOOKUP(A119,'BD-202602'!$A$2:$A$189,1,0) -> #N/A | G119: =VLOOKUP(A119,'BD-202601'!$A$1:$A$198,1,0) -> #N/A
A120: 4226102994608 | C120: =VLOOKUP(A120,'BD-202605'!$A$1:$A$239,1,0) -> #N/A | D120: =VLOOKUP(A120,'BD-202604'!$A$1:$A$239,1,0) -> #N/A | E120: =VLOOKUP(A120,'BD-202603'!$A$2:$A$214,1,0) -> #N/A | F120: =VLOOKUP(A120,'BD-202602'!$A$2:$A$189,1,0) -> #N/A | G120: =VLOOKUP(A120,'BD-202601'!$A$1:$A$198,1,0) -> #N/A
... A189: 4226103019347 | C189: =VLOOKUP(A189,'BD-202605'!$A$1:$A$239,1,0) -> #N/A | D189: =VLOOKUP(A189,'BD-202604'!$A$1:$A$239,1,0) -> #N/A | E189: =VLOOKUP(A189,'BD-202603'!$A$2:$A$214,1,0) -> #N/A | F189: =VLOOKUP(A189,'BD-202602'!$A$2:$A$189,1,0) -> #N/A | G189: =VLOOKUP(A189,'BD-202601'!$A$1:$A$198,1,0) -> #N/A
A190: 4226103656490 | B190: 6048692 | C190: =VLOOKUP(A190,'BD-202605'!$A$1:$A$239,1,0) -> #N/A | D190: =VLOOKUP(A190,'BD-202604'!$A$1:$A$239,1,0) -> #N/A | E190: =VLOOKUP(A190,'BD-202603'!$A$2:$A$214,1,0) -> #N/A | F190: =VLOOKUP(A190,'BD-202602'!$A$2:$A$189,1,0) -> #N/A | G190: =VLOOKUP(A190,'BD-202601'!$A$1:$A$198,1,0) -> #N/A
A191: 4226103661252 | C191: =VLOOKUP(A191,'BD-202605'!$A$1:$A$239,1,0) -> #N/A | D191: =VLOOKUP(A191,'BD-202604'!$A$1:$A$239,1,0) -> #N/A | E191: =VLOOKUP(A191,'BD-202603'!$A$2:$A$214,1,0) -> #N/A | F191: =VLOOKUP(A191,'BD-202602'!$A$2:$A$189,1,0) -> #N/A | G191: =VLOOKUP(A191,'BD-202601'!$A$1:$A$198,1,0) -> #N/A
A192: 4226103664850 | C192: =VLOOKUP(A192,'BD-202605'!$A$1:$A$239,1,0) -> #N/A | D192: =VLOOKUP(A192,'BD-202604'!$A$1:$A$239,1,0) -> #N/A | E192: =VLOOKUP(A192,'BD-202603'!$A$2:$A$214,1,0) -> #N/A | F192: =VLOOKUP(A192,'BD-202602'!$A$2:$A$189,1,0) -> #N/A | G192: =VLOOKUP(A192,'BD-202601'!$A$1:$A$198,1,0) -> #N/A
A193: 4226103664860 | C193: =VLOOKUP(A193,'BD-202605'!$A$1:$A$239,1,0) -> #N/A | D193: =VLOOKUP(A193,'BD-202604'!$A$1:$A$239,1,0) -> #N/A | E193: =VLOOKUP(A193,'BD-202603'!$A$2:$A$214,1,0) -> #N/A | F193: =VLOOKUP(A193,'BD-202602'!$A$2:$A$189,1,0) -> #N/A | G193: =VLOOKUP(A193,'BD-202601'!$A$1:$A$198,1,0) -> #N/A
A194: 4226103666114 | C194: =VLOOKUP(A194,'BD-202605'!$A$1:$A$239,1,0) -> #N/A | D194: =VLOOKUP(A194,'BD-202604'!$A$1:$A$239,1,0) -> #N/A | E194: =VLOOKUP(A194,'BD-202603'!$A$2:$A$214,1,0) -> #N/A | F194: =VLOOKUP(A194,'BD-202602'!$A$2:$A$189,1,0) -> #N/A | G194: =VLOOKUP(A194,'BD-202601'!$A$1:$A$198,1,0) -> #N/A
A195: 4226103674430 | C195: =VLOOKUP(A195,'BD-202605'!$A$1:$A$239,1,0) -> #N/A | D195: =VLOOKUP(A195,'BD-202604'!$A$1:$A$239,1,0) -> #N/A | E195: =VLOOKUP(A195,'BD-202603'!$A$2:$A$214,1,0) -> #N/A | F195: =VLOOKUP(A195,'BD-202602'!$A$2:$A$189,1,0) -> #N/A | G195: =VLOOKUP(A195,'BD-202601'!$A$1:$A$198,1,0) -> #N/A
A196: 4226103674441 | C196: =VLOOKUP(A196,'BD-202605'!$A$1:$A$239,1,0) -> #N/A | D196: =VLOOKUP(A196,'BD-202604'!$A$1:$A$239,1,0) -> #N/A | E196: =VLOOKUP(A196,'BD-202603'!$A$2:$A$214,1,0) -> #N/A | F196: =VLOOKUP(A196,'BD-202602'!$A$2:$A$189,1,0) -> #N/A | G196: =VLOOKUP(A196,'BD-202601'!$A$1:$A$198,1,0) -> #N/A
A197: 4226103676817 | C197: =VLOOKUP(A197,'BD-202605'!$A$1:$A$239,1,0) -> #N/A | D197: =VLOOKUP(A197,'BD-202604'!$A$1:$A$239,1,0) -> #N/A | E197: =VLOOKUP(A197,'BD-202603'!$A$2:$A$214,1,0) -> #N/A | F197: =VLOOKUP(A197,'BD-202602'!$A$2:$A$189,1,0) -> #N/A | G197: =VLOOKUP(A197,'BD-202601'!$A$1:$A$198,1,0) -> #N/A
A198: 4226103680690 | C198: =VLOOKUP(A198,'BD-202605'!$A$1:$A$239,1,0) -> #N/A | D198: =VLOOKUP(A198,'BD-202604'!$A$1:$A$239,1,0) -> #N/A | E198: =VLOOKUP(A198,'BD-202603'!$A$2:$A$214,1,0) -> #N/A | F198: =VLOOKUP(A198,'BD-202602'!$A$2:$A$189,1,0) -> #N/A | G198: =VLOOKUP(A198,'BD-202601'!$A$1:$A$198,1,0) -> #N/A
A199: 4226103682647 | C199: =VLOOKUP(A199,'BD-202605'!$A$1:$A$239,1,0) -> #N/A | D199: =VLOOKUP(A199,'BD-202604'!$A$1:$A$239,1,0) -> #N/A | E199: =VLOOKUP(A199,'BD-202603'!$A$2:$A$214,1,0) -> #N/A | F199: =VLOOKUP(A199,'BD-202602'!$A$2:$A$189,1,0) -> #N/A | G199: =VLOOKUP(A199,'BD-202601'!$A$1:$A$198,1,0) -> #N/A
A200: 4226103691700 | C200: =VLOOKUP(A200,'BD-202605'!$A$1:$A$239,1,0) -> #N/A | D200: =VLOOKUP(A200,'BD-202604'!$A$1:$A$239,1,0) -> #N/A | E200: =VLOOKUP(A200,'BD-202603'!$A$2:$A$214,1,0) -> #N/A | F200: =VLOOKUP(A200,'BD-202602'!$A$2:$A$189,1,0) -> #N/A | G200: =VLOOKUP(A200,'BD-202601'!$A$1:$A$198,1,0) -> #N/A
A201: 4226103693779 | C201: =VLOOKUP(A201,'BD-202605'!$A$1:$A$239,1,0) -> #N/A | D201: =VLOOKUP(A201,'BD-202604'!$A$1:$A$239,1,0) -> #N/A | E201: =VLOOKUP(A201,'BD-202603'!$A$2:$A$214,1,0) -> #N/A | F201: =VLOOKUP(A201,'BD-202602'!$A$2:$A$189,1,0) -> #N/A | G201: =VLOOKUP(A201,'BD-202601'!$A$1:$A$198,1,0) -> #N/A
A202: 4226103666862 | C202: =VLOOKUP(A202,'BD-202605'!$A$1:$A$239,1,0) -> #N/A | D202: =VLOOKUP(A202,'BD-202604'!$A$1:$A$239,1,0) -> #N/A | E202: =VLOOKUP(A202,'BD-202603'!$A$2:$A$214,1,0) -> #N/A | F202: =VLOOKUP(A202,'BD-202602'!$A$2:$A$189,1,0) -> #N/A | G202: =VLOOKUP(A202,'BD-202601'!$A$1:$A$198,1,0) -> #N/A
A203: 4226104458785 | B203: 9543856 | C203: =VLOOKUP(A203,'BD-202605'!$A$1:$A$239,1,0) -> #N/A | D203: =VLOOKUP(A203,'BD-202604'!$A$1:$A$239,1,0) -> #N/A | E203: =VLOOKUP(A203,'BD-202603'!$A$2:$A$214,1,0) -> #N/A | F203: =VLOOKUP(A203,'BD-202602'!$A$2:$A$189,1,0) -> #N/A | G203: =VLOOKUP(A203,'BD-202601'!$A$1:$A$198,1,0) -> #N/A
A204: 4226107064542 | C204: =VLOOKUP(A204,'BD-202605'!$A$1:$A$239,1,0) -> #N/A | D204: =VLOOKUP(A204,'BD-202604'!$A$1:$A$239,1,0) -> #N/A | E204: =VLOOKUP(A204,'BD-202603'!$A$2:$A$214,1,0) -> #N/A | F204: =VLOOKUP(A204,'BD-202602'!$A$2:$A$189,1,0) -> #N/A | G204: =VLOOKUP(A204,'BD-202601'!$A$1:$A$198,1,0) -> #N/A
A205: 4226104725953 | B205: 2537788 | C205: =VLOOKUP(A205,'BD-202605'!$A$1:$A$239,1,0) -> #N/A | D205: =VLOOKUP(A205,'BD-202604'!$A$1:$A$239,1,0) -> #N/A | E205: =VLOOKUP(A205,'BD-202603'!$A$2:$A$214,1,0) -> #N/A | F205: =VLOOKUP(A205,'BD-202602'!$A$2:$A$189,1,0) -> #N/A | G205: =VLOOKUP(A205,'BD-202601'!$A$1:$A$198,1,0) -> #N/A
A206: 4226104732817 | C206: =VLOOKUP(A206,'BD-202605'!$A$1:$A$239,1,0) -> #N/A | D206: =VLOOKUP(A206,'BD-202604'!$A$1:$A$239,1,0) -> #N/A | E206: =VLOOKUP(A206,'BD-202603'!$A$2:$A$214,1,0) -> #N/A | F206: =VLOOKUP(A206,'BD-202602'!$A$2:$A$189,1,0) -> #N/A | G206: =VLOOKUP(A206,'BD-202601'!$A$1:$A$198,1,0) -> #N/A
A207: 4226104746402 | C207: =VLOOKUP(A207,'BD-202605'!$A$1:$A$239,1,0) -> #N/A | D207: =VLOOKUP(A207,'BD-202604'!$A$1:$A$239,1,0) -> #N/A | E207: =VLOOKUP(A207,'BD-202603'!$A$2:$A$214,1,0) -> #N/A | F207: =VLOOKUP(A207,'BD-202602'!$A$2:$A$189,1,0) -> #N/A | G207: =VLOOKUP(A207,'BD-202601'!$A$1:$A$198,1,0) -> #N/A
A208: 4226104766697 | C208: =VLOOKUP(A208,'BD-202605'!$A$1:$A$239,1,0) -> #N/A | D208: =VLOOKUP(A208,'BD-202604'!$A$1:$A$239,1,0) -> #N/A | E208: =VLOOKUP(A208,'BD-202603'!$A$2:$A$214,1,0) -> #N/A | F208: =VLOOKUP(A208,'BD-202602'!$A$2:$A$189,1,0) -> #N/A | G208: =VLOOKUP(A208,'BD-202601'!$A$1:$A$198,1,0) -> #N/A
A209: 4226104767929 | C209: =VLOOKUP(A209,'BD-202605'!$A$1:$A$239,1,0) -> #N/A | D209: =VLOOKUP(A209,'BD-202604'!$A$1:$A$239,1,0) -> #N/A | E209: =VLOOKUP(A209,'BD-202603'!$A$2:$A$214,1,0) -> #N/A | F209: =VLOOKUP(A209,'BD-202602'!$A$2:$A$189,1,0) -> #N/A | G209: =VLOOKUP(A209,'BD-202601'!$A$1:$A$198,1,0) -> #N/A
A210: 4226104769030 | C210: =VLOOKUP(A210,'BD-202605'!$A$1:$A$239,1,0) -> #N/A | D210: =VLOOKUP(A210,'BD-202604'!$A$1:$A$239,1,0) -> #N/A | E210: =VLOOKUP(A210,'BD-202603'!$A$2:$A$214,1,0) -> #N/A | F210: =VLOOKUP(A210,'BD-202602'!$A$2:$A$189,1,0) -> #N/A | G210: =VLOOKUP(A210,'BD-202601'!$A$1:$A$198,1,0) -> #N/A
A211: 4226104773110 | C211: =VLOOKUP(A211,'BD-202605'!$A$1:$A$239,1,0) -> #N/A | D211: =VLOOKUP(A211,'BD-202604'!$A$1:$A$239,1,0) -> #N/A | E211: =VLOOKUP(A211,'BD-202603'!$A$2:$A$214,1,0) -> #N/A | F211: =VLOOKUP(A211,'BD-202602'!$A$2:$A$189,1,0) -> #N/A | G211: =VLOOKUP(A211,'BD-202601'!$A$1:$A$198,1,0) -> #N/A
A212: 4226104774111 | C212: =VLOOKUP(A212,'BD-202605'!$A$1:$A$239,1,0) -> #N/A | D212: =VLOOKUP(A212,'BD-202604'!$A$1:$A$239,1,0) -> #N/A | E212: =VLOOKUP(A212,'BD-202603'!$A$2:$A$214,1,0) -> #N/A | F212: =VLOOKUP(A212,'BD-202602'!$A$2:$A$189,1,0) -> #N/A | G212: =VLOOKUP(A212,'BD-202601'!$A$1:$A$198,1,0) -> #N/A
A213: 4226104779468 | C213: =VLOOKUP(A213,'BD-202605'!$A$1:$A$239,1,0) -> #N/A | D213: =VLOOKUP(A213,'BD-202604'!$A$1:$A$239,1,0) -> #N/A | E213: =VLOOKUP(A213,'BD-202603'!$A$2:$A$214,1,0) -> #N/A | F213: =VLOOKUP(A213,'BD-202602'!$A$2:$A$189,1,0) -> #N/A | G213: =VLOOKUP(A213,'BD-202601'!$A$1:$A$198,1,0) -> #N/A
A214: 4226104780326 | C214: =VLOOKUP(A214,'BD-202605'!$A$1:$A$239,1,0) -> #N/A | D214: =VLOOKUP(A214,'BD-202604'!$A$1:$A$239,1,0) -> #N/A | E214: =VLOOKUP(A214,'BD-202603'!$A$2:$A$214,1,0) -> #N/A | F214: =VLOOKUP(A214,'BD-202602'!$A$2:$A$189,1,0) -> #N/A | G214: =VLOOKUP(A214,'BD-202601'!$A$1:$A$198,1,0) -> #N/A
A215: 4226104783670 | C215: =VLOOKUP(A215,'BD-202605'!$A$1:$A$239,1,0) -> #N/A | D215: =VLOOKUP(A215,'BD-202604'!$A$1:$A$239,1,0) -> #N/A | E215: =VLOOKUP(A215,'BD-202603'!$A$2:$A$214,1,0) -> #N/A | F215: =VLOOKUP(A215,'BD-202602'!$A$2:$A$189,1,0) -> #N/A | G215: =VLOOKUP(A215,'BD-202601'!$A$1:$A$198,1,0) -> #N/A
A216: 4226104786530 | C216: =VLOOKUP(A216,'BD-202605'!$A$1:$A$239,1,0) -> #N/A | D216: =VLOOKUP(A216,'BD-202604'!$A$1:$A$239,1,0) -> #N/A | E216: =VLOOKUP(A216,'BD-202603'!$A$2:$A$214,1,0) -> #N/A | F216: =VLOOKUP(A216,'BD-202602'!$A$2:$A$189,1,0) -> #N/A | G216: =VLOOKUP(A216,'BD-202601'!$A$1:$A$198,1,0) -> #N/A
A217: 4226104792140 | C217: =VLOOKUP(A217,'BD-202605'!$A$1:$A$239,1,0) -> #N/A | D217: =VLOOKUP(A217,'BD-202604'!$A$1:$A$239,1,0) -> #N/A | E217: =VLOOKUP(A217,'BD-202603'!$A$2:$A$214,1,0) -> #N/A | F217: =VLOOKUP(A217,'BD-202602'!$A$2:$A$189,1,0) -> #N/A | G217: =VLOOKUP(A217,'BD-202601'!$A$1:$A$198,1,0) -> #N/A
... A265: 4226107057953 | C265: =VLOOKUP(A265,'BD-202605'!$A$1:$A$239,1,0) -> #N/A | D265: =VLOOKUP(A265,'BD-202604'!$A$1:$A$239,1,0) -> #N/A | E265: =VLOOKUP(A265,'BD-202603'!$A$2:$A$214,1,0) -> #N/A | F265: =VLOOKUP(A265,'BD-202602'!$A$2:$A$189,1,0) -> #N/A | G265: =VLOOKUP(A265,'BD-202601'!$A$1:$A$198,1,0) -> #N/A
C266: =VLOOKUP(A266,'BD-202605'!$A$1:$A$239,1,0) -> #N/A | D266: =VLOOKUP(A266,'BD-202604'!$A$1:$A$239,1,0) -> #N/A | E266: =VLOOKUP(A266,'BD-202603'!$A$2:$A$214,1,0) -> #N/A | F266: =VLOOKUP(A266,'BD-202602'!$A$2:$A$189,1,0) -> #N/A | G266: =VLOOKUP(A266,'BD-202601'!$A$1:$A$198,1,0) -> #N/A
C267: =VLOOKUP(A267,'BD-202605'!$A$1:$A$239,1,0) -> #N/A | D267: =VLOOKUP(A267,'BD-202604'!$A$1:$A$239,1,0) -> #N/A | E267: =VLOOKUP(A267,'BD-202603'!$A$2:$A$214,1,0) -> #N/A | F267: =VLOOKUP(A267,'BD-202602'!$A$2:$A$189,1,0) -> #N/A | G267: =VLOOKUP(A267,'BD-202601'!$A$1:$A$198,1,0) -> #N/A

Sheet BD-202606
A1: N_AIH,C,13 | B1: VAL_TOT,N,14,2 | C1: PROC_REA,C,10 | D1: CAR_INT,C,2 | E1: CNES,C,7 | M1: Hospital SC (CNES) | N1: Freq | O1: Valor AIH | P1: Prêmio Eletivas | Q1: Total
A2: 4226102982024 | B2: 6153 | C2: 407010386 | D2: ELETIVO | E2: 3039250 | F2: =IFERROR(VLOOKUP(C2,premios!$A$1:$B$100,2,0),0) -> 3072.5
A3: 4226102983950 | B3: 6360.2 | C3: 407010386 | D3: ELETIVO | E3: 3039250 | F3: =IFERROR(VLOOKUP(C3,premios!$A$1:$B$100,2,0),0) -> 3072.5
A4: 4226102983960 | B4: 6197.08 | C4: 407010386 | D4: ELETIVO | E4: 3039250 | F4: =IFERROR(VLOOKUP(C4,premios!$A$1:$B$100,2,0),0) -> 3072.5
A5: 4226102983982 | B5: 6368.2 | C5: 407010386 | D5: ELETIVO | E5: 3039250 | F5: =IFERROR(VLOOKUP(C5,premios!$A$1:$B$100,2,0),0) -> 3072.5
A6: 4226102994498 | B6: 6357.18 | C6: 407010386 | D6: ELETIVO | E6: 3039250 | F6: =IFERROR(VLOOKUP(C6,premios!$A$1:$B$100,2,0),0) -> 3072.5
A7: 4226102994510 | B7: 6330.16 | C7: 407010386 | D7: ELETIVO | E7: 3039250 | F7: =IFERROR(VLOOKUP(C7,premios!$A$1:$B$100,2,0),0) -> 3072.5
A8: 4226102994520 | B8: 6194.06 | C8: 407010386 | D8: ELETIVO | E8: 3039250 | F8: =IFERROR(VLOOKUP(C8,premios!$A$1:$B$100,2,0),0) -> 3072.5
A9: 4226102994531 | B9: 6335.14 | C9: 407010386 | D9: ELETIVO | E9: 3039250 | F9: =IFERROR(VLOOKUP(C9,premios!$A$1:$B$100,2,0),0) -> 3072.5
A10: 4226102983938 | B10: 6346.16 | C10: 407010386 | D10: ELETIVO | E10: 3039250 | F10: =IFERROR(VLOOKUP(C10,premios!$A$1:$B$100,2,0),0) -> 3072.5
A11: 4226102994575 | B11: 6183.04 | C11: 407010386 | D11: ELETIVO | E11: 3039250 | F11: =IFERROR(VLOOKUP(C11,premios!$A$1:$B$100,2,0),0) -> 3072.5
A12: 4226102994586 | B12: 6346.16 | C12: 407010386 | D12: ELETIVO | E12: 3039250 | F12: =IFERROR(VLOOKUP(C12,premios!$A$1:$B$100,2,0),0) -> 3072.5
A13: 4226102994597 | B13: 6164.02 | C13: 407010386 | D13: ELETIVO | E13: 3039250 | F13: =IFERROR(VLOOKUP(C13,premios!$A$1:$B$100,2,0),0) -> 3072.5
... A56: 4226103009381 | B56: 6153 | C56: 407010386 | D56: ELETIVO | E56: 3039250 | F56: =IFERROR(VLOOKUP(C56,premios!$A$1:$B$100,2,0),0) -> 3072.5
A57: 4226103011746 | B57: 12051.04 | C57: 415010012 | D57: URGENCIA | E57: 3039250
A58: 4226103016564 | B58: 6183.04 | C58: 407010386 | D58: ELETIVO | E58: 3039250 | F58: =IFERROR(VLOOKUP(C58,premios!$A$1:$B$100,2,0),0) -> 3072.5
A59: 4226103009315 | B59: 6153 | C59: 407010386 | D59: ELETIVO | E59: 3039250 | F59: =IFERROR(VLOOKUP(C59,premios!$A$1:$B$100,2,0),0) -> 3072.5
A60: 4226103016586 | B60: 6205.08 | C60: 407010386 | D60: ELETIVO | E60: 3039250 | F60: =IFERROR(VLOOKUP(C60,premios!$A$1:$B$100,2,0),0) -> 3072.5
A61: 4226103016597 | B61: 6379.22 | C61: 407010386 | D61: ELETIVO | E61: 3039250 | F61: =IFERROR(VLOOKUP(C61,premios!$A$1:$B$100,2,0),0) -> 3072.5
A62: 4226103019215 | B62: 6346.16 | C62: 407010386 | D62: ELETIVO | E62: 3039250 | F62: =IFERROR(VLOOKUP(C62,premios!$A$1:$B$100,2,0),0) -> 3072.5
A63: 4226103019226 | B63: 6183.04 | C63: 407010386 | D63: ELETIVO | E63: 3039250 | F63: =IFERROR(VLOOKUP(C63,premios!$A$1:$B$100,2,0),0) -> 3072.5
A64: 4226103019237 | B64: 6335.14 | C64: 407010386 | D64: ELETIVO | E64: 3039250 | F64: =IFERROR(VLOOKUP(C64,premios!$A$1:$B$100,2,0),0) -> 3072.5
A65: 4226103019248 | B65: 6178.06 | C65: 407010386 | D65: ELETIVO | E65: 3039250 | F65: =IFERROR(VLOOKUP(C65,premios!$A$1:$B$100,2,0),0) -> 3072.5
A66: 4226103019259 | B66: 6324.12 | C66: 407010386 | D66: ELETIVO | E66: 3039250 | F66: =IFERROR(VLOOKUP(C66,premios!$A$1:$B$100,2,0),0) -> 3072.5
A67: 4226103016575 | B67: 6330.16 | C67: 407010386 | D67: ELETIVO | E67: 3039250 | F67: =IFERROR(VLOOKUP(C67,premios!$A$1:$B$100,2,0),0) -> 3072.5
A68: 4226103019270 | B68: 6322.47 | C68: 407010386 | D68: ELETIVO | E68: 3039250 | F68: =IFERROR(VLOOKUP(C68,premios!$A$1:$B$100,2,0),0) -> 3072.5
A69: 4226103019281 | B69: 6153 | C69: 407010386 | D69: ELETIVO | E69: 3039250 | F69: =IFERROR(VLOOKUP(C69,premios!$A$1:$B$100,2,0),0) -> 3072.5
... A83: 4226103019347 | B83: 6316.12 | C83: 407010386 | D83: ELETIVO | E83: 3039250 | F83: =IFERROR(VLOOKUP(C83,premios!$A$1:$B$100,2,0),0) -> 3072.5
B84: =SUM(B2:B83) -> 519822.41 | F84: =SUM(F2:F83) -> 248872.5
